PDS_VERSION_ID = PDS3
/* FILE DATA ELEMENTS */
RECORD_TYPE = STREAM
/* POINTERS TO DATA OBJECTS */
^COMPRESSED_FILE = "H1269_0008_SR3.JP2"
/* IDENTIFICATION DATA ELEMENTS */
DATA_SET_ID = "MEX-M-HRSC-5-REFDR-MAPPROJECTED-V3.0"
DATA_SET_NAME = "MARS EXPRESS HRSC MAP PROJECTED REFDR V3.0"
DETECTOR_ID = MEX_HRSC_SRC
EVENT_TYPE = "MARS-LOCAL-MAPPING-Im-Pf-Eo"
INSTRUMENT_HOST_ID = MEX
INSTRUMENT_HOST_NAME = "MARS EXPRESS"
INSTRUMENT_ID = HRSC
INSTRUMENT_NAME = "HIGH RESOLUTION STEREO CAMERA"
MISSION_NAME = "MARS EXPRESS"
MISSION_PHASE_NAME = MR_Phase_4
PROCESSING_LEVEL_ID = 3
PRODUCT_CREATION_TIME = 2016-03-04T20:31:26.000Z
PRODUCT_ID = "H1269_0008_SR3.JP2"
RELEASE_ID = 0017
REVISION_ID = 0000
/* QUALITY DATA ELEMENTS */
DATA_QUALITY_ID = 1
DATA_QUALITY_DESC = "Data calculated based on original SPICE kernels"
/* TIME DATA ELEMENTS */
SPACECRAFT_CLOCK_START_COUNT = "1/0053660084.57925"
SPACECRAFT_CLOCK_STOP_COUNT = "1/0053660422.15727"
IMAGE_TIME = 2005-01-13T01:38:49.945Z
START_TIME = 2005-01-13T01:38:49.942Z
STOP_TIME = 2005-01-13T01:38:49.947Z
/* ORBITAL DATA ELEMENTS */
ASCENDING_NODE_LONGITUDE = 201.98
MAXIMUM_RESOLUTION = 3.907
FOOTPRINT_POINT_LATITUDE = (64.9694,64.9719,64.9737,64.9755, 64.9782,64.9816,64.9834,64.9861,64.9882 ,64.9908,64.9933,64.9972,65.0008, 65.0043,65.0067,65.0098,65.0129,65.0152 ,65.0177,65.0203,65.022,65.0242,65.0272 ,65.0304,65.0337,65.034,65.0344,65.0347 ,65.035,65.0354,65.0357,65.0361,65.0365 ,65.0368,65.0372,65.0375,65.0379, 65.0382,65.0386,65.0389,65.0392,65.0396 ,65.0399,65.0402,65.0406,65.0409, 65.0413,65.0416,65.0419,65.0423,65.0403 ,65.0382,65.0365,65.0336,65.0304,65.028 ,65.0248,65.0223,65.0203,65.0178, 65.0147,65.0116,65.0093,65.0058,65.0038 ,65.0008,64.9967,64.9949,64.9909, 64.9866,64.9836,64.9814,64.9788,64.976, 64.9756,64.9753,64.9749,64.9746,64.9743 ,64.9739,64.9736,64.9732,64.9729, 64.9726,64.9722,64.9719,64.9715,64.9712 ,64.9709,64.9705,64.9702,64.9698, 64.9695,64.9691,64.9687,64.9684,64.968, 64.9677,64.9674,64.9694)
FOOTPRINT_POINT_LONGITUDE = (177.797,177.796,177.796,177.795, 177.794,177.793,177.793,177.792,177.791 ,177.791,177.79,177.789,177.788,177.786 ,177.786,177.785,177.784,177.783, 177.782,177.781,177.781,177.78,177.779, 177.778,177.78,177.786,177.793,177.799, 177.805,177.811,177.818,177.824,177.832 ,177.838,177.844,177.85,177.857,177.863 ,177.869,177.875,177.882,177.888, 177.894,177.9,177.906,177.913,177.919, 177.925,177.931,177.938,177.939,177.94, 177.94,177.941,177.942,177.941,177.941, 177.942,177.943,177.944,177.945,177.945 ,177.946,177.947,177.948,177.949,177.95 ,177.951,177.952,177.953,177.954, 177.955,177.955,177.956,177.95,177.944, 177.937,177.931,177.925,177.919,177.912 ,177.906,177.9,177.894,177.887,177.881, 177.875,177.869,177.862,177.856,177.85, 177.844,177.837,177.831,177.824,177.818 ,177.811,177.805,177.799,177.797)
ORBIT_NUMBER = 1269
ORBITAL_ECCENTRICITY = 0.569
ORBITAL_INCLINATION = 86.62
ORBITAL_SEMIMAJOR_AXIS = 8577.82
PERIAPSIS_ALTITUDE = 307.19
PERIAPSIS_ARGUMENT_ANGLE = 137.64
PERIAPSIS_TIME = 2005-01-13T01:44:43.000Z
SPACECRAFT_ORIENTATION = (0.0,-1.0,0.0)
^MEX_ORIENTATION_DESC = "MEX_ORIENTATION_DESC.TXT"
SPACECRAFT_POINTING_MODE = ACROSSTRACK
^MEX_POINTING_DESC = "MEX_POINTING_DESC.TXT"
RIGHT_ASCENSION = -1e+32
DECLINATION = -1e+32
OFFSET_ANGLE = -0.38
SPACECRAFT_SOLAR_DISTANCE = 2.32537e+08
TARGET_NAME = MARS
/* CAMERA DATA ELEMENTS */
BUFFER_MODE_ID = BUFFER_8
EXPOSURE_DURATION = 5.04
INST_CMPRS_NAME = NONE
INST_CMPRS_RATIO = 1.0
INST_CMPRS_QUALITY = -2147483648
INST_CMPRS_QUANTZ_TBL_ID = -2147483648
INSTRUMENT_TEMPERATURE = 11.2121
MISSING_FRAMES = 0
START_BIT = 0
/* RADIOMETRIC DATA ELEMENTS */
BANDWIDTH = 250.0
CENTER_FILTER_WAVELENGTH = 600.0
RADIANCE_OFFSET = -9.99e+31
RADIANCE_SCALING_FACTOR = -9.99e+31
REFLECTANCE_SCALING_FACTOR = -9.99e+31
MEX:REFLECTANCE_OFFSET = -9.99e+31
/* IMAGE OBJECT DEFINITIONS */
OBJECT = IMAGE
  INTERCHANGE_FORMAT = BINARY
  LINES = 963
  LINE_SAMPLES = 970
  SAMPLE_TYPE = UNSIGNED_INTEGER
  SAMPLE_BITS = 8
  BANDS = 1
  BAND_STORAGE_TYPE = BAND_SEQUENTIAL
  MAXIMUM = 5268
  MEAN = 4443.18
  MINIMUM = 3750
  STANDARD_DEVIATION = 77.9297
END_OBJECT = IMAGE
/* MAP OBJECT DEFINITIONS */
OBJECT = IMAGE_MAP_PROJECTION
  ^DATA_SET_MAP_PROJECTION_CATALOG= "DSMAP.CAT"
  A_AXIS_RADIUS = 3396.19
  B_AXIS_RADIUS = 3396.19
  C_AXIS_RADIUS = 3396.19
  CENTER_LATITUDE = 0.0
  CENTER_LONGITUDE = 178.0
  COORDINATE_SYSTEM_NAME = PLANETOGRAPHIC
  COORDINATE_SYSTEM_TYPE = "BODY-FIXED ROTATING"
  EASTERNMOST_LONGITUDE = 177.956
  FIRST_STANDARD_PARALLEL = "N/A"
  LINE_FIRST_PIXEL = 1
  LINE_LAST_PIXEL = 963
  LINE_PROJECTION_OFFSET = 769581.0
  MAP_PROJECTION_ROTATION = 0.0
  MAP_PROJECTION_TYPE = SINUSOIDAL
  MAP_RESOLUTION = 11854.9393024378
  MAP_SCALE = 0.005
  MAXIMUM_LATITUDE = 65.0423
  MINIMUM_LATITUDE = 64.9674
  POSITIVE_LONGITUDE_DIRECTION = EAST
  REFERENCE_LATITUDE = "N/A"
  REFERENCE_LONGITUDE = "N/A"
  SAMPLE_FIRST_PIXEL = 1
  SAMPLE_LAST_PIXEL = 970
  SAMPLE_PROJECTION_OFFSET = 1335.0
  SECOND_STANDARD_PARALLEL = "N/A"
  WESTERNMOST_LONGITUDE = 177.778
END_OBJECT = IMAGE_MAP_PROJECTION
/* The JPEG2000 image data file associated with this label. */
OBJECT = COMPRESSED_FILE
  FILE_NAME = "H1269_0008_SR3.JP2"
  RECORD_TYPE = UNDEFINED
  FILE_RECORDS = UNK
  ENCODING_TYPE = "JP2"
  INTERCHANGE_FORMAT = BINARY
  UNCOMPRESSED_FILE_NAME = "H1269_0008_SR3.IMG"
  REQUIRED_STORAGE_BYTES = "952540"
  ^DESCRIPTION = "JP2INFO.TXT"
END_OBJECT = COMPRESSED_FILE
END
