PDS_VERSION_ID = PDS3
/* FILE DATA ELEMENTS */
RECORD_TYPE = STREAM
/* POINTERS TO DATA OBJECTS */
^COMPRESSED_FILE = "H1272_0000_ND3.JP2"
/* IDENTIFICATION DATA ELEMENTS */
DATA_SET_ID = "MEX-M-HRSC-5-REFDR-MAPPROJECTED-V3.0"
DATA_SET_NAME = "MARS EXPRESS HRSC MAP PROJECTED REFDR V3.0"
DETECTOR_ID = MEX_HRSC_NADIR
EVENT_TYPE = "MARS-REGIONAL-MAPPING-Vo-Te"
INSTRUMENT_HOST_ID = MEX
INSTRUMENT_HOST_NAME = "MARS EXPRESS"
INSTRUMENT_ID = HRSC
INSTRUMENT_NAME = "HIGH RESOLUTION STEREO CAMERA"
MISSION_NAME = "MARS EXPRESS"
MISSION_PHASE_NAME = MR_Phase_4
PROCESSING_LEVEL_ID = 3
PRODUCT_CREATION_TIME = 2016-03-04T20:31:26.000Z
PRODUCT_ID = "H1272_0000_ND3.JP2"
RELEASE_ID = 0017
REVISION_ID = 0000
/* QUALITY DATA ELEMENTS */
DATA_QUALITY_ID = 1
DATA_QUALITY_DESC = "Data calculated based on original SPICE kernels"
/* TIME DATA ELEMENTS */
SPACECRAFT_CLOCK_START_COUNT = "1/0053733038.57172"
SPACECRAFT_CLOCK_STOP_COUNT = "1/0053733425.41446"
START_TIME = 2005-01-13T21:51:18.871Z
STOP_TIME = 2005-01-13T21:59:05.856Z
/* ORBITAL DATA ELEMENTS */
ASCENDING_NODE_LONGITUDE = 201.92
MAXIMUM_RESOLUTION = 12
FOOTPRINT_POINT_LATITUDE = (54.8121,54.7748,54.1742,53.5726, 52.9701,52.3666,51.7622,51.157,50.5511, 49.9445,49.3372,48.7292,48.1208,47.5118 ,46.9023,46.2924,45.6821,45.0715, 44.4608,43.8499,43.2389,42.6278,41.7112 ,41.1002,40.4893,39.8785,39.268,38.6578 ,38.0478,37.4383,36.8292,36.2206, 35.6125,35.005,34.3981,33.7919,33.1864, 32.0166,31.4134,30.8112,30.21,29.6097, 29.0105,28.4124,27.8155,27.2198,26.6252 ,26.032,25.44,24.8494,24.2561,24.2557, 25.4369,26.0295,26.6234,27.2186,27.815, 28.4126,29.0113,29.6112,30.2121,30.8141 ,31.417,32.0208,33.192,33.7982,34.4052, 35.0128,35.6211,36.23,36.8394,37.4492, 38.0595,38.6703,39.2814,39.8927,40.5043 ,41.1162,41.7283,42.6465,43.2586, 43.8707,44.4827,45.0946,45.7065,46.318, 46.9294,47.5403,48.1508,48.7608,49.3703 ,49.9793,50.5876,51.1953,51.8024, 52.4087,53.0142,53.6189,54.2228, 54.8121)
FOOTPRINT_POINT_LONGITUDE = (247.458,246.205,246.276,246.343, 246.407,246.468,246.526,246.581,246.633 ,246.683,246.731,246.776,246.818, 246.859,246.897,246.932,246.965,246.995 ,247.024,247.053,247.081,247.106, 247.142,247.164,247.184,247.203,247.221 ,247.238,247.253,247.268,247.282, 247.295,247.306,247.316,247.325,247.333 ,247.34,247.351,247.356,247.359,247.361 ,247.363,247.363,247.364,247.363, 247.362,247.36,247.357,247.353,247.349, 247.872,248.783,248.773,248.767,248.762 ,248.755,248.749,248.743,248.737, 248.731,248.728,248.726,248.721,248.715 ,248.702,248.695,248.689,248.681, 248.673,248.665,248.654,248.642,248.634 ,248.625,248.616,248.605,248.595, 248.591,248.584,248.574,248.566,248.556 ,248.546,248.541,248.537,248.532, 248.527,248.52,248.51,248.498,248.486, 248.471,248.456,248.44,248.424,248.406, 248.389,248.37,248.35,247.458)
ORBIT_NUMBER = 1272
ORBITAL_ECCENTRICITY = 0.57
ORBITAL_INCLINATION = 86.61
ORBITAL_SEMIMAJOR_AXIS = 8587.88
PERIAPSIS_ALTITUDE = 306.6
PERIAPSIS_ARGUMENT_ANGLE = 137.08
PERIAPSIS_TIME = 2005-01-13T21:54:21.000Z
SPACECRAFT_ORIENTATION = (0.0,-1.0,0.0)
^MEX_ORIENTATION_DESC = "MEX_ORIENTATION_DESC.TXT"
SPACECRAFT_POINTING_MODE = ACROSSTRACK
^MEX_POINTING_DESC = "MEX_POINTING_DESC.TXT"
RIGHT_ASCENSION = -1e+32
DECLINATION = -1e+32
OFFSET_ANGLE = 0.8
SPACECRAFT_SOLAR_DISTANCE = 2.3238e+08
TARGET_NAME = MARS
/* CAMERA DATA ELEMENTS */
DETECTOR_TEMPERATURE = 18.1666
FOCAL_PLANE_TEMPERATURE = 8.1755
INST_CMPRS_NAME = "DISCRETE COSINE TRANSFORMATION (DCT)"
INST_CMPRS_RATIO = 8.00385
INST_CMPRS_QUALITY = 0
INST_CMPRS_QUANTZ_TBL_ID = 0
INSTRUMENT_TEMPERATURE = 11.0301
LENS_TEMPERATURE = 8.1755
MACROPIXEL_SIZE = 1
MISSING_FRAMES = 175
PIXEL_SUBSAMPLING_FLAG = N
SIGNAL_CHAIN_ID = 0
/* RADIOMETRIC DATA ELEMENTS */
BANDWIDTH = 177.0
CENTER_FILTER_WAVELENGTH = 677.5
RADIANCE_OFFSET = 5.72087
RADIANCE_SCALING_FACTOR = 0.0310128
REFLECTANCE_SCALING_FACTOR = 0.000889662
MEX:REFLECTANCE_OFFSET = 0.164114
/* IMAGE OBJECT DEFINITIONS */
OBJECT = IMAGE
  INTERCHANGE_FORMAT = BINARY
  LINES = 144977
  LINE_SAMPLES = 8801
  SAMPLE_TYPE = UNSIGNED_INTEGER
  SAMPLE_BITS = 8
  BANDS = 1
  BAND_STORAGE_TYPE = BAND_SEQUENTIAL
  MAXIMUM = 191
  MEAN = 63.2322
  MINIMUM = 23
  STANDARD_DEVIATION = 8.44203
END_OBJECT = IMAGE
/* MAP OBJECT DEFINITIONS */
OBJECT = IMAGE_MAP_PROJECTION
  ^DATA_SET_MAP_PROJECTION_CATALOG= "DSMAP.CAT"
  A_AXIS_RADIUS = 3396.0
  B_AXIS_RADIUS = 3396.0
  C_AXIS_RADIUS = 3396.0
  CENTER_LATITUDE = 0.0
  CENTER_LONGITUDE = 248.0
  COORDINATE_SYSTEM_NAME = PLANETOGRAPHIC
  COORDINATE_SYSTEM_TYPE = "BODY-FIXED ROTATING"
  EASTERNMOST_LONGITUDE = 248.783
  FIRST_STANDARD_PARALLEL = "N/A"
  LINE_FIRST_PIXEL = 1
  LINE_LAST_PIXEL = 144977
  LINE_PROJECTION_OFFSET = 259982.0
  MAP_PROJECTION_ROTATION = 0.0
  MAP_PROJECTION_TYPE = SINUSOIDAL
  MAP_RESOLUTION = 4741.71043093333
  MAP_SCALE = 0.0125
  MAXIMUM_LATITUDE = 54.8121
  MINIMUM_LATITUDE = 24.2557
  POSITIVE_LONGITUDE_DIRECTION = EAST
  REFERENCE_LATITUDE = "N/A"
  REFERENCE_LONGITUDE = "N/A"
  SAMPLE_FIRST_PIXEL = 1
  SAMPLE_LAST_PIXEL = 8801
  SAMPLE_PROJECTION_OFFSET = 4959.0
  SECOND_STANDARD_PARALLEL = "N/A"
  WESTERNMOST_LONGITUDE = 246.205
END_OBJECT = IMAGE_MAP_PROJECTION
/* The JPEG2000 image data file associated with this label. */
OBJECT = COMPRESSED_FILE
  FILE_NAME = "H1272_0000_ND3.JP2"
  RECORD_TYPE = UNDEFINED
  FILE_RECORDS = UNK
  ENCODING_TYPE = "JP2"
  INTERCHANGE_FORMAT = BINARY
  UNCOMPRESSED_FILE_NAME = "H1272_0000_ND3.IMG"
  REQUIRED_STORAGE_BYTES = "1275977781"
  ^DESCRIPTION = "JP2INFO.TXT"
END_OBJECT = COMPRESSED_FILE
END
