PDS_VERSION_ID = PDS3
/* FILE DATA ELEMENTS */
RECORD_TYPE = STREAM
/* POINTERS TO DATA OBJECTS */
^COMPRESSED_FILE = "H1275_0000_S23.JP2"
/* IDENTIFICATION DATA ELEMENTS */
DATA_SET_ID = "MEX-M-HRSC-5-REFDR-MAPPROJECTED-V3.0"
DATA_SET_NAME = "MARS EXPRESS HRSC MAP PROJECTED REFDR V3.0"
DETECTOR_ID = MEX_HRSC_S2
EVENT_TYPE = "MARS-REGIONAL-MAPPING-Gl-Eo-La"
INSTRUMENT_HOST_ID = MEX
INSTRUMENT_HOST_NAME = "MARS EXPRESS"
INSTRUMENT_ID = HRSC
INSTRUMENT_NAME = "HIGH RESOLUTION STEREO CAMERA"
MISSION_NAME = "MARS EXPRESS"
MISSION_PHASE_NAME = MR_Phase_4
PROCESSING_LEVEL_ID = 3
PRODUCT_CREATION_TIME = 2016-03-04T20:31:26.000Z
PRODUCT_ID = "H1275_0000_S23.JP2"
RELEASE_ID = 0017
REVISION_ID = 0000
/* QUALITY DATA ELEMENTS */
DATA_QUALITY_ID = 1
DATA_QUALITY_DESC = "Data calculated based on original SPICE kernels"
/* TIME DATA ELEMENTS */
SPACECRAFT_CLOCK_START_COUNT = "1/0053805093.57308"
SPACECRAFT_CLOCK_STOP_COUNT = "1/0053805380.47090"
START_TIME = 2005-01-14T17:54:12.411Z
STOP_TIME = 2005-01-14T17:56:26.491Z
/* ORBITAL DATA ELEMENTS */
ASCENDING_NODE_LONGITUDE = 201.86
MAXIMUM_RESOLUTION = 42.7
FOOTPRINT_POINT_LATITUDE = (83.3321,83.267,83.1987,83.1275,83.0533 ,82.9763,82.8967,82.8144,82.7295,82.642 ,82.552,82.4595,82.3881,82.2442,82.0278 ,81.8805,81.7313,81.581,81.4317,81.2815 ,81.1303,80.9034,80.6768,80.5233, 80.3717,80.2195,80.0663,79.9126,79.7602 ,79.5303,79.2992,79.0699,78.9165, 78.6859,78.5339,78.3813,78.2281,78.0743 ,77.923,77.771,77.6187,77.3904,77.2401, 77.0891,76.8621,76.7111,76.4125,76.0379 ,75.8164,75.5201,75.2976,75.0058, 74.9775,75.0192,75.0825,75.1692,75.2218 ,75.2669,75.4406,75.9009,76.2106, 76.5187,76.6773,76.8364,77.1472,77.3061 ,77.4688,77.6295,77.7885,78.03,78.1929, 78.3553,78.5173,78.6802,78.8447,79.0914 ,79.2557,79.4213,79.6695,79.8359, 80.0875,80.2563,80.4252,80.5926,80.7636 ,80.9327,81.1849,81.4415,81.6128, 81.8692,82.1294,82.3021,82.4746,82.65, 82.825,82.9984,83.1729,83.3481,83.5227, 83.3321)
FOOTPRINT_POINT_LONGITUDE = (293.405,292.142,290.903,289.687, 288.493,287.324,286.179,285.058,283.96, 282.886,281.833,280.803,279.279,280.151 ,281.371,282.167,282.937,283.676, 284.374,285.047,285.694,286.616,287.477 ,288.036,288.566,289.077,289.574, 290.054,290.514,291.179,291.814,292.414 ,292.798,293.354,293.706,294.049, 294.384,294.71,295.022,295.326,295.622, 296.051,296.324,296.591,296.98,297.23, 297.707,298.272,298.591,299.001,299.296 ,299.668,300.751,301.399,302.438, 304.007,305.059,306.05,306.443,306.146, 305.935,305.713,305.596,305.476,305.227 ,305.097,304.962,304.823,304.681, 304.459,304.304,304.145,303.981,303.812 ,303.635,303.36,303.169,302.97,302.658, 302.441,302.1,301.86,301.611,301.354, 301.083,300.801,300.359,299.885,299.55, 299.022,298.449,298.046,297.624,297.175 ,296.703,296.209,295.684,295.128, 294.542,293.405)
ORBIT_NUMBER = 1275
ORBITAL_ECCENTRICITY = 0.569
ORBITAL_INCLINATION = 86.62
ORBITAL_SEMIMAJOR_AXIS = 8577.63
PERIAPSIS_ALTITUDE = 307.69
PERIAPSIS_ARGUMENT_ANGLE = 136.59
PERIAPSIS_TIME = 2005-01-14T18:04:02.000Z
SPACECRAFT_ORIENTATION = (0.0,-1.0,0.0)
^MEX_ORIENTATION_DESC = "MEX_ORIENTATION_DESC.TXT"
SPACECRAFT_POINTING_MODE = ACROSSTRACK
^MEX_POINTING_DESC = "MEX_POINTING_DESC.TXT"
RIGHT_ASCENSION = -1e+32
DECLINATION = -1e+32
OFFSET_ANGLE = -0.26
SPACECRAFT_SOLAR_DISTANCE = 2.32223e+08
TARGET_NAME = MARS
/* CAMERA DATA ELEMENTS */
DETECTOR_TEMPERATURE = 18.3705
FOCAL_PLANE_TEMPERATURE = 7.7677
INST_CMPRS_NAME = "DISCRETE COSINE TRANSFORMATION (DCT)"
INST_CMPRS_RATIO = 11.138
INST_CMPRS_QUALITY = 0
INST_CMPRS_QUANTZ_TBL_ID = 0
INSTRUMENT_TEMPERATURE = 10.8262
LENS_TEMPERATURE = 8.1755
MACROPIXEL_SIZE = 2
MISSING_FRAMES = 0
PIXEL_SUBSAMPLING_FLAG = N
SIGNAL_CHAIN_ID = 1
/* RADIOMETRIC DATA ELEMENTS */
BANDWIDTH = 178.0
CENTER_FILTER_WAVELENGTH = 679.0
RADIANCE_OFFSET = 1.95039
RADIANCE_SCALING_FACTOR = 0.0247871
REFLECTANCE_SCALING_FACTOR = 0.000707899
MEX:REFLECTANCE_OFFSET = 0.0557015
/* IMAGE OBJECT DEFINITIONS */
OBJECT = IMAGE
  INTERCHANGE_FORMAT = BINARY
  LINES = 10339
  LINE_SAMPLES = 5641
  SAMPLE_TYPE = UNSIGNED_INTEGER
  SAMPLE_BITS = 8
  BANDS = 1
  BAND_STORAGE_TYPE = BAND_SEQUENTIAL
  MAXIMUM = 245
  MEAN = 116.721
  MINIMUM = 51
  STANDARD_DEVIATION = 36.2802
END_OBJECT = IMAGE
/* MAP OBJECT DEFINITIONS */
OBJECT = IMAGE_MAP_PROJECTION
  ^DATA_SET_MAP_PROJECTION_CATALOG= "DSMAP.CAT"
  A_AXIS_RADIUS = 3396.0
  B_AXIS_RADIUS = 3396.0
  C_AXIS_RADIUS = 3396.0
  CENTER_LATITUDE = 0.0
  CENTER_LONGITUDE = 298.0
  COORDINATE_SYSTEM_NAME = PLANETOGRAPHIC
  COORDINATE_SYSTEM_TYPE = "BODY-FIXED ROTATING"
  EASTERNMOST_LONGITUDE = 306.443
  FIRST_STANDARD_PARALLEL = "N/A"
  LINE_FIRST_PIXEL = 1
  LINE_LAST_PIXEL = 10339
  LINE_PROJECTION_OFFSET = 99124.25
  MAP_PROJECTION_ROTATION = 0.0
  MAP_PROJECTION_TYPE = SINUSOIDAL
  MAP_RESOLUTION = 1185.42760773333
  MAP_SCALE = 0.05
  MAXIMUM_LATITUDE = 83.5227
  MINIMUM_LATITUDE = 74.97750000000001
  POSITIVE_LONGITUDE_DIRECTION = EAST
  REFERENCE_LATITUDE = "N/A"
  REFERENCE_LONGITUDE = "N/A"
  SAMPLE_FIRST_PIXEL = 1
  SAMPLE_LAST_PIXEL = 5641
  SAMPLE_PROJECTION_OFFSET = 3050.25
  SECOND_STANDARD_PARALLEL = "N/A"
  WESTERNMOST_LONGITUDE = 279.279
END_OBJECT = IMAGE_MAP_PROJECTION
/* The JPEG2000 image data file associated with this label. */
OBJECT = COMPRESSED_FILE
  FILE_NAME = "H1275_0000_S23.JP2"
  RECORD_TYPE = UNDEFINED
  FILE_RECORDS = UNK
  ENCODING_TYPE = "JP2"
  INTERCHANGE_FORMAT = BINARY
  UNCOMPRESSED_FILE_NAME = "H1275_0000_S23.IMG"
  REQUIRED_STORAGE_BYTES = "58350504"
  ^DESCRIPTION = "JP2INFO.TXT"
END_OBJECT = COMPRESSED_FILE
END
