PDS_VERSION_ID = PDS3
/* FILE DATA ELEMENTS */
RECORD_TYPE = STREAM
/* POINTERS TO DATA OBJECTS */
^COMPRESSED_FILE = "H1275_0001_ND3.JP2"
/* IDENTIFICATION DATA ELEMENTS */
DATA_SET_ID = "MEX-M-HRSC-5-REFDR-MAPPROJECTED-V3.0"
DATA_SET_NAME = "MARS EXPRESS HRSC MAP PROJECTED REFDR V3.0"
DETECTOR_ID = MEX_HRSC_NADIR
EVENT_TYPE = "MARS-LOCAL-STEREO-Im-Fl-Ot"
INSTRUMENT_HOST_ID = MEX
INSTRUMENT_HOST_NAME = "MARS EXPRESS"
INSTRUMENT_ID = HRSC
INSTRUMENT_NAME = "HIGH RESOLUTION STEREO CAMERA"
MISSION_NAME = "MARS EXPRESS"
MISSION_PHASE_NAME = MR_Phase_4
PROCESSING_LEVEL_ID = 3
PRODUCT_CREATION_TIME = 2016-03-04T20:31:26.000Z
PRODUCT_ID = "H1275_0001_ND3.JP2"
RELEASE_ID = 0017
REVISION_ID = 0000
/* QUALITY DATA ELEMENTS */
DATA_QUALITY_ID = 1
DATA_QUALITY_DESC = "Data calculated based on original SPICE kernels"
/* TIME DATA ELEMENTS */
SPACECRAFT_CLOCK_START_COUNT = "1/0053806086.57154"
SPACECRAFT_CLOCK_STOP_COUNT = "1/0053806277.29918"
START_TIME = 2005-01-14T18:08:47.224Z
STOP_TIME = 2005-01-14T18:10:38.225Z
/* ORBITAL DATA ELEMENTS */
ASCENDING_NODE_LONGITUDE = 201.86
MAXIMUM_RESOLUTION = 15.1
FOOTPRINT_POINT_LATITUDE = (24.749,24.7478,24.7462,24.7447,24.7425 ,24.7404,24.61,24.3535,24.0973,23.9002, 23.7685,23.637,23.374,23.1114,22.8491, 22.7153,22.5806,22.446,22.3115,22.177, 21.9274,21.7932,21.6591,21.5223,21.3846 ,21.2471,21.1096,20.9722,20.8349, 20.6977,20.5606,20.4205,20.2799,20.1394 ,19.999,19.8587,19.7185,19.5785,19.4144 ,19.2709,19.1275,18.9821,18.8389, 18.6958,18.5528,18.3347,18.1884,18.0421 ,17.8102,17.8109,17.8114,17.8117,17.812 ,17.812,17.8116,17.8111,17.9572,18.1036 ,18.2501,18.3968,18.5422,18.6855, 18.8288,18.9722,19.1897,19.3334,19.4772 ,19.64,19.7804,19.9209,20.0614,20.2021, 20.3429,20.5539,20.6912,20.8286,20.9662 ,21.1037,21.2414,21.3792,21.5171, 21.6544,21.7888,21.9232,22.1732,22.3078 ,22.4426,22.5774,22.7123,22.8466, 23.1093,23.3723,23.5039,23.6356,23.7674 ,23.8993,24.097,24.3536,24.6104,24.749)
FOOTPRINT_POINT_LONGITUDE = (312.512,312.289,312.064,311.881, 311.656,311.472,311.273,311.273,311.273 ,311.273,311.273,311.273,311.273, 311.273,311.272,311.272,311.271,311.27, 311.27,311.269,311.268,311.267,311.267, 311.266,311.265,311.264,311.263,311.262 ,311.261,311.26,311.259,311.258,311.257 ,311.255,311.254,311.254,311.252, 311.251,311.249,311.247,311.246,311.244 ,311.243,311.241,311.239,311.236, 311.235,311.233,311.294,311.471,311.631 ,311.824,312.047,312.191,312.493, 312.732,312.848,312.846,312.843,312.841 ,312.839,312.837,312.834,312.832, 312.828,312.826,312.824,312.821,312.819 ,312.816,312.814,312.812,312.809, 312.806,312.804,312.801,312.799,312.797 ,312.794,312.792,312.79,312.787,312.785 ,312.782,312.778,312.776,312.773, 312.771,312.769,312.766,312.761,312.757 ,312.754,312.752,312.749,312.747, 312.743,312.738,312.734,312.512)
ORBIT_NUMBER = 1275
ORBITAL_ECCENTRICITY = 0.569
ORBITAL_INCLINATION = 86.62
ORBITAL_SEMIMAJOR_AXIS = 8577.63
PERIAPSIS_ALTITUDE = 307.69
PERIAPSIS_ARGUMENT_ANGLE = 136.59
PERIAPSIS_TIME = 2005-01-14T18:04:02.000Z
SPACECRAFT_ORIENTATION = (0.0,-1.0,0.0)
^MEX_ORIENTATION_DESC = "MEX_ORIENTATION_DESC.TXT"
SPACECRAFT_POINTING_MODE = ACROSSTRACK
^MEX_POINTING_DESC = "MEX_POINTING_DESC.TXT"
RIGHT_ASCENSION = -1e+32
DECLINATION = -1e+32
OFFSET_ANGLE = -0.26
SPACECRAFT_SOLAR_DISTANCE = 2.32223e+08
TARGET_NAME = MARS
/* CAMERA DATA ELEMENTS */
DETECTOR_TEMPERATURE = 18.9822
FOCAL_PLANE_TEMPERATURE = 8.3794
INST_CMPRS_NAME = "DISCRETE COSINE TRANSFORMATION (DCT)"
INST_CMPRS_RATIO = 6.85805
INST_CMPRS_QUALITY = 0
INST_CMPRS_QUANTZ_TBL_ID = 0
INSTRUMENT_TEMPERATURE = 13.0691
LENS_TEMPERATURE = 8.7872
MACROPIXEL_SIZE = 1
MISSING_FRAMES = 37
PIXEL_SUBSAMPLING_FLAG = N
SIGNAL_CHAIN_ID = 0
/* RADIOMETRIC DATA ELEMENTS */
BANDWIDTH = 177.0
CENTER_FILTER_WAVELENGTH = 677.5
RADIANCE_OFFSET = 6.11366
RADIANCE_SCALING_FACTOR = 0.0196719
REFLECTANCE_SCALING_FACTOR = 0.000563559
MEX:REFLECTANCE_OFFSET = 0.175144
/* IMAGE OBJECT DEFINITIONS */
OBJECT = IMAGE
  INTERCHANGE_FORMAT = BINARY
  LINES = 32908
  LINE_SAMPLES = 7606
  SAMPLE_TYPE = UNSIGNED_INTEGER
  SAMPLE_BITS = 8
  BANDS = 1
  BAND_STORAGE_TYPE = BAND_SEQUENTIAL
  MAXIMUM = 155
  MEAN = 124.954
  MINIMUM = 61
  STANDARD_DEVIATION = 4.42499
END_OBJECT = IMAGE
/* MAP OBJECT DEFINITIONS */
OBJECT = IMAGE_MAP_PROJECTION
  ^DATA_SET_MAP_PROJECTION_CATALOG= "DSMAP.CAT"
  A_AXIS_RADIUS = 3396.0
  B_AXIS_RADIUS = 3396.0
  C_AXIS_RADIUS = 3396.0
  CENTER_LATITUDE = 0.0
  CENTER_LONGITUDE = 312.0
  COORDINATE_SYSTEM_NAME = PLANETOGRAPHIC
  COORDINATE_SYSTEM_TYPE = "BODY-FIXED ROTATING"
  EASTERNMOST_LONGITUDE = 312.848
  FIRST_STANDARD_PARALLEL = "N/A"
  LINE_FIRST_PIXEL = 1
  LINE_LAST_PIXEL = 32908
  LINE_PROJECTION_OFFSET = 117356.0
  MAP_PROJECTION_ROTATION = 0.0
  MAP_PROJECTION_TYPE = SINUSOIDAL
  MAP_RESOLUTION = 4741.71043093333
  MAP_SCALE = 0.0125
  MAXIMUM_LATITUDE = 24.749
  MINIMUM_LATITUDE = 17.8102
  POSITIVE_LONGITUDE_DIRECTION = EAST
  REFERENCE_LATITUDE = "N/A"
  REFERENCE_LONGITUDE = "N/A"
  SAMPLE_FIRST_PIXEL = 1
  SAMPLE_LAST_PIXEL = 7606
  SAMPLE_PROJECTION_OFFSET = 3676.0
  SECOND_STANDARD_PARALLEL = "N/A"
  WESTERNMOST_LONGITUDE = 311.233
END_OBJECT = IMAGE_MAP_PROJECTION
/* The JPEG2000 image data file associated with this label. */
OBJECT = COMPRESSED_FILE
  FILE_NAME = "H1275_0001_ND3.JP2"
  RECORD_TYPE = UNDEFINED
  FILE_RECORDS = UNK
  ENCODING_TYPE = "JP2"
  INTERCHANGE_FORMAT = BINARY
  UNCOMPRESSED_FILE_NAME = "H1275_0001_ND3.IMG"
  REQUIRED_STORAGE_BYTES = "250328672"
  ^DESCRIPTION = "JP2INFO.TXT"
END_OBJECT = COMPRESSED_FILE
END
