PDS_VERSION_ID = PDS3
/* FILE DATA ELEMENTS */
RECORD_TYPE = STREAM
/* POINTERS TO DATA OBJECTS */
^COMPRESSED_FILE = "H1275_0001_P13.JP2"
/* IDENTIFICATION DATA ELEMENTS */
DATA_SET_ID = "MEX-M-HRSC-5-REFDR-MAPPROJECTED-V3.0"
DATA_SET_NAME = "MARS EXPRESS HRSC MAP PROJECTED REFDR V3.0"
DETECTOR_ID = MEX_HRSC_P1
EVENT_TYPE = "MARS-LOCAL-STEREO-Im-Fl-Ot"
INSTRUMENT_HOST_ID = MEX
INSTRUMENT_HOST_NAME = "MARS EXPRESS"
INSTRUMENT_ID = HRSC
INSTRUMENT_NAME = "HIGH RESOLUTION STEREO CAMERA"
MISSION_NAME = "MARS EXPRESS"
MISSION_PHASE_NAME = MR_Phase_4
PROCESSING_LEVEL_ID = 3
PRODUCT_CREATION_TIME = 2016-03-04T20:31:26.000Z
PRODUCT_ID = "H1275_0001_P13.JP2"
RELEASE_ID = 0017
REVISION_ID = 0000
/* QUALITY DATA ELEMENTS */
DATA_QUALITY_ID = 1
DATA_QUALITY_DESC = "Data calculated based on original SPICE kernels"
/* TIME DATA ELEMENTS */
SPACECRAFT_CLOCK_START_COUNT = "1/0053806086.57154"
SPACECRAFT_CLOCK_STOP_COUNT = "1/0053806277.29918"
START_TIME = 2005-01-14T18:08:25.463Z
STOP_TIME = 2005-01-14T18:10:12.249Z
/* ORBITAL DATA ELEMENTS */
ASCENDING_NODE_LONGITUDE = 201.86
MAXIMUM_RESOLUTION = 30.2
FOOTPRINT_POINT_LATITUDE = (24.7635,24.7605,24.7559,24.7518, 24.7473,24.7422,24.6419,24.5137,24.3857 ,24.1936,24.0657,23.8695,23.7378, 23.6062,23.4087,23.2114,23.0798,22.8828 ,22.7502,22.6195,22.4169,22.2142,22.079 ,21.9439,21.7414,21.5389,21.4041, 21.2684,21.1297,20.991,20.8525,20.6449, 20.4508,20.3127,20.1744,19.9645,19.8238 ,19.6819,19.4689,19.2564,19.1147, 18.9732,18.7561,18.6109,18.4659,18.3211 ,18.1762,18.0315,17.87,17.7808,17.7837, 17.787,17.7889,17.7912,17.7928,17.7936, 17.9501,18.1761,18.3212,18.4663,18.6114 ,18.7568,18.9023,19.0457,19.1874, 19.3293,19.5419,19.6839,19.8259,19.9681 ,20.1098,20.2481,20.3866,20.5944, 20.8581,21.066,21.2049,21.3431,21.478, 21.6132,21.8159,22.0188,22.1542,22.2895 ,22.4247,22.5601,22.6936,22.8912, 23.0228,23.2206,23.3524,23.4843,23.6161 ,23.814,23.946,24.0769,24.2051,24.3334, 24.5257,24.7635)
FOOTPRINT_POINT_LONGITUDE = (312.651,312.438,312.156,311.941, 311.726,311.509,311.294,311.294,311.294 ,311.295,311.295,311.295,311.295, 311.296,311.296,311.296,311.296,311.296 ,311.295,311.295,311.295,311.294, 311.294,311.293,311.292,311.292,311.291 ,311.29,311.289,311.289,311.288,311.287 ,311.285,311.285,311.284,311.282, 311.282,311.281,311.279,311.277,311.275 ,311.274,311.272,311.27,311.269,311.267 ,311.266,311.264,311.262,311.458, 311.656,311.914,312.095,312.321,312.547 ,312.712,312.82,312.817,312.815,312.813 ,312.811,312.809,312.807,312.805, 312.803,312.801,312.798,312.795,312.793 ,312.791,312.789,312.787,312.785, 312.782,312.778,312.774,312.772,312.77, 312.768,312.766,312.763,312.759,312.757 ,312.755,312.753,312.751,312.748, 312.745,312.743,312.74,312.737,312.735, 312.733,312.73,312.727,312.725,312.723, 312.721,312.717,312.651)
ORBIT_NUMBER = 1275
ORBITAL_ECCENTRICITY = 0.569
ORBITAL_INCLINATION = 86.62
ORBITAL_SEMIMAJOR_AXIS = 8577.63
PERIAPSIS_ALTITUDE = 307.69
PERIAPSIS_ARGUMENT_ANGLE = 136.59
PERIAPSIS_TIME = 2005-01-14T18:04:02.000Z
SPACECRAFT_ORIENTATION = (0.0,-1.0,0.0)
^MEX_ORIENTATION_DESC = "MEX_ORIENTATION_DESC.TXT"
SPACECRAFT_POINTING_MODE = ACROSSTRACK
^MEX_POINTING_DESC = "MEX_POINTING_DESC.TXT"
RIGHT_ASCENSION = -1e+32
DECLINATION = -1e+32
OFFSET_ANGLE = -0.26
SPACECRAFT_SOLAR_DISTANCE = 2.32223e+08
TARGET_NAME = MARS
/* CAMERA DATA ELEMENTS */
DETECTOR_TEMPERATURE = 19.1861
FOCAL_PLANE_TEMPERATURE = 8.3794
INST_CMPRS_NAME = "DISCRETE COSINE TRANSFORMATION (DCT)"
INST_CMPRS_RATIO = 12.2291
INST_CMPRS_QUALITY = 0
INST_CMPRS_QUANTZ_TBL_ID = 0
INSTRUMENT_TEMPERATURE = 13.0691
LENS_TEMPERATURE = 8.7872
MACROPIXEL_SIZE = 2
MISSING_FRAMES = 18
PIXEL_SUBSAMPLING_FLAG = N
SIGNAL_CHAIN_ID = 3
/* RADIOMETRIC DATA ELEMENTS */
BANDWIDTH = 174.0
CENTER_FILTER_WAVELENGTH = 675.0
RADIANCE_OFFSET = 6.21881
RADIANCE_SCALING_FACTOR = 0.0171996
REFLECTANCE_SCALING_FACTOR = 0.000498898
MEX:REFLECTANCE_OFFSET = 0.180385
/* IMAGE OBJECT DEFINITIONS */
OBJECT = IMAGE
  INTERCHANGE_FORMAT = BINARY
  LINES = 16454
  LINE_SAMPLES = 3803
  SAMPLE_TYPE = UNSIGNED_INTEGER
  SAMPLE_BITS = 8
  BANDS = 1
  BAND_STORAGE_TYPE = BAND_SEQUENTIAL
  MAXIMUM = 171
  MEAN = 143.338
  MINIMUM = 79
  STANDARD_DEVIATION = 5.24389
END_OBJECT = IMAGE
/* MAP OBJECT DEFINITIONS */
OBJECT = IMAGE_MAP_PROJECTION
  ^DATA_SET_MAP_PROJECTION_CATALOG= "DSMAP.CAT"
  A_AXIS_RADIUS = 3396.0
  B_AXIS_RADIUS = 3396.0
  C_AXIS_RADIUS = 3396.0
  CENTER_LATITUDE = 0.0
  CENTER_LONGITUDE = 312.0
  COORDINATE_SYSTEM_NAME = PLANETOGRAPHIC
  COORDINATE_SYSTEM_TYPE = "BODY-FIXED ROTATING"
  EASTERNMOST_LONGITUDE = 312.82
  FIRST_STANDARD_PARALLEL = "N/A"
  LINE_FIRST_PIXEL = 1
  LINE_LAST_PIXEL = 16454
  LINE_PROJECTION_OFFSET = 58677.75
  MAP_PROJECTION_ROTATION = 0.0
  MAP_PROJECTION_TYPE = SINUSOIDAL
  MAP_RESOLUTION = 2370.85521546667
  MAP_SCALE = 0.025
  MAXIMUM_LATITUDE = 24.7635
  MINIMUM_LATITUDE = 17.7808
  POSITIVE_LONGITUDE_DIRECTION = EAST
  REFERENCE_LATITUDE = "N/A"
  REFERENCE_LONGITUDE = "N/A"
  SAMPLE_FIRST_PIXEL = 1
  SAMPLE_LAST_PIXEL = 3803
  SAMPLE_PROJECTION_OFFSET = 1837.75
  SECOND_STANDARD_PARALLEL = "N/A"
  WESTERNMOST_LONGITUDE = 311.262
END_OBJECT = IMAGE_MAP_PROJECTION
/* The JPEG2000 image data file associated with this label. */
OBJECT = COMPRESSED_FILE
  FILE_NAME = "H1275_0001_P13.JP2"
  RECORD_TYPE = UNDEFINED
  FILE_RECORDS = UNK
  ENCODING_TYPE = "JP2"
  INTERCHANGE_FORMAT = BINARY
  UNCOMPRESSED_FILE_NAME = "H1275_0001_P13.IMG"
  REQUIRED_STORAGE_BYTES = "62597380"
  ^DESCRIPTION = "JP2INFO.TXT"
END_OBJECT = COMPRESSED_FILE
END
