PDS_VERSION_ID = PDS3
/* FILE DATA ELEMENTS */
RECORD_TYPE = STREAM
/* POINTERS TO DATA OBJECTS */
^COMPRESSED_FILE = "H1275_0001_S13.JP2"
/* IDENTIFICATION DATA ELEMENTS */
DATA_SET_ID = "MEX-M-HRSC-5-REFDR-MAPPROJECTED-V3.0"
DATA_SET_NAME = "MARS EXPRESS HRSC MAP PROJECTED REFDR V3.0"
DETECTOR_ID = MEX_HRSC_S1
EVENT_TYPE = "MARS-LOCAL-STEREO-Im-Fl-Ot"
INSTRUMENT_HOST_ID = MEX
INSTRUMENT_HOST_NAME = "MARS EXPRESS"
INSTRUMENT_ID = HRSC
INSTRUMENT_NAME = "HIGH RESOLUTION STEREO CAMERA"
MISSION_NAME = "MARS EXPRESS"
MISSION_PHASE_NAME = MR_Phase_4
PROCESSING_LEVEL_ID = 3
PRODUCT_CREATION_TIME = 2016-03-04T20:31:26.000Z
PRODUCT_ID = "H1275_0001_S13.JP2"
RELEASE_ID = 0017
REVISION_ID = 0000
/* QUALITY DATA ELEMENTS */
DATA_QUALITY_ID = 1
DATA_QUALITY_DESC = "Data calculated based on original SPICE kernels"
/* TIME DATA ELEMENTS */
SPACECRAFT_CLOCK_START_COUNT = "1/0053806086.57154"
SPACECRAFT_CLOCK_STOP_COUNT = "1/0053806277.29918"
START_TIME = 2005-01-14T18:08:14.593Z
STOP_TIME = 2005-01-14T18:09:59.503Z
/* ORBITAL DATA ELEMENTS */
ASCENDING_NODE_LONGITUDE = 201.86
MAXIMUM_RESOLUTION = 30.8
FOOTPRINT_POINT_LATITUDE = (24.7715,24.7673,24.7626,24.7574, 24.7516,24.7453,24.7388,24.4959,24.3011 ,24.171,23.9764,23.8464,23.652,23.3925, 23.129,22.9286,22.7935,22.6606,22.5271, 22.3268,22.1932,21.9928,21.8595,21.7225 ,21.5168,21.3108,21.1734,20.9674, 20.8303,20.6934,20.5563,20.4168,20.2759 ,20.1349,19.9946,19.749,19.6078,19.4669 ,19.3263,19.1835,19.039,18.8948,18.7505 ,18.6064,18.4621,18.3183,18.1745,18.028 ,17.8801,17.7654,17.7709,17.7752, 17.7789,17.7822,17.785,17.8615,18.0096, 18.2296,18.4459,18.5903,18.7342,18.8789 ,19.0959,19.2403,19.3818,19.5935, 19.7343,19.9118,20.0529,20.1937,20.4054 ,20.5465,20.6834,20.8206,20.958,21.0952 ,21.2327,21.37,21.5073,21.645,21.7825, 21.9184,22.0523,22.2528,22.4533,22.6539 ,22.7876,22.9885,23.1223,23.2563, 23.3876,23.5176,23.7126,23.8427,24.0378 ,24.233,24.3632,24.5583,24.6885, 24.7715)
FOOTPRINT_POINT_LONGITUDE = (312.591,312.38,312.168,311.956,311.743 ,311.529,311.327,311.302,311.303, 311.303,311.304,311.304,311.304,311.305 ,311.305,311.305,311.304,311.304, 311.304,311.304,311.303,311.303,311.303 ,311.302,311.301,311.301,311.3,311.299, 311.298,311.297,311.297,311.296,311.295 ,311.294,311.293,311.292,311.291,311.29 ,311.289,311.287,311.286,311.285, 311.284,311.282,311.281,311.279,311.278 ,311.276,311.275,311.408,311.662, 311.886,312.109,312.332,312.599,312.81, 312.808,312.805,312.802,312.8,312.798, 312.796,312.793,312.791,312.789,312.786 ,312.784,312.781,312.779,312.777, 312.774,312.772,312.77,312.768,312.766, 312.764,312.762,312.76,312.758,312.756, 312.754,312.752,312.75,312.747,312.743, 312.74,312.738,312.735,312.733,312.731, 312.729,312.726,312.723,312.721,312.718 ,312.715,312.712,312.709,312.707, 312.591)
ORBIT_NUMBER = 1275
ORBITAL_ECCENTRICITY = 0.569
ORBITAL_INCLINATION = 86.62
ORBITAL_SEMIMAJOR_AXIS = 8577.63
PERIAPSIS_ALTITUDE = 307.69
PERIAPSIS_ARGUMENT_ANGLE = 136.59
PERIAPSIS_TIME = 2005-01-14T18:04:02.000Z
SPACECRAFT_ORIENTATION = (0.0,-1.0,0.0)
^MEX_ORIENTATION_DESC = "MEX_ORIENTATION_DESC.TXT"
SPACECRAFT_POINTING_MODE = ACROSSTRACK
^MEX_POINTING_DESC = "MEX_POINTING_DESC.TXT"
RIGHT_ASCENSION = -1e+32
DECLINATION = -1e+32
OFFSET_ANGLE = -0.26
SPACECRAFT_SOLAR_DISTANCE = 2.32223e+08
TARGET_NAME = MARS
/* CAMERA DATA ELEMENTS */
DETECTOR_TEMPERATURE = 19.1861
FOCAL_PLANE_TEMPERATURE = 8.3794
INST_CMPRS_NAME = "DISCRETE COSINE TRANSFORMATION (DCT)"
INST_CMPRS_RATIO = 11.8757
INST_CMPRS_QUALITY = 0
INST_CMPRS_QUANTZ_TBL_ID = 0
INSTRUMENT_TEMPERATURE = 13.0691
LENS_TEMPERATURE = 8.7872
MACROPIXEL_SIZE = 2
MISSING_FRAMES = 9
PIXEL_SUBSAMPLING_FLAG = N
SIGNAL_CHAIN_ID = 1
/* RADIOMETRIC DATA ELEMENTS */
BANDWIDTH = 180.0
CENTER_FILTER_WAVELENGTH = 677.0
RADIANCE_OFFSET = 6.7098
RADIANCE_SCALING_FACTOR = 0.0169371
REFLECTANCE_SCALING_FACTOR = 0.000476529
MEX:REFLECTANCE_OFFSET = 0.188782
/* IMAGE OBJECT DEFINITIONS */
OBJECT = IMAGE
  INTERCHANGE_FORMAT = BINARY
  LINES = 16454
  LINE_SAMPLES = 3803
  SAMPLE_TYPE = UNSIGNED_INTEGER
  SAMPLE_BITS = 8
  BANDS = 1
  BAND_STORAGE_TYPE = BAND_SEQUENTIAL
  MAXIMUM = 151
  MEAN = 126.956
  MINIMUM = 69
  STANDARD_DEVIATION = 4.79506
END_OBJECT = IMAGE
/* MAP OBJECT DEFINITIONS */
OBJECT = IMAGE_MAP_PROJECTION
  ^DATA_SET_MAP_PROJECTION_CATALOG= "DSMAP.CAT"
  A_AXIS_RADIUS = 3396.0
  B_AXIS_RADIUS = 3396.0
  C_AXIS_RADIUS = 3396.0
  CENTER_LATITUDE = 0.0
  CENTER_LONGITUDE = 312.0
  COORDINATE_SYSTEM_NAME = PLANETOGRAPHIC
  COORDINATE_SYSTEM_TYPE = "BODY-FIXED ROTATING"
  EASTERNMOST_LONGITUDE = 312.81
  FIRST_STANDARD_PARALLEL = "N/A"
  LINE_FIRST_PIXEL = 1
  LINE_LAST_PIXEL = 16454
  LINE_PROJECTION_OFFSET = 58677.75
  MAP_PROJECTION_ROTATION = 0.0
  MAP_PROJECTION_TYPE = SINUSOIDAL
  MAP_RESOLUTION = 2370.85521546667
  MAP_SCALE = 0.025
  MAXIMUM_LATITUDE = 24.7715
  MINIMUM_LATITUDE = 17.7654
  POSITIVE_LONGITUDE_DIRECTION = EAST
  REFERENCE_LATITUDE = "N/A"
  REFERENCE_LONGITUDE = "N/A"
  SAMPLE_FIRST_PIXEL = 1
  SAMPLE_LAST_PIXEL = 3803
  SAMPLE_PROJECTION_OFFSET = 1837.75
  SECOND_STANDARD_PARALLEL = "N/A"
  WESTERNMOST_LONGITUDE = 311.275
END_OBJECT = IMAGE_MAP_PROJECTION
/* The JPEG2000 image data file associated with this label. */
OBJECT = COMPRESSED_FILE
  FILE_NAME = "H1275_0001_S13.JP2"
  RECORD_TYPE = UNDEFINED
  FILE_RECORDS = UNK
  ENCODING_TYPE = "JP2"
  INTERCHANGE_FORMAT = BINARY
  UNCOMPRESSED_FILE_NAME = "H1275_0001_S13.IMG"
  REQUIRED_STORAGE_BYTES = "62597380"
  ^DESCRIPTION = "JP2INFO.TXT"
END_OBJECT = COMPRESSED_FILE
END
