PDS_VERSION_ID = PDS3
/* FILE DATA ELEMENTS */
RECORD_TYPE = STREAM
/* POINTERS TO DATA OBJECTS */
^COMPRESSED_FILE = "H1276_0000_GR3.JP2"
/* IDENTIFICATION DATA ELEMENTS */
DATA_SET_ID = "MEX-M-HRSC-5-REFDR-MAPPROJECTED-V3.0"
DATA_SET_NAME = "MARS EXPRESS HRSC MAP PROJECTED REFDR V3.0"
DETECTOR_ID = MEX_HRSC_GREEN
EVENT_TYPE = "MARS-REGIONAL-MAPPING-Im-Pf-Eo"
INSTRUMENT_HOST_ID = MEX
INSTRUMENT_HOST_NAME = "MARS EXPRESS"
INSTRUMENT_ID = HRSC
INSTRUMENT_NAME = "HIGH RESOLUTION STEREO CAMERA"
MISSION_NAME = "MARS EXPRESS"
MISSION_PHASE_NAME = MR_Phase_4
PROCESSING_LEVEL_ID = 3
PRODUCT_CREATION_TIME = 2016-03-04T20:31:26.000Z
PRODUCT_ID = "H1276_0000_GR3.JP2"
RELEASE_ID = 0017
REVISION_ID = 0000
/* QUALITY DATA ELEMENTS */
DATA_QUALITY_ID = 1
DATA_QUALITY_DESC = "Data calculated based on original SPICE kernels"
/* TIME DATA ELEMENTS */
SPACECRAFT_CLOCK_START_COUNT = "1/0053829546.57171"
SPACECRAFT_CLOCK_STOP_COUNT = "1/0053829938.06251"
START_TIME = 2005-01-15T00:39:57.393Z
STOP_TIME = 2005-01-15T00:45:10.200Z
/* ORBITAL DATA ELEMENTS */
ASCENDING_NODE_LONGITUDE = 201.84
MAXIMUM_RESOLUTION = 52.1
FOOTPRINT_POINT_LATITUDE = (70.8942,70.8426,70.8026,70.7327, 70.2619,69.8569,69.4507,69.0427,68.6335 ,68.2228,67.8107,67.3972,66.9825, 66.5666,66.1493,65.7308,65.3111,64.8902 ,64.468,64.0447,63.6231,63.0013,62.5862 ,62.1807,61.7742,61.3683,60.9714, 60.5735,59.9804,59.5921,59.2034,58.6227 ,58.2435,57.8637,57.4831,57.0994, 56.7292,56.3586,55.9874,55.4328,55.0715 ,54.7089,54.1662,53.8042,53.4462, 53.0945,52.7425,52.3902,52.0377,51.6847 ,51.1522,51.1778,51.3667,51.7211, 52.0752,52.4291,52.7827,53.1359,53.4893 ,53.8492,54.2121,54.5757,54.9397, 55.4841,56.041,56.4141,56.7867,57.1589, 57.5443,57.927,58.3091,58.6907,59.0786, 59.4706,59.8618,60.2526,60.654,61.0548, 61.4548,61.8637,62.2735,62.6826,63.101, 63.7288,64.3683,64.7954,65.2216,65.6468 ,66.071,66.4942,66.9163,67.3374,67.7573 ,68.1762,68.5941,69.0108,69.4264, 69.8408,70.2541,70.8942)
FOOTPRINT_POINT_LONGITUDE = (212.358,210.89,209.937,208.505,207.938 ,208.166,208.385,208.594,208.795, 208.988,209.173,209.35,209.521,209.686, 209.844,209.996,210.142,210.283,210.419 ,210.549,210.674,210.85,210.962,211.067 ,211.169,211.267,211.36,211.449,211.577 ,211.657,211.735,211.846,211.916, 211.983,212.049,212.113,212.173,212.232 ,212.288,212.37,212.42,212.469,212.541, 212.587,212.633,212.675,212.716,212.756 ,212.794,212.832,213.171,214.156, 214.707,214.692,214.676,214.66,214.644, 214.628,214.608,214.595,214.583,214.564 ,214.539,214.506,214.477,214.455, 214.433,214.409,214.386,214.361,214.335 ,214.309,214.281,214.252,214.223, 214.192,214.16,214.127,214.093,214.056, 214.019,213.98,213.939,213.874,213.805, 213.756,213.706,213.654,213.6,213.543, 213.485,213.424,213.361,213.296,213.227 ,213.156,213.082,213.005,212.924, 212.358)
ORBIT_NUMBER = 1276
ORBITAL_ECCENTRICITY = 0.569
ORBITAL_INCLINATION = 86.62
ORBITAL_SEMIMAJOR_AXIS = 8579.01
PERIAPSIS_ALTITUDE = 307.42
PERIAPSIS_ARGUMENT_ANGLE = 136.38
PERIAPSIS_TIME = 2005-01-15T00:47:11.000Z
SPACECRAFT_ORIENTATION = (0.0,-1.0,0.0)
^MEX_ORIENTATION_DESC = "MEX_ORIENTATION_DESC.TXT"
SPACECRAFT_POINTING_MODE = ACROSSTRACK
^MEX_POINTING_DESC = "MEX_POINTING_DESC.TXT"
RIGHT_ASCENSION = -1e+32
DECLINATION = -1e+32
OFFSET_ANGLE = 0.45
SPACECRAFT_SOLAR_DISTANCE = 2.32171e+08
TARGET_NAME = MARS
/* CAMERA DATA ELEMENTS */
DETECTOR_TEMPERATURE = 17.9627
FOCAL_PLANE_TEMPERATURE = 8.1755
INST_CMPRS_NAME = "DISCRETE COSINE TRANSFORMATION (DCT)"
INST_CMPRS_RATIO = 25.4603
INST_CMPRS_QUALITY = 0
INST_CMPRS_QUANTZ_TBL_ID = 0
INSTRUMENT_TEMPERATURE = 11.0301
LENS_TEMPERATURE = 8.5833
MACROPIXEL_SIZE = 4
MISSING_FRAMES = 1
PIXEL_SUBSAMPLING_FLAG = N
SIGNAL_CHAIN_ID = 2
/* RADIOMETRIC DATA ELEMENTS */
BANDWIDTH = 88.0
CENTER_FILTER_WAVELENGTH = 538.0
RADIANCE_OFFSET = 1.35187
RADIANCE_SCALING_FACTOR = 0.00530147
REFLECTANCE_SCALING_FACTOR = 0.000246038
MEX:REFLECTANCE_OFFSET = 0.0627396
/* IMAGE OBJECT DEFINITIONS */
OBJECT = IMAGE
  INTERCHANGE_FORMAT = BINARY
  LINES = 23413
  LINE_SAMPLES = 3339
  SAMPLE_TYPE = UNSIGNED_INTEGER
  SAMPLE_BITS = 8
  BANDS = 1
  BAND_STORAGE_TYPE = BAND_SEQUENTIAL
  MAXIMUM = 136
  MEAN = 80.4664
  MINIMUM = 53
  STANDARD_DEVIATION = 10.5803
END_OBJECT = IMAGE
/* MAP OBJECT DEFINITIONS */
OBJECT = IMAGE_MAP_PROJECTION
  ^DATA_SET_MAP_PROJECTION_CATALOG= "DSMAP.CAT"
  A_AXIS_RADIUS = 3396.0
  B_AXIS_RADIUS = 3396.0
  C_AXIS_RADIUS = 3396.0
  CENTER_LATITUDE = 0.0
  CENTER_LONGITUDE = 213.0
  COORDINATE_SYSTEM_NAME = PLANETOGRAPHIC
  COORDINATE_SYSTEM_TYPE = "BODY-FIXED ROTATING"
  EASTERNMOST_LONGITUDE = 214.707
  FIRST_STANDARD_PARALLEL = "N/A"
  LINE_FIRST_PIXEL = 1
  LINE_LAST_PIXEL = 23413
  LINE_PROJECTION_OFFSET = 84027.875
  MAP_PROJECTION_ROTATION = 0.0
  MAP_PROJECTION_TYPE = SINUSOIDAL
  MAP_RESOLUTION = 1185.42760773333
  MAP_SCALE = 0.05
  MAXIMUM_LATITUDE = 70.8942
  MINIMUM_LATITUDE = 51.1522
  POSITIVE_LONGITUDE_DIRECTION = EAST
  REFERENCE_LATITUDE = "N/A"
  REFERENCE_LONGITUDE = "N/A"
  SAMPLE_FIRST_PIXEL = 1
  SAMPLE_LAST_PIXEL = 3339
  SAMPLE_PROJECTION_OFFSET = 2057.375
  SECOND_STANDARD_PARALLEL = "N/A"
  WESTERNMOST_LONGITUDE = 207.938
END_OBJECT = IMAGE_MAP_PROJECTION
/* The JPEG2000 image data file associated with this label. */
OBJECT = COMPRESSED_FILE
  FILE_NAME = "H1276_0000_GR3.JP2"
  RECORD_TYPE = UNDEFINED
  FILE_RECORDS = UNK
  ENCODING_TYPE = "JP2"
  INTERCHANGE_FORMAT = BINARY
  UNCOMPRESSED_FILE_NAME = "H1276_0000_GR3.IMG"
  REQUIRED_STORAGE_BYTES = "78199380"
  ^DESCRIPTION = "JP2INFO.TXT"
END_OBJECT = COMPRESSED_FILE
END
