PDS_VERSION_ID = PDS3
/* FILE DATA ELEMENTS */
RECORD_TYPE = STREAM
/* POINTERS TO DATA OBJECTS */
^COMPRESSED_FILE = "H1284_0000_RE3.JP2"
/* IDENTIFICATION DATA ELEMENTS */
DATA_SET_ID = "MEX-M-HRSC-5-REFDR-MAPPROJECTED-V3.0"
DATA_SET_NAME = "MARS EXPRESS HRSC MAP PROJECTED REFDR V3.0"
DETECTOR_ID = MEX_HRSC_RED
EVENT_TYPE = "MARS-REGIONAL-MAPPING-Vo-Gl"
INSTRUMENT_HOST_ID = MEX
INSTRUMENT_HOST_NAME = "MARS EXPRESS"
INSTRUMENT_ID = HRSC
INSTRUMENT_NAME = "HIGH RESOLUTION STEREO CAMERA"
MISSION_NAME = "MARS EXPRESS"
MISSION_PHASE_NAME = MR_Phase_4
PROCESSING_LEVEL_ID = 3
PRODUCT_CREATION_TIME = 2016-03-04T20:31:26.000Z
PRODUCT_ID = "H1284_0000_RE3.JP2"
RELEASE_ID = 0017
REVISION_ID = 0000
/* QUALITY DATA ELEMENTS */
DATA_QUALITY_ID = 1
DATA_QUALITY_DESC = "Data calculated based on original SPICE kernels"
/* TIME DATA ELEMENTS */
SPACECRAFT_CLOCK_START_COUNT = "1/0054023636.57948"
SPACECRAFT_CLOCK_STOP_COUNT = "1/0054024081.40549"
START_TIME = 2005-01-17T06:34:55.745Z
STOP_TIME = 2005-01-17T06:41:17.880Z
/* ORBITAL DATA ELEMENTS */
ASCENDING_NODE_LONGITUDE = 201.66
MAXIMUM_RESOLUTION = 53.6
FOOTPRINT_POINT_LATITUDE = (39.5671,39.6159,39.1488,38.6823, 38.2169,37.7521,37.2883,36.8258,36.3525 ,35.8757,35.1623,34.4516,33.9687, 33.4801,32.9909,32.504,32.0178,31.5325, 31.0487,30.5667,30.085,29.6052,29.1259, 28.6501,28.1755,27.4649,26.9937,26.2869 ,25.8117,25.3339,24.8475,24.3873, 23.9474,23.2882,22.8431,22.1696,21.7205 ,21.2725,20.8268,20.382,19.9394,19.4989 ,19.0602,18.404,17.9687,17.5359,17.1044 ,16.4438,16.4366,16.429,16.4252,16.8534 ,17.2839,17.717,18.1526,18.59,19.0292, 19.4695,19.9104,20.3537,20.7983,21.2443 ,21.692,22.1412,22.5917,23.0441,23.4952 ,23.9476,24.4019,24.8643,25.3319, 26.0349,26.5037,26.9756,27.4474,27.9216 ,28.3963,28.8723,29.5912,30.0718, 30.5538,31.0363,31.519,32.004,32.4912, 32.9807,33.4704,33.9594,34.4428,35.1555 ,35.6312,36.1089,36.8224,37.2862, 37.7501,38.216,38.6821,39.1492,39.6168, 39.5671)
FOOTPRINT_POINT_LONGITUDE = (147.069,146.298,146.32,146.341,146.361 ,146.38,146.398,146.415,146.431,146.447 ,146.469,146.489,146.502,146.515, 146.528,146.54,146.551,146.562,146.571, 146.58,146.588,146.596,146.603,146.608, 146.613,146.619,146.623,146.628,146.634 ,146.641,146.654,146.652,146.64,146.623 ,146.615,146.606,146.601,146.596,146.59 ,146.584,146.578,146.57,146.563,146.551 ,146.543,146.534,146.525,146.699, 147.267,147.919,148.352,148.343,148.334 ,148.325,148.317,148.308,148.299,148.29 ,148.281,148.272,148.262,148.253, 148.243,148.233,148.223,148.213,148.202 ,148.191,148.179,148.169,148.16,148.146 ,148.136,148.126,148.116,148.106, 148.095,148.083,148.067,148.055,148.044 ,148.032,148.019,148.006,147.993, 147.981,147.967,147.953,147.938,147.917 ,147.901,147.886,147.862,147.847,147.83 ,147.814,147.797,147.78,147.762, 147.069)
ORBIT_NUMBER = 1284
ORBITAL_ECCENTRICITY = 0.569
ORBITAL_INCLINATION = 86.61
ORBITAL_SEMIMAJOR_AXIS = 8577.92
PERIAPSIS_ALTITUDE = 309.36
PERIAPSIS_ARGUMENT_ANGLE = 134.97
PERIAPSIS_TIME = 2005-01-17T06:33:12.000Z
SPACECRAFT_ORIENTATION = (0.0,-1.0,0.0)
^MEX_ORIENTATION_DESC = "MEX_ORIENTATION_DESC.TXT"
SPACECRAFT_POINTING_MODE = ACROSSTRACK
^MEX_POINTING_DESC = "MEX_POINTING_DESC.TXT"
RIGHT_ASCENSION = -1e+32
DECLINATION = -1e+32
OFFSET_ANGLE = -0.229
SPACECRAFT_SOLAR_DISTANCE = 2.3175e+08
TARGET_NAME = MARS
/* CAMERA DATA ELEMENTS */
DETECTOR_TEMPERATURE = 18.1666
FOCAL_PLANE_TEMPERATURE = 7.7677
INST_CMPRS_NAME = "DISCRETE COSINE TRANSFORMATION (DCT)"
INST_CMPRS_RATIO = 27.6276
INST_CMPRS_QUALITY = 0
INST_CMPRS_QUANTZ_TBL_ID = 0
INSTRUMENT_TEMPERATURE = 10.8262
LENS_TEMPERATURE = 8.1755
MACROPIXEL_SIZE = 4
MISSING_FRAMES = 0
PIXEL_SUBSAMPLING_FLAG = N
SIGNAL_CHAIN_ID = 2
/* RADIOMETRIC DATA ELEMENTS */
BANDWIDTH = 48.0
CENTER_FILTER_WAVELENGTH = 748.0
RADIANCE_OFFSET = 2.09942
RADIANCE_SCALING_FACTOR = 0.00838547
REFLECTANCE_SCALING_FACTOR = 0.00102776
MEX:REFLECTANCE_OFFSET = 0.257314
/* IMAGE OBJECT DEFINITIONS */
OBJECT = IMAGE
  INTERCHANGE_FORMAT = BINARY
  LINES = 27512
  LINE_SAMPLES = 2161
  SAMPLE_TYPE = UNSIGNED_INTEGER
  SAMPLE_BITS = 8
  BANDS = 1
  BAND_STORAGE_TYPE = BAND_SEQUENTIAL
  MAXIMUM = 111
  MEAN = 91.6343
  MINIMUM = 48
  STANDARD_DEVIATION = 6.48656
END_OBJECT = IMAGE
/* MAP OBJECT DEFINITIONS */
OBJECT = IMAGE_MAP_PROJECTION
  ^DATA_SET_MAP_PROJECTION_CATALOG= "DSMAP.CAT"
  A_AXIS_RADIUS = 3396.0
  B_AXIS_RADIUS = 3396.0
  C_AXIS_RADIUS = 3396.0
  CENTER_LATITUDE = 0.0
  CENTER_LONGITUDE = 147.0
  COORDINATE_SYSTEM_NAME = PLANETOGRAPHIC
  COORDINATE_SYSTEM_TYPE = "BODY-FIXED ROTATING"
  EASTERNMOST_LONGITUDE = 148.352
  FIRST_STANDARD_PARALLEL = "N/A"
  LINE_FIRST_PIXEL = 1
  LINE_LAST_PIXEL = 27512
  LINE_PROJECTION_OFFSET = 46989.875
  MAP_PROJECTION_ROTATION = 0.0
  MAP_PROJECTION_TYPE = SINUSOIDAL
  MAP_RESOLUTION = 1185.42760773333
  MAP_SCALE = 0.05
  MAXIMUM_LATITUDE = 39.6168
  MINIMUM_LATITUDE = 16.4252
  POSITIVE_LONGITUDE_DIRECTION = EAST
  REFERENCE_LATITUDE = "N/A"
  REFERENCE_LONGITUDE = "N/A"
  SAMPLE_FIRST_PIXEL = 1
  SAMPLE_LAST_PIXEL = 2161
  SAMPLE_PROJECTION_OFFSET = 662.125
  SECOND_STANDARD_PARALLEL = "N/A"
  WESTERNMOST_LONGITUDE = 146.298
END_OBJECT = IMAGE_MAP_PROJECTION
/* The JPEG2000 image data file associated with this label. */
OBJECT = COMPRESSED_FILE
  FILE_NAME = "H1284_0000_RE3.JP2"
  RECORD_TYPE = UNDEFINED
  FILE_RECORDS = UNK
  ENCODING_TYPE = "JP2"
  INTERCHANGE_FORMAT = BINARY
  UNCOMPRESSED_FILE_NAME = "H1284_0000_RE3.IMG"
  REQUIRED_STORAGE_BYTES = "59475042"
  ^DESCRIPTION = "JP2INFO.TXT"
END_OBJECT = COMPRESSED_FILE
END
