PDS_VERSION_ID = PDS3
/* FILE DATA ELEMENTS */
RECORD_TYPE = STREAM
/* POINTERS TO DATA OBJECTS */
^COMPRESSED_FILE = "H1284_0000_S23.JP2"
/* IDENTIFICATION DATA ELEMENTS */
DATA_SET_ID = "MEX-M-HRSC-5-REFDR-MAPPROJECTED-V3.0"
DATA_SET_NAME = "MARS EXPRESS HRSC MAP PROJECTED REFDR V3.0"
DETECTOR_ID = MEX_HRSC_S2
EVENT_TYPE = "MARS-REGIONAL-MAPPING-Vo-Gl"
INSTRUMENT_HOST_ID = MEX
INSTRUMENT_HOST_NAME = "MARS EXPRESS"
INSTRUMENT_ID = HRSC
INSTRUMENT_NAME = "HIGH RESOLUTION STEREO CAMERA"
MISSION_NAME = "MARS EXPRESS"
MISSION_PHASE_NAME = MR_Phase_4
PROCESSING_LEVEL_ID = 3
PRODUCT_CREATION_TIME = 2016-03-04T20:31:26.000Z
PRODUCT_ID = "H1284_0000_S23.JP2"
RELEASE_ID = 0017
REVISION_ID = 0000
/* QUALITY DATA ELEMENTS */
DATA_QUALITY_ID = 1
DATA_QUALITY_DESC = "Data calculated based on original SPICE kernels"
/* TIME DATA ELEMENTS */
SPACECRAFT_CLOCK_START_COUNT = "1/0054023636.57948"
SPACECRAFT_CLOCK_STOP_COUNT = "1/0054024081.40549"
START_TIME = 2005-01-17T06:35:00.747Z
STOP_TIME = 2005-01-17T06:41:27.361Z
/* ORBITAL DATA ELEMENTS */
ASCENDING_NODE_LONGITUDE = 201.66
MAXIMUM_RESOLUTION = 27.4
FOOTPRINT_POINT_LATITUDE = (39.5538,39.3835,38.9138,38.4452, 37.9776,37.5109,37.0454,36.5656,36.0864 ,35.6075,35.1306,34.655,33.9203,33.4297 ,32.6947,32.2068,31.7194,31.2342, 30.7501,30.268,29.5462,29.0663,28.59, 28.1156,27.6402,26.9328,26.4615,25.9876 ,25.5089,25.0248,24.3248,23.8913, 23.4589,23.02,22.3522,21.9056,21.2372, 20.7945,20.3528,19.9135,19.4765,19.0415 ,18.607,18.1746,17.7445,17.3166,16.8911 ,16.4381,16.4304,16.4252,16.4168, 16.8406,17.2666,17.6954,18.1271,18.561, 18.9963,19.4333,19.8709,20.3106,20.752, 21.195,21.6394,22.0861,22.5335,22.9831, 23.4319,24.1057,24.5607,25.0247,25.4919 ,25.9611,26.4293,26.9011,27.3725, 27.8467,28.3206,28.7973,29.277,29.758, 30.24,30.7235,31.2066,31.6917,32.1784, 32.6686,33.4054,33.8963,34.6324,35.1091 ,35.5869,36.0662,36.5464,37.0279, 37.4948,37.9613,38.4302,38.8994,39.3696 ,39.5538)
FOOTPRINT_POINT_LONGITUDE = (146.988,146.302,146.323,146.344, 146.363,146.382,146.399,146.416,146.432 ,146.448,146.462,146.475,146.495, 146.508,146.526,146.538,146.548,146.558 ,146.567,146.575,146.586,146.593, 146.598,146.602,146.607,146.612,146.615 ,146.619,146.626,146.636,146.638, 146.625,146.613,146.603,146.593,146.588 ,146.58,146.574,146.567,146.56,146.553, 146.545,146.537,146.528,146.519,146.51, 146.5,146.782,147.275,147.693,148.371, 148.362,148.352,148.343,148.334,148.325 ,148.316,148.307,148.297,148.288, 148.278,148.268,148.258,148.248,148.237 ,148.227,148.216,148.198,148.187, 148.177,148.168,148.158,148.148,148.138 ,148.127,148.117,148.105,148.094, 148.083,148.072,148.06,148.048,148.035, 148.022,148.009,147.996,147.976,147.962 ,147.939,147.924,147.909,147.894, 147.878,147.861,147.845,147.828,147.812 ,147.794,147.776,146.988)
ORBIT_NUMBER = 1284
ORBITAL_ECCENTRICITY = 0.569
ORBITAL_INCLINATION = 86.61
ORBITAL_SEMIMAJOR_AXIS = 8577.92
PERIAPSIS_ALTITUDE = 309.36
PERIAPSIS_ARGUMENT_ANGLE = 134.97
PERIAPSIS_TIME = 2005-01-17T06:33:12.000Z
SPACECRAFT_ORIENTATION = (0.0,-1.0,0.0)
^MEX_ORIENTATION_DESC = "MEX_ORIENTATION_DESC.TXT"
SPACECRAFT_POINTING_MODE = ACROSSTRACK
^MEX_POINTING_DESC = "MEX_POINTING_DESC.TXT"
RIGHT_ASCENSION = -1e+32
DECLINATION = -1e+32
OFFSET_ANGLE = -0.229
SPACECRAFT_SOLAR_DISTANCE = 2.3175e+08
TARGET_NAME = MARS
/* CAMERA DATA ELEMENTS */
DETECTOR_TEMPERATURE = 18.1666
FOCAL_PLANE_TEMPERATURE = 7.7677
INST_CMPRS_NAME = "DISCRETE COSINE TRANSFORMATION (DCT)"
INST_CMPRS_RATIO = 12.5177
INST_CMPRS_QUALITY = 0
INST_CMPRS_QUANTZ_TBL_ID = 0
INSTRUMENT_TEMPERATURE = 10.8262
LENS_TEMPERATURE = 8.1755
MACROPIXEL_SIZE = 2
MISSING_FRAMES = 0
PIXEL_SUBSAMPLING_FLAG = N
SIGNAL_CHAIN_ID = 1
/* RADIOMETRIC DATA ELEMENTS */
BANDWIDTH = 178.0
CENTER_FILTER_WAVELENGTH = 679.0
RADIANCE_OFFSET = 7.85825
RADIANCE_SCALING_FACTOR = 0.0281134
REFLECTANCE_SCALING_FACTOR = 0.000799613
MEX:REFLECTANCE_OFFSET = 0.223507
/* IMAGE OBJECT DEFINITIONS */
OBJECT = IMAGE
  INTERCHANGE_FORMAT = BINARY
  LINES = 55024
  LINE_SAMPLES = 4322
  SAMPLE_TYPE = UNSIGNED_INTEGER
  SAMPLE_BITS = 8
  BANDS = 1
  BAND_STORAGE_TYPE = BAND_SEQUENTIAL
  MAXIMUM = 113
  MEAN = 91.3138
  MINIMUM = 50
  STANDARD_DEVIATION = 5.65243
END_OBJECT = IMAGE
/* MAP OBJECT DEFINITIONS */
OBJECT = IMAGE_MAP_PROJECTION
  ^DATA_SET_MAP_PROJECTION_CATALOG= "DSMAP.CAT"
  A_AXIS_RADIUS = 3396.0
  B_AXIS_RADIUS = 3396.0
  C_AXIS_RADIUS = 3396.0
  CENTER_LATITUDE = 0.0
  CENTER_LONGITUDE = 147.0
  COORDINATE_SYSTEM_NAME = PLANETOGRAPHIC
  COORDINATE_SYSTEM_TYPE = "BODY-FIXED ROTATING"
  EASTERNMOST_LONGITUDE = 148.371
  FIRST_STANDARD_PARALLEL = "N/A"
  LINE_FIRST_PIXEL = 1
  LINE_LAST_PIXEL = 55024
  LINE_PROJECTION_OFFSET = 93980.25
  MAP_PROJECTION_ROTATION = 0.0
  MAP_PROJECTION_TYPE = SINUSOIDAL
  MAP_RESOLUTION = 2370.85521546667
  MAP_SCALE = 0.025
  MAXIMUM_LATITUDE = 39.5538
  MINIMUM_LATITUDE = 16.4168
  POSITIVE_LONGITUDE_DIRECTION = EAST
  REFERENCE_LATITUDE = "N/A"
  REFERENCE_LONGITUDE = "N/A"
  SAMPLE_FIRST_PIXEL = 1
  SAMPLE_LAST_PIXEL = 4322
  SAMPLE_PROJECTION_OFFSET = 1324.75
  SECOND_STANDARD_PARALLEL = "N/A"
  WESTERNMOST_LONGITUDE = 146.302
END_OBJECT = IMAGE_MAP_PROJECTION
/* The JPEG2000 image data file associated with this label. */
OBJECT = COMPRESSED_FILE
  FILE_NAME = "H1284_0000_S23.JP2"
  RECORD_TYPE = UNDEFINED
  FILE_RECORDS = UNK
  ENCODING_TYPE = "JP2"
  INTERCHANGE_FORMAT = BINARY
  UNCOMPRESSED_FILE_NAME = "H1284_0000_S23.IMG"
  REQUIRED_STORAGE_BYTES = "237839660"
  ^DESCRIPTION = "JP2INFO.TXT"
END_OBJECT = COMPRESSED_FILE
END
