PDS_VERSION_ID = PDS3
/* FILE DATA ELEMENTS */
RECORD_TYPE = STREAM
/* POINTERS TO DATA OBJECTS */
^COMPRESSED_FILE = "H1287_0000_GR3.JP2"
/* IDENTIFICATION DATA ELEMENTS */
DATA_SET_ID = "MEX-M-HRSC-5-REFDR-MAPPROJECTED-V3.0"
DATA_SET_NAME = "MARS EXPRESS HRSC MAP PROJECTED REFDR V3.0"
DETECTOR_ID = MEX_HRSC_GREEN
EVENT_TYPE = "MARS-LOCAL-MAPPING-Im-Pf-Eo"
INSTRUMENT_HOST_ID = MEX
INSTRUMENT_HOST_NAME = "MARS EXPRESS"
INSTRUMENT_ID = HRSC
INSTRUMENT_NAME = "HIGH RESOLUTION STEREO CAMERA"
MISSION_NAME = "MARS EXPRESS"
MISSION_PHASE_NAME = MR_Phase_4
PROCESSING_LEVEL_ID = 3
PRODUCT_CREATION_TIME = 2016-03-04T20:31:26.000Z
PRODUCT_ID = "H1287_0000_GR3.JP2"
RELEASE_ID = 0017
REVISION_ID = 0000
/* QUALITY DATA ELEMENTS */
DATA_QUALITY_ID = 1
DATA_QUALITY_DESC = "Data calculated based on original SPICE kernels"
/* TIME DATA ELEMENTS */
SPACECRAFT_CLOCK_START_COUNT = "1/0054095893.57328"
SPACECRAFT_CLOCK_STOP_COUNT = "1/0054096175.32062"
START_TIME = 2005-01-18T02:38:50.884Z
STOP_TIME = 2005-01-18T02:42:29.005Z
/* ORBITAL DATA ELEMENTS */
ASCENDING_NODE_LONGITUDE = 201.6
MAXIMUM_RESOLUTION = 50.1
FOOTPRINT_POINT_LATITUDE = (60.862,60.8207,60.7886,60.5931,60.2899 ,59.9862,59.6822,59.3777,59.0749, 58.7789,58.4825,58.1858,57.8887,57.5913 ,57.2975,57.0088,56.7197,56.4304, 56.1407,55.8508,55.4163,55.1351,54.8537 ,54.572,54.29,54.0078,53.7255,53.4429, 53.1601,52.8812,52.6073,52.3333,52.0591 ,51.7848,51.5102,51.2356,50.9607, 50.6858,50.4107,50.1354,49.86,49.4498, 49.1836,48.9172,48.6508,48.3842,48.1176 ,47.8509,47.584,47.3172,47.0502,46.7832 ,46.6299,46.6461,46.7954,47.0632, 47.3308,47.5984,47.866,48.1334,48.4008, 48.6682,48.9354,49.2025,49.4695,49.7419 ,50.0182,50.2945,50.5706,50.8466, 51.1225,51.3983,51.6738,52.0869,52.3621 ,52.7748,53.0497,53.3335,53.758,54.0413 ,54.3247,54.7495,55.0328,55.4581, 55.7478,56.0392,56.3305,56.6215,56.9124 ,57.2029,57.4932,57.7922,58.2406, 58.5392,58.8374,59.1354,59.5928,59.8989 ,60.2051,60.862)
FOOTPRINT_POINT_LONGITUDE = (212.035,210.893,210.154,209.704, 209.774,209.843,209.91,209.975,210.039, 210.099,210.158,210.216,210.272,210.327 ,210.38,210.431,210.481,210.529,210.577 ,210.623,210.691,210.734,210.775, 210.816,210.856,210.895,210.933,210.97, 211.007,211.042,211.076,211.109,211.141 ,211.173,211.203,211.234,211.263, 211.293,211.321,211.349,211.376,211.416 ,211.44,211.465,211.489,211.512,211.535 ,211.557,211.579,211.601,211.622, 211.642,211.977,212.569,213.239,213.228 ,213.216,213.205,213.193,213.181, 213.169,213.157,213.145,213.132,213.119 ,213.106,213.092,213.078,213.064, 213.049,213.034,213.019,213.004,212.981 ,212.965,212.94,212.923,212.905,212.885 ,212.868,212.85,212.822,212.8,212.763, 212.743,212.722,212.701,212.678,212.655 ,212.632,212.608,212.584,212.546, 212.519,212.492,212.465,212.421,212.393 ,212.362,212.035)
ORBIT_NUMBER = 1287
ORBITAL_ECCENTRICITY = 0.569
ORBITAL_INCLINATION = 86.62
ORBITAL_SEMIMAJOR_AXIS = 8575.67
PERIAPSIS_ALTITUDE = 308.91
PERIAPSIS_ARGUMENT_ANGLE = 134.42
PERIAPSIS_TIME = 2005-01-18T02:42:51.000Z
SPACECRAFT_ORIENTATION = (0.0,-1.0,0.0)
^MEX_ORIENTATION_DESC = "MEX_ORIENTATION_DESC.TXT"
SPACECRAFT_POINTING_MODE = ACROSSTRACK
^MEX_POINTING_DESC = "MEX_POINTING_DESC.TXT"
RIGHT_ASCENSION = -1e+32
DECLINATION = -1e+32
OFFSET_ANGLE = 0.19
SPACECRAFT_SOLAR_DISTANCE = 2.31591e+08
TARGET_NAME = MARS
/* CAMERA DATA ELEMENTS */
DETECTOR_TEMPERATURE = 17.9627
FOCAL_PLANE_TEMPERATURE = 7.9716
INST_CMPRS_NAME = "DISCRETE COSINE TRANSFORMATION (DCT)"
INST_CMPRS_RATIO = 23.7533
INST_CMPRS_QUALITY = 0
INST_CMPRS_QUANTZ_TBL_ID = 0
INSTRUMENT_TEMPERATURE = 10.8262
LENS_TEMPERATURE = 8.1755
MACROPIXEL_SIZE = 4
MISSING_FRAMES = 0
PIXEL_SUBSAMPLING_FLAG = N
SIGNAL_CHAIN_ID = 2
/* RADIOMETRIC DATA ELEMENTS */
BANDWIDTH = 88.0
CENTER_FILTER_WAVELENGTH = 538.0
RADIANCE_OFFSET = 1.376
RADIANCE_SCALING_FACTOR = 0.0062425
REFLECTANCE_SCALING_FACTOR = 0.000288267
MEX:REFLECTANCE_OFFSET = 0.0635409
/* IMAGE OBJECT DEFINITIONS */
OBJECT = IMAGE
  INTERCHANGE_FORMAT = BINARY
  LINES = 16862
  LINE_SAMPLES = 2355
  SAMPLE_TYPE = UNSIGNED_INTEGER
  SAMPLE_BITS = 8
  BANDS = 1
  BAND_STORAGE_TYPE = BAND_SEQUENTIAL
  MAXIMUM = 141
  MEAN = 81.173
  MINIMUM = 40
  STANDARD_DEVIATION = 10.4077
END_OBJECT = IMAGE
/* MAP OBJECT DEFINITIONS */
OBJECT = IMAGE_MAP_PROJECTION
  ^DATA_SET_MAP_PROJECTION_CATALOG= "DSMAP.CAT"
  A_AXIS_RADIUS = 3396.0
  B_AXIS_RADIUS = 3396.0
  C_AXIS_RADIUS = 3396.0
  CENTER_LATITUDE = 0.0
  CENTER_LONGITUDE = 212.0
  COORDINATE_SYSTEM_NAME = PLANETOGRAPHIC
  COORDINATE_SYSTEM_TYPE = "BODY-FIXED ROTATING"
  EASTERNMOST_LONGITUDE = 213.239
  FIRST_STANDARD_PARALLEL = "N/A"
  LINE_FIRST_PIXEL = 1
  LINE_LAST_PIXEL = 16862
  LINE_PROJECTION_OFFSET = 72129.625
  MAP_PROJECTION_ROTATION = 0.0
  MAP_PROJECTION_TYPE = SINUSOIDAL
  MAP_RESOLUTION = 1185.42760773333
  MAP_SCALE = 0.05
  MAXIMUM_LATITUDE = 60.862
  MINIMUM_LATITUDE = 46.6299
  POSITIVE_LONGITUDE_DIRECTION = EAST
  REFERENCE_LATITUDE = "N/A"
  REFERENCE_LONGITUDE = "N/A"
  SAMPLE_FIRST_PIXEL = 1
  SAMPLE_LAST_PIXEL = 2355
  SAMPLE_PROJECTION_OFFSET = 1335.875
  SECOND_STANDARD_PARALLEL = "N/A"
  WESTERNMOST_LONGITUDE = 209.704
END_OBJECT = IMAGE_MAP_PROJECTION
/* The JPEG2000 image data file associated with this label. */
OBJECT = COMPRESSED_FILE
  FILE_NAME = "H1287_0000_GR3.JP2"
  RECORD_TYPE = UNDEFINED
  FILE_RECORDS = UNK
  ENCODING_TYPE = "JP2"
  INTERCHANGE_FORMAT = BINARY
  UNCOMPRESSED_FILE_NAME = "H1287_0000_GR3.IMG"
  REQUIRED_STORAGE_BYTES = "39728850"
  ^DESCRIPTION = "JP2INFO.TXT"
END_OBJECT = COMPRESSED_FILE
END
