PDS_VERSION_ID = PDS3
/* FILE DATA ELEMENTS */
RECORD_TYPE = STREAM
/* POINTERS TO DATA OBJECTS */
^COMPRESSED_FILE = "H1291_0000_IR3.JP2"
/* IDENTIFICATION DATA ELEMENTS */
DATA_SET_ID = "MEX-M-HRSC-5-REFDR-MAPPROJECTED-V3.0"
DATA_SET_NAME = "MARS EXPRESS HRSC MAP PROJECTED REFDR V3.0"
DETECTOR_ID = MEX_HRSC_IR
EVENT_TYPE = "MARS-REGIONAL-COLOR-Gl-Eo-La"
INSTRUMENT_HOST_ID = MEX
INSTRUMENT_HOST_NAME = "MARS EXPRESS"
INSTRUMENT_ID = HRSC
INSTRUMENT_NAME = "HIGH RESOLUTION STEREO CAMERA"
MISSION_NAME = "MARS EXPRESS"
MISSION_PHASE_NAME = MR_Phase_4
PROCESSING_LEVEL_ID = 3
PRODUCT_CREATION_TIME = 2016-03-04T20:31:26.000Z
PRODUCT_ID = "H1291_0000_IR3.JP2"
RELEASE_ID = 0017
REVISION_ID = 0000
/* QUALITY DATA ELEMENTS */
DATA_QUALITY_ID = 1
DATA_QUALITY_DESC = "Data calculated based on original SPICE kernels"
/* TIME DATA ELEMENTS */
SPACECRAFT_CLOCK_START_COUNT = "1/0054192209.57310"
SPACECRAFT_CLOCK_STOP_COUNT = "1/0054192527.53547"
START_TIME = 2005-01-19T05:23:54.527Z
STOP_TIME = 2005-01-19T05:27:20.326Z
/* ORBITAL DATA ELEMENTS */
ASCENDING_NODE_LONGITUDE = 201.51
MAXIMUM_RESOLUTION = 46.2
FOOTPRINT_POINT_LATITUDE = (86.8669,86.77,86.6638,86.5493,86.4272, 86.2983,86.1634,86.0232,85.8784,85.7294 ,85.5766,85.4203,85.2609,85.0225, 84.8916,84.6833,84.5355,84.3838,84.2255 ,84.0668,83.9043,83.7374,83.5685, 83.3965,83.2225,82.958,82.7789,82.5996, 82.4178,82.2362,82.0522,81.8689,81.6835 ,81.499,81.2198,81.0338,80.8464,80.567, 80.3793,80.1931,79.9075,79.7212,79.534, 79.3486,79.1623,78.9767,78.7917,78.5129 ,78.0518,77.6849,77.411,77.0457,76.685, 76.1443,76.1806,76.2561,76.3222,76.3622 ,76.4077,76.4547,77.0183,77.5889, 77.9722,78.3606,78.6526,78.8487,79.1447 ,79.3435,79.5418,79.7424,80.0431, 80.2457,80.5494,80.8621,81.0664,81.2732 ,81.4794,81.6878,82.0,82.2103,82.4199, 82.6316,82.8429,83.0562,83.2693,83.4841 ,83.6988,83.9153,84.1308,84.3484, 84.5652,84.784,85.1143,85.3339,85.6634, 85.8819,86.1027,86.4318,86.65,86.8669)
FOOTPRINT_POINT_LONGITUDE = (157.271,154.063,151.063,148.265,145.66 ,143.238,140.99,138.906,136.973,135.179 ,133.512,131.96,130.516,130.324,132.519 ,135.581,137.492,139.281,140.978, 142.555,144.038,145.445,146.765,148.014 ,149.191,150.834,151.859,152.823, 153.741,154.606,155.433,156.212,156.957 ,157.661,158.659,159.284,159.883, 160.727,161.26,161.768,162.504,162.96, 163.399,163.817,164.221,164.608,164.979 ,165.513,166.336,166.941,167.368, 167.905,168.404,169.097,170.19,171.657, 173.148,174.183,175.551,177.295,177.067 ,176.813,176.629,176.428,176.27,176.158 ,175.98,175.855,175.725,175.588,175.373 ,175.221,174.98,174.714,174.531,174.337 ,174.134,173.918,173.574,173.326, 173.065,172.787,172.493,172.177,171.841 ,171.479,171.09,170.672,170.226,169.738 ,169.212,168.635,167.644,166.908, 165.674,164.754,163.673,161.826,160.393 ,157.271)
ORBIT_NUMBER = 1291
ORBITAL_ECCENTRICITY = 0.569
ORBITAL_INCLINATION = 86.61
ORBITAL_SEMIMAJOR_AXIS = 8572.09
PERIAPSIS_ALTITUDE = 310.03
PERIAPSIS_ARGUMENT_ANGLE = 133.71
PERIAPSIS_TIME = 2005-01-19T05:36:00.000Z
SPACECRAFT_ORIENTATION = (0.0,-1.0,0.0)
^MEX_ORIENTATION_DESC = "MEX_ORIENTATION_DESC.TXT"
SPACECRAFT_POINTING_MODE = ACROSSTRACK
^MEX_POINTING_DESC = "MEX_POINTING_DESC.TXT"
RIGHT_ASCENSION = -1e+32
DECLINATION = -1e+32
OFFSET_ANGLE = 0.6
SPACECRAFT_SOLAR_DISTANCE = 2.31379e+08
TARGET_NAME = MARS
/* CAMERA DATA ELEMENTS */
DETECTOR_TEMPERATURE = 17.351
FOCAL_PLANE_TEMPERATURE = 7.9716
INST_CMPRS_NAME = "DISCRETE COSINE TRANSFORMATION (DCT)"
INST_CMPRS_RATIO = 7.35165
INST_CMPRS_QUALITY = 0
INST_CMPRS_QUANTZ_TBL_ID = 0
INSTRUMENT_TEMPERATURE = 11.0301
LENS_TEMPERATURE = 8.5833
MACROPIXEL_SIZE = 2
MISSING_FRAMES = 1
PIXEL_SUBSAMPLING_FLAG = N
SIGNAL_CHAIN_ID = 3
/* RADIOMETRIC DATA ELEMENTS */
BANDWIDTH = 81.0
CENTER_FILTER_WAVELENGTH = 955.5
RADIANCE_OFFSET = 0.507712
RADIANCE_SCALING_FACTOR = 0.0072562
REFLECTANCE_SCALING_FACTOR = 0.000838091
MEX:REFLECTANCE_OFFSET = 0.0586408
/* IMAGE OBJECT DEFINITIONS */
OBJECT = IMAGE
  INTERCHANGE_FORMAT = BINARY
  LINES = 12517
  LINE_SAMPLES = 6318
  SAMPLE_TYPE = UNSIGNED_INTEGER
  SAMPLE_BITS = 8
  BANDS = 1
  BAND_STORAGE_TYPE = BAND_SEQUENTIAL
  MAXIMUM = 231
  MEAN = 87.3169
  MINIMUM = 41
  STANDARD_DEVIATION = 37.4548
END_OBJECT = IMAGE
/* MAP OBJECT DEFINITIONS */
OBJECT = IMAGE_MAP_PROJECTION
  ^DATA_SET_MAP_PROJECTION_CATALOG= "DSMAP.CAT"
  A_AXIS_RADIUS = 3396.0
  B_AXIS_RADIUS = 3396.0
  C_AXIS_RADIUS = 3396.0
  CENTER_LATITUDE = 0.0
  CENTER_LONGITUDE = 167.0
  COORDINATE_SYSTEM_NAME = PLANETOGRAPHIC
  COORDINATE_SYSTEM_TYPE = "BODY-FIXED ROTATING"
  EASTERNMOST_LONGITUDE = 177.295
  FIRST_STANDARD_PARALLEL = "N/A"
  LINE_FIRST_PIXEL = 1
  LINE_LAST_PIXEL = 12517
  LINE_PROJECTION_OFFSET = 102741.25
  MAP_PROJECTION_ROTATION = 0.0
  MAP_PROJECTION_TYPE = SINUSOIDAL
  MAP_RESOLUTION = 1185.42760773333
  MAP_SCALE = 0.05
  MAXIMUM_LATITUDE = 86.8669
  MINIMUM_LATITUDE = 76.1443
  POSITIVE_LONGITUDE_DIRECTION = EAST
  REFERENCE_LATITUDE = "N/A"
  REFERENCE_LONGITUDE = "N/A"
  SAMPLE_FIRST_PIXEL = 1
  SAMPLE_LAST_PIXEL = 6318
  SAMPLE_PROJECTION_OFFSET = 3576.25
  SECOND_STANDARD_PARALLEL = "N/A"
  WESTERNMOST_LONGITUDE = 130.324
END_OBJECT = IMAGE_MAP_PROJECTION
/* The JPEG2000 image data file associated with this label. */
OBJECT = COMPRESSED_FILE
  FILE_NAME = "H1291_0000_IR3.JP2"
  RECORD_TYPE = UNDEFINED
  FILE_RECORDS = UNK
  ENCODING_TYPE = "JP2"
  INTERCHANGE_FORMAT = BINARY
  UNCOMPRESSED_FILE_NAME = "H1291_0000_IR3.IMG"
  REQUIRED_STORAGE_BYTES = "79113996"
  ^DESCRIPTION = "JP2INFO.TXT"
END_OBJECT = COMPRESSED_FILE
END
