PDS_VERSION_ID = PDS3
/* FILE DATA ELEMENTS */
RECORD_TYPE = STREAM
/* POINTERS TO DATA OBJECTS */
^COMPRESSED_FILE = "H1293_0000_RE3.JP2"
/* IDENTIFICATION DATA ELEMENTS */
DATA_SET_ID = "MEX-M-HRSC-5-REFDR-MAPPROJECTED-V3.0"
DATA_SET_NAME = "MARS EXPRESS HRSC MAP PROJECTED REFDR V3.0"
DETECTOR_ID = MEX_HRSC_RED
EVENT_TYPE = "MARS-REGIONAL-STEREO-Fl-Lc-Eo"
INSTRUMENT_HOST_ID = MEX
INSTRUMENT_HOST_NAME = "MARS EXPRESS"
INSTRUMENT_ID = HRSC
INSTRUMENT_NAME = "HIGH RESOLUTION STEREO CAMERA"
MISSION_NAME = "MARS EXPRESS"
MISSION_PHASE_NAME = MR_Phase_4
PROCESSING_LEVEL_ID = 3
PRODUCT_CREATION_TIME = 2016-03-04T20:31:26.000Z
PRODUCT_ID = "H1293_0000_RE3.JP2"
RELEASE_ID = 0017
REVISION_ID = 0000
/* QUALITY DATA ELEMENTS */
DATA_QUALITY_ID = 1
DATA_QUALITY_DESC = "Data calculated based on original SPICE kernels"
/* TIME DATA ELEMENTS */
SPACECRAFT_CLOCK_START_COUNT = "1/0054241410.57157"
SPACECRAFT_CLOCK_STOP_COUNT = "1/0054241812.14590"
START_TIME = 2005-01-19T19:04:30.991Z
STOP_TIME = 2005-01-19T19:10:09.184Z
/* ORBITAL DATA ELEMENTS */
ASCENDING_NODE_LONGITUDE = 201.48
MAXIMUM_RESOLUTION = 54.6
FOOTPRINT_POINT_LATITUDE = (40.0025,40.0069,39.7121,39.3427, 38.9734,38.605,38.237,37.87,37.5034, 37.1373,36.5753,36.1988,35.635,35.2597, 34.8854,34.5006,33.9237,33.5402,33.1575 ,32.7661,32.3733,31.981,31.5898,31.1899 ,30.591,30.1915,29.7842,29.3745,28.9668 ,28.5536,28.1345,27.7165,27.293,26.8689 ,26.2272,25.7961,25.36,24.9165,24.4758, 24.0246,23.3473,22.8927,22.197,21.7324, 21.2601,20.7903,20.0642,19.5792,19.5428 ,19.5283,19.5107,19.9919,20.4729, 20.9631,21.6648,22.1338,22.5992,23.0541 ,23.5185,23.9634,24.4156,24.8557, 25.2974,25.7386,26.1665,26.599,27.0251, 27.6643,28.0819,28.5012,28.9158,29.3243 ,29.7357,30.1443,30.5443,30.9458, 31.5468,31.939,32.3319,32.7258,33.3095, 33.6937,34.0783,34.4639,34.8498,35.2244 ,35.6004,35.9767,36.3539,36.7316, 37.1065,37.4735,37.841,38.209,38.5773, 38.9466,39.316,39.687,40.0506,40.0025)
FOOTPRINT_POINT_LONGITUDE = (341.445,340.997,340.653,340.676, 340.699,340.72,340.741,340.761,340.78, 340.799,340.826,340.844,340.869,340.885 ,340.9,340.915,340.937,340.95,340.963, 340.976,340.988,340.999,341.01,341.022, 341.034,341.043,341.052,341.06,341.067, 341.074,341.082,341.09,341.095,341.099, 341.104,341.106,341.11,341.114,341.116, 341.119,341.12,341.118,341.118,341.114, 341.112,341.104,341.101,341.095,341.847 ,342.243,342.769,342.929,342.917, 342.904,342.885,342.872,342.859,342.847 ,342.833,342.821,342.808,342.795, 342.782,342.768,342.755,342.742,342.728 ,342.707,342.694,342.68,342.665,342.652 ,342.637,342.622,342.608,342.593, 342.571,342.556,342.541,342.525,342.502 ,342.486,342.47,342.453,342.437,342.421 ,342.404,342.387,342.369,342.352, 342.334,342.316,342.298,342.279,342.26, 342.241,342.222,342.202,342.182, 341.445)
ORBIT_NUMBER = 1293
ORBITAL_ECCENTRICITY = 0.569
ORBITAL_INCLINATION = 86.61
ORBITAL_SEMIMAJOR_AXIS = 8572.71
PERIAPSIS_ALTITUDE = 310.13
PERIAPSIS_ARGUMENT_ANGLE = 133.33
PERIAPSIS_TIME = 2005-01-19T19:02:28.000Z
SPACECRAFT_ORIENTATION = (0.0,-1.0,0.0)
^MEX_ORIENTATION_DESC = "MEX_ORIENTATION_DESC.TXT"
SPACECRAFT_POINTING_MODE = ACROSSTRACK
^MEX_POINTING_DESC = "MEX_POINTING_DESC.TXT"
RIGHT_ASCENSION = -1e+32
DECLINATION = -1e+32
OFFSET_ANGLE = -0.916
SPACECRAFT_SOLAR_DISTANCE = 2.31273e+08
TARGET_NAME = MARS
/* CAMERA DATA ELEMENTS */
DETECTOR_TEMPERATURE = 18.1666
FOCAL_PLANE_TEMPERATURE = 7.9716
INST_CMPRS_NAME = "DISCRETE COSINE TRANSFORMATION (DCT)"
INST_CMPRS_RATIO = 11.0453
INST_CMPRS_QUALITY = 0
INST_CMPRS_QUANTZ_TBL_ID = 0
INSTRUMENT_TEMPERATURE = 10.8262
LENS_TEMPERATURE = 8.3794
MACROPIXEL_SIZE = 4
MISSING_FRAMES = 0
PIXEL_SUBSAMPLING_FLAG = N
SIGNAL_CHAIN_ID = 2
/* RADIOMETRIC DATA ELEMENTS */
BANDWIDTH = 48.0
CENTER_FILTER_WAVELENGTH = 748.0
RADIANCE_OFFSET = 1.16976
RADIANCE_SCALING_FACTOR = 0.00888785
REFLECTANCE_SCALING_FACTOR = 0.00108486
MEX:REFLECTANCE_OFFSET = 0.142781
/* IMAGE OBJECT DEFINITIONS */
OBJECT = IMAGE
  INTERCHANGE_FORMAT = BINARY
  LINES = 24355
  LINE_SAMPLES = 2269
  SAMPLE_TYPE = UNSIGNED_INTEGER
  SAMPLE_BITS = 8
  BANDS = 1
  BAND_STORAGE_TYPE = BAND_SEQUENTIAL
  MAXIMUM = 146
  MEAN = 87.266
  MINIMUM = 45
  STANDARD_DEVIATION = 16.7886
END_OBJECT = IMAGE
/* MAP OBJECT DEFINITIONS */
OBJECT = IMAGE_MAP_PROJECTION
  ^DATA_SET_MAP_PROJECTION_CATALOG= "DSMAP.CAT"
  A_AXIS_RADIUS = 3396.0
  B_AXIS_RADIUS = 3396.0
  C_AXIS_RADIUS = 3396.0
  CENTER_LATITUDE = 0.0
  CENTER_LONGITUDE = 342.0
  COORDINATE_SYSTEM_NAME = PLANETOGRAPHIC
  COORDINATE_SYSTEM_TYPE = "BODY-FIXED ROTATING"
  EASTERNMOST_LONGITUDE = 342.929
  FIRST_STANDARD_PARALLEL = "N/A"
  LINE_FIRST_PIXEL = 1
  LINE_LAST_PIXEL = 24355
  LINE_PROJECTION_OFFSET = 47493.625
  MAP_PROJECTION_ROTATION = 0.0
  MAP_PROJECTION_TYPE = SINUSOIDAL
  MAP_RESOLUTION = 1185.42760773333
  MAP_SCALE = 0.05
  MAXIMUM_LATITUDE = 40.0506
  MINIMUM_LATITUDE = 19.5107
  POSITIVE_LONGITUDE_DIRECTION = EAST
  REFERENCE_LATITUDE = "N/A"
  REFERENCE_LONGITUDE = "N/A"
  SAMPLE_FIRST_PIXEL = 1
  SAMPLE_LAST_PIXEL = 2269
  SAMPLE_PROJECTION_OFFSET = 1274.625
  SECOND_STANDARD_PARALLEL = "N/A"
  WESTERNMOST_LONGITUDE = 340.653
END_OBJECT = IMAGE_MAP_PROJECTION
/* The JPEG2000 image data file associated with this label. */
OBJECT = COMPRESSED_FILE
  FILE_NAME = "H1293_0000_RE3.JP2"
  RECORD_TYPE = UNDEFINED
  FILE_RECORDS = UNK
  ENCODING_TYPE = "JP2"
  INTERCHANGE_FORMAT = BINARY
  UNCOMPRESSED_FILE_NAME = "H1293_0000_RE3.IMG"
  REQUIRED_STORAGE_BYTES = "55284185"
  ^DESCRIPTION = "JP2INFO.TXT"
END_OBJECT = COMPRESSED_FILE
END
