PDS_VERSION_ID = PDS3
/* FILE DATA ELEMENTS */
RECORD_TYPE = STREAM
/* POINTERS TO DATA OBJECTS */
^COMPRESSED_FILE = "H1293_0003_SR3.JP2"
/* IDENTIFICATION DATA ELEMENTS */
DATA_SET_ID = "MEX-M-HRSC-5-REFDR-MAPPROJECTED-V3.0"
DATA_SET_NAME = "MARS EXPRESS HRSC MAP PROJECTED REFDR V3.0"
DETECTOR_ID = MEX_HRSC_SRC
EVENT_TYPE = "MARS-REGIONAL-STEREO-Fl-Lc-Eo"
INSTRUMENT_HOST_ID = MEX
INSTRUMENT_HOST_NAME = "MARS EXPRESS"
INSTRUMENT_ID = HRSC
INSTRUMENT_NAME = "HIGH RESOLUTION STEREO CAMERA"
MISSION_NAME = "MARS EXPRESS"
MISSION_PHASE_NAME = MR_Phase_4
PROCESSING_LEVEL_ID = 3
PRODUCT_CREATION_TIME = 2016-03-04T20:31:26.000Z
PRODUCT_ID = "H1293_0003_SR3.JP2"
RELEASE_ID = 0017
REVISION_ID = 0000
/* QUALITY DATA ELEMENTS */
DATA_QUALITY_ID = 1
DATA_QUALITY_DESC = "Data calculated based on original SPICE kernels"
/* TIME DATA ELEMENTS */
SPACECRAFT_CLOCK_START_COUNT = "1/0054241410.57157"
SPACECRAFT_CLOCK_STOP_COUNT = "1/0054241812.14590"
IMAGE_TIME = 2005-01-19T19:08:41.351Z
START_TIME = 2005-01-19T19:08:41.349Z
STOP_TIME = 2005-01-19T19:08:41.354Z
/* ORBITAL DATA ELEMENTS */
ASCENDING_NODE_LONGITUDE = 201.48
MAXIMUM_RESOLUTION = 3.94
FOOTPRINT_POINT_LATITUDE = (22.431,22.4338,22.4364,22.4404,22.4437 ,22.4456,22.448,22.4506,22.4538,22.4564 ,22.4583,22.4604,22.4636,22.466,22.4682 ,22.4713,22.4733,22.4766,22.479,22.4809 ,22.4839,22.4873,22.4895,22.4919,22.495 ,22.4959,22.496,22.496,22.496,22.496, 22.4961,22.4961,22.4961,22.4962,22.4962 ,22.4962,22.4962,22.4963,22.4963, 22.4963,22.4963,22.4964,22.4964,22.4964 ,22.4964,22.4965,22.4965,22.4965, 22.4965,22.4966,22.4942,22.492,22.4889, 22.4854,22.4835,22.4809,22.4773,22.474, 22.4723,22.4694,22.4664,22.463,22.4608, 22.4578,22.4552,22.4527,22.4508,22.4479 ,22.4457,22.4436,22.441,22.4369,22.4341 ,22.4315,22.4295,22.4295,22.4295, 22.4294,22.4294,22.4294,22.4293,22.4293 ,22.4293,22.4293,22.4292,22.4292, 22.4292,22.4291,22.4291,22.4291,22.429, 22.429,22.429,22.429,22.4289,22.4289, 22.4289,22.4288,22.4288,22.431)
FOOTPRINT_POINT_LONGITUDE = (341.974,341.974,341.974,341.974, 341.974,341.974,341.974,341.974,341.974 ,341.973,341.973,341.973,341.973, 341.973,341.973,341.973,341.973,341.973 ,341.973,341.973,341.973,341.973, 341.973,341.973,341.973,341.975,341.978 ,341.981,341.984,341.987,341.99,341.993 ,341.996,341.999,342.002,342.004, 342.007,342.01,342.013,342.016,342.019, 342.022,342.025,342.028,342.031,342.034 ,342.036,342.039,342.042,342.045, 342.047,342.047,342.047,342.047,342.047 ,342.047,342.047,342.047,342.047, 342.047,342.047,342.048,342.048,342.048 ,342.048,342.048,342.048,342.048, 342.048,342.048,342.048,342.048,342.048 ,342.048,342.046,342.043,342.04,342.037 ,342.034,342.031,342.028,342.025, 342.022,342.019,342.017,342.014,342.011 ,342.008,342.005,342.002,341.999, 341.996,341.993,341.99,341.987,341.984, 341.982,341.979,341.976,341.974)
ORBIT_NUMBER = 1293
ORBITAL_ECCENTRICITY = 0.569
ORBITAL_INCLINATION = 86.61
ORBITAL_SEMIMAJOR_AXIS = 8572.71
PERIAPSIS_ALTITUDE = 310.13
PERIAPSIS_ARGUMENT_ANGLE = 133.33
PERIAPSIS_TIME = 2005-01-19T19:02:28.000Z
SPACECRAFT_ORIENTATION = (0.0,-1.0,0.0)
^MEX_ORIENTATION_DESC = "MEX_ORIENTATION_DESC.TXT"
SPACECRAFT_POINTING_MODE = ACROSSTRACK
^MEX_POINTING_DESC = "MEX_POINTING_DESC.TXT"
RIGHT_ASCENSION = -1e+32
DECLINATION = -1e+32
OFFSET_ANGLE = -0.916
SPACECRAFT_SOLAR_DISTANCE = 2.31273e+08
TARGET_NAME = MARS
/* CAMERA DATA ELEMENTS */
BUFFER_MODE_ID = BUFFER_8
EXPOSURE_DURATION = 5.04
INST_CMPRS_NAME = NONE
INST_CMPRS_RATIO = 1.0
INST_CMPRS_QUALITY = -2147483648
INST_CMPRS_QUANTZ_TBL_ID = -2147483648
INSTRUMENT_TEMPERATURE = 11.2121
MISSING_FRAMES = 0
START_BIT = 0
/* RADIOMETRIC DATA ELEMENTS */
BANDWIDTH = 250.0
CENTER_FILTER_WAVELENGTH = 600.0
RADIANCE_OFFSET = -9.99e+31
RADIANCE_SCALING_FACTOR = -9.99e+31
REFLECTANCE_SCALING_FACTOR = -9.99e+31
MEX:REFLECTANCE_OFFSET = -9.99e+31
/* IMAGE OBJECT DEFINITIONS */
OBJECT = IMAGE
  INTERCHANGE_FORMAT = BINARY
  LINES = 850
  LINE_SAMPLES = 867
  SAMPLE_TYPE = UNSIGNED_INTEGER
  SAMPLE_BITS = 8
  BANDS = 1
  BAND_STORAGE_TYPE = BAND_SEQUENTIAL
  MAXIMUM = 7342
  MEAN = 5821.38
  MINIMUM = 4701
  STANDARD_DEVIATION = 305.662
END_OBJECT = IMAGE
/* MAP OBJECT DEFINITIONS */
OBJECT = IMAGE_MAP_PROJECTION
  ^DATA_SET_MAP_PROJECTION_CATALOG= "DSMAP.CAT"
  A_AXIS_RADIUS = 3396.19
  B_AXIS_RADIUS = 3396.19
  C_AXIS_RADIUS = 3396.19
  CENTER_LATITUDE = 0.0
  CENTER_LONGITUDE = 342.0
  COORDINATE_SYSTEM_NAME = PLANETOGRAPHIC
  COORDINATE_SYSTEM_TYPE = "BODY-FIXED ROTATING"
  EASTERNMOST_LONGITUDE = 342.048
  FIRST_STANDARD_PARALLEL = "N/A"
  LINE_FIRST_PIXEL = 1
  LINE_LAST_PIXEL = 850
  LINE_PROJECTION_OFFSET = 266638.0
  MAP_PROJECTION_ROTATION = 0.0
  MAP_PROJECTION_TYPE = SINUSOIDAL
  MAP_RESOLUTION = 11854.9393024378
  MAP_SCALE = 0.005
  MAXIMUM_LATITUDE = 22.4966
  MINIMUM_LATITUDE = 22.4288
  POSITIVE_LONGITUDE_DIRECTION = EAST
  REFERENCE_LATITUDE = "N/A"
  REFERENCE_LONGITUDE = "N/A"
  SAMPLE_FIRST_PIXEL = 1
  SAMPLE_LAST_PIXEL = 867
  SAMPLE_PROJECTION_OFFSET = 398.0
  SECOND_STANDARD_PARALLEL = "N/A"
  WESTERNMOST_LONGITUDE = 341.973
END_OBJECT = IMAGE_MAP_PROJECTION
/* The JPEG2000 image data file associated with this label. */
OBJECT = COMPRESSED_FILE
  FILE_NAME = "H1293_0003_SR3.JP2"
  RECORD_TYPE = UNDEFINED
  FILE_RECORDS = UNK
  ENCODING_TYPE = "JP2"
  INTERCHANGE_FORMAT = BINARY
  UNCOMPRESSED_FILE_NAME = "H1293_0003_SR3.IMG"
  REQUIRED_STORAGE_BYTES = "755157"
  ^DESCRIPTION = "JP2INFO.TXT"
END_OBJECT = COMPRESSED_FILE
END
