PDS_VERSION_ID = PDS3
/* FILE DATA ELEMENTS */
RECORD_TYPE = STREAM
/* POINTERS TO DATA OBJECTS */
^COMPRESSED_FILE = "H1293_0006_SR3.JP2"
/* IDENTIFICATION DATA ELEMENTS */
DATA_SET_ID = "MEX-M-HRSC-5-REFDR-MAPPROJECTED-V3.0"
DATA_SET_NAME = "MARS EXPRESS HRSC MAP PROJECTED REFDR V3.0"
DETECTOR_ID = MEX_HRSC_SRC
EVENT_TYPE = "MARS-REGIONAL-STEREO-Fl-Lc-Eo"
INSTRUMENT_HOST_ID = MEX
INSTRUMENT_HOST_NAME = "MARS EXPRESS"
INSTRUMENT_ID = HRSC
INSTRUMENT_NAME = "HIGH RESOLUTION STEREO CAMERA"
MISSION_NAME = "MARS EXPRESS"
MISSION_PHASE_NAME = MR_Phase_4
PROCESSING_LEVEL_ID = 3
PRODUCT_CREATION_TIME = 2016-03-04T20:31:26.000Z
PRODUCT_ID = "H1293_0006_SR3.JP2"
RELEASE_ID = 0017
REVISION_ID = 0000
/* QUALITY DATA ELEMENTS */
DATA_QUALITY_ID = 1
DATA_QUALITY_DESC = "Data calculated based on original SPICE kernels"
/* TIME DATA ELEMENTS */
SPACECRAFT_CLOCK_START_COUNT = "1/0054241410.57157"
SPACECRAFT_CLOCK_STOP_COUNT = "1/0054241812.14590"
IMAGE_TIME = 2005-01-19T19:08:42.986Z
START_TIME = 2005-01-19T19:08:42.984Z
STOP_TIME = 2005-01-19T19:08:42.989Z
/* ORBITAL DATA ELEMENTS */
ASCENDING_NODE_LONGITUDE = 201.48
MAXIMUM_RESOLUTION = 3.949
FOOTPRINT_POINT_LATITUDE = (22.3277,22.3298,22.3331,22.3355, 22.3387,22.3411,22.3444,22.347,22.349, 22.3531,22.3564,22.3589,22.362,22.3641, 22.3664,22.369,22.3713,22.374,22.3775, 22.3811,22.3837,22.3854,22.388,22.3909, 22.3933,22.3951,22.3951,22.3951,22.3951 ,22.3952,22.3952,22.3952,22.3952, 22.3953,22.3953,22.3953,22.3953,22.3954 ,22.3954,22.3954,22.3954,22.3955, 22.3955,22.3955,22.3956,22.3956,22.3956 ,22.3956,22.3957,22.3957,22.3932, 22.3906,22.3888,22.3857,22.3821,22.3787 ,22.3765,22.373,22.3706,22.368,22.365, 22.3615,22.359,22.3557,22.3534,22.3507, 22.3486,22.3468,22.3438,22.3411,22.338, 22.3359,22.3328,22.3304,22.3285,22.3285 ,22.3284,22.3284,22.3284,22.3283, 22.3283,22.3283,22.3282,22.3282,22.3282 ,22.3282,22.3281,22.3281,22.3281,22.328 ,22.328,22.328,22.3279,22.3279,22.3279, 22.3279,22.3278,22.3278,22.3278, 22.3277)
FOOTPRINT_POINT_LONGITUDE = (341.975,341.975,341.975,341.975, 341.975,341.975,341.975,341.975,341.975 ,341.975,341.975,341.975,341.974, 341.974,341.974,341.974,341.974,341.974 ,341.974,341.974,341.974,341.974, 341.974,341.974,341.974,341.976,341.979 ,341.982,341.985,341.988,341.991, 341.994,341.997,342.0,342.003,342.006, 342.009,342.011,342.014,342.017,342.02, 342.023,342.026,342.029,342.032,342.035 ,342.038,342.041,342.044,342.046, 342.048,342.048,342.048,342.048,342.048 ,342.049,342.049,342.049,342.049, 342.049,342.049,342.049,342.049,342.049 ,342.049,342.049,342.049,342.049, 342.049,342.049,342.049,342.049,342.049 ,342.049,342.048,342.045,342.042,342.04 ,342.037,342.034,342.031,342.028, 342.025,342.022,342.019,342.016,342.013 ,342.01,342.007,342.005,342.002,341.999 ,341.996,341.993,341.99,341.987,341.984 ,341.981,341.978,341.975)
ORBIT_NUMBER = 1293
ORBITAL_ECCENTRICITY = 0.569
ORBITAL_INCLINATION = 86.61
ORBITAL_SEMIMAJOR_AXIS = 8572.71
PERIAPSIS_ALTITUDE = 310.13
PERIAPSIS_ARGUMENT_ANGLE = 133.33
PERIAPSIS_TIME = 2005-01-19T19:02:28.000Z
SPACECRAFT_ORIENTATION = (0.0,-1.0,0.0)
^MEX_ORIENTATION_DESC = "MEX_ORIENTATION_DESC.TXT"
SPACECRAFT_POINTING_MODE = ACROSSTRACK
^MEX_POINTING_DESC = "MEX_POINTING_DESC.TXT"
RIGHT_ASCENSION = -1e+32
DECLINATION = -1e+32
OFFSET_ANGLE = -0.916
SPACECRAFT_SOLAR_DISTANCE = 2.31273e+08
TARGET_NAME = MARS
/* CAMERA DATA ELEMENTS */
BUFFER_MODE_ID = BUFFER_8
EXPOSURE_DURATION = 5.04
INST_CMPRS_NAME = NONE
INST_CMPRS_RATIO = 1.0
INST_CMPRS_QUALITY = -2147483648
INST_CMPRS_QUANTZ_TBL_ID = -2147483648
INSTRUMENT_TEMPERATURE = 11.2121
MISSING_FRAMES = 0
START_BIT = 0
/* RADIOMETRIC DATA ELEMENTS */
BANDWIDTH = 250.0
CENTER_FILTER_WAVELENGTH = 600.0
RADIANCE_OFFSET = -9.99e+31
RADIANCE_SCALING_FACTOR = -9.99e+31
REFLECTANCE_SCALING_FACTOR = -9.99e+31
MEX:REFLECTANCE_OFFSET = -9.99e+31
/* IMAGE OBJECT DEFINITIONS */
OBJECT = IMAGE
  INTERCHANGE_FORMAT = BINARY
  LINES = 852
  LINE_SAMPLES = 869
  SAMPLE_TYPE = UNSIGNED_INTEGER
  SAMPLE_BITS = 8
  BANDS = 1
  BAND_STORAGE_TYPE = BAND_SEQUENTIAL
  MAXIMUM = 8159
  MEAN = 5686.08
  MINIMUM = 4485
  STANDARD_DEVIATION = 405.841
END_OBJECT = IMAGE
/* MAP OBJECT DEFINITIONS */
OBJECT = IMAGE_MAP_PROJECTION
  ^DATA_SET_MAP_PROJECTION_CATALOG= "DSMAP.CAT"
  A_AXIS_RADIUS = 3396.19
  B_AXIS_RADIUS = 3396.19
  C_AXIS_RADIUS = 3396.19
  CENTER_LATITUDE = 0.0
  CENTER_LONGITUDE = 342.0
  COORDINATE_SYSTEM_NAME = PLANETOGRAPHIC
  COORDINATE_SYSTEM_TYPE = "BODY-FIXED ROTATING"
  EASTERNMOST_LONGITUDE = 342.049
  FIRST_STANDARD_PARALLEL = "N/A"
  LINE_FIRST_PIXEL = 1
  LINE_LAST_PIXEL = 852
  LINE_PROJECTION_OFFSET = 265443.0
  MAP_PROJECTION_ROTATION = 0.0
  MAP_PROJECTION_TYPE = SINUSOIDAL
  MAP_RESOLUTION = 11854.9393024378
  MAP_SCALE = 0.005
  MAXIMUM_LATITUDE = 22.3957
  MINIMUM_LATITUDE = 22.3277
  POSITIVE_LONGITUDE_DIRECTION = EAST
  REFERENCE_LATITUDE = "N/A"
  REFERENCE_LONGITUDE = "N/A"
  SAMPLE_FIRST_PIXEL = 1
  SAMPLE_LAST_PIXEL = 869
  SAMPLE_PROJECTION_OFFSET = 386.0
  SECOND_STANDARD_PARALLEL = "N/A"
  WESTERNMOST_LONGITUDE = 341.974
END_OBJECT = IMAGE_MAP_PROJECTION
/* The JPEG2000 image data file associated with this label. */
OBJECT = COMPRESSED_FILE
  FILE_NAME = "H1293_0006_SR3.JP2"
  RECORD_TYPE = UNDEFINED
  FILE_RECORDS = UNK
  ENCODING_TYPE = "JP2"
  INTERCHANGE_FORMAT = BINARY
  UNCOMPRESSED_FILE_NAME = "H1293_0006_SR3.IMG"
  REQUIRED_STORAGE_BYTES = "758637"
  ^DESCRIPTION = "JP2INFO.TXT"
END_OBJECT = COMPRESSED_FILE
END
