PDS_VERSION_ID = PDS3
/* FILE DATA ELEMENTS */
RECORD_TYPE = STREAM
/* POINTERS TO DATA OBJECTS */
^COMPRESSED_FILE = "H1301_0002_SR3.JP2"
/* IDENTIFICATION DATA ELEMENTS */
DATA_SET_ID = "MEX-M-HRSC-5-REFDR-MAPPROJECTED-V3.0"
DATA_SET_NAME = "MARS EXPRESS HRSC MAP PROJECTED REFDR V3.0"
DETECTOR_ID = MEX_HRSC_SRC
EVENT_TYPE = "MARS-REGIONAL-STEREO-Vo-Te"
INSTRUMENT_HOST_ID = MEX
INSTRUMENT_HOST_NAME = "MARS EXPRESS"
INSTRUMENT_ID = HRSC
INSTRUMENT_NAME = "HIGH RESOLUTION STEREO CAMERA"
MISSION_NAME = "MARS EXPRESS"
MISSION_PHASE_NAME = MR_Phase_4
PROCESSING_LEVEL_ID = 3
PRODUCT_CREATION_TIME = 2016-03-05T01:52:25.000Z
PRODUCT_ID = "H1301_0002_SR3.JP2"
RELEASE_ID = 0018
REVISION_ID = 0000
/* QUALITY DATA ELEMENTS */
DATA_QUALITY_ID = 1
DATA_QUALITY_DESC = "Data calculated based on original SPICE kernels"
/* TIME DATA ELEMENTS */
SPACECRAFT_CLOCK_START_COUNT = "1/0054435000.57967"
SPACECRAFT_CLOCK_STOP_COUNT = "1/0054435288.62923"
IMAGE_TIME = 2005-01-22T00:53:42.484Z
START_TIME = 2005-01-22T00:53:42.482Z
STOP_TIME = 2005-01-22T00:53:42.487Z
/* ORBITAL DATA ELEMENTS */
ASCENDING_NODE_LONGITUDE = 201.31
MAXIMUM_RESOLUTION = 3.502
FOOTPRINT_POINT_LATITUDE = (28.2941,28.2961,28.2988,28.302,28.3043 ,28.3072,28.3093,28.3116,28.3143, 28.3163,28.3195,28.3221,28.3238,28.3253 ,28.3282,28.3298,28.3316,28.3338, 28.3359,28.3381,28.3397,28.3411,28.3431 ,28.3446,28.3466,28.35,28.3526,28.3532, 28.3532,28.3532,28.3532,28.3533,28.3533 ,28.3533,28.3534,28.3534,28.3534, 28.3534,28.3535,28.3535,28.3535,28.3536 ,28.3536,28.3536,28.3536,28.3537, 28.3537,28.3537,28.3537,28.3538,28.3538 ,28.353,28.3495,28.3469,28.3448,28.3418 ,28.3393,28.337,28.334,28.3317,28.3296, 28.3274,28.3238,28.3205,28.3173,28.3144 ,28.3125,28.3107,28.3079,28.3058, 28.3041,28.3024,28.3007,28.2988,28.2965 ,28.2943,28.2942,28.2942,28.2942, 28.2941,28.2941,28.2941,28.2941,28.294, 28.294,28.294,28.294,28.2939,28.2939, 28.2939,28.2939,28.2938,28.2938,28.2938 ,28.2937,28.2937,28.2937,28.2937, 28.2936,28.2941)
FOOTPRINT_POINT_LONGITUDE = (276.529,276.529,276.529,276.529, 276.529,276.529,276.529,276.529,276.529 ,276.528,276.528,276.528,276.528, 276.528,276.528,276.528,276.528,276.528 ,276.528,276.528,276.528,276.528, 276.528,276.528,276.528,276.528,276.528 ,276.53,276.532,276.535,276.538,276.541 ,276.544,276.547,276.55,276.552,276.555 ,276.558,276.56,276.563,276.566,276.569 ,276.572,276.574,276.577,276.58,276.582 ,276.585,276.588,276.591,276.593, 276.596,276.596,276.596,276.596,276.596 ,276.597,276.597,276.597,276.597, 276.597,276.597,276.597,276.597,276.597 ,276.597,276.597,276.597,276.597, 276.597,276.597,276.597,276.597,276.597 ,276.597,276.595,276.593,276.591, 276.588,276.584,276.581,276.579,276.576 ,276.574,276.572,276.569,276.566, 276.563,276.56,276.558,276.555,276.553, 276.549,276.546,276.543,276.541,276.539 ,276.536,276.532,276.529)
ORBIT_NUMBER = 1301
ORBITAL_ECCENTRICITY = 0.569
ORBITAL_INCLINATION = 86.6
ORBITAL_SEMIMAJOR_AXIS = 8576.92
PERIAPSIS_ALTITUDE = 310.39
PERIAPSIS_ARGUMENT_ANGLE = 131.91
PERIAPSIS_TIME = 2005-01-22T00:48:40.000Z
SPACECRAFT_ORIENTATION = (0.0,-1.0,0.0)
^MEX_ORIENTATION_DESC = "MEX_ORIENTATION_DESC.TXT"
SPACECRAFT_POINTING_MODE = NADIR
^MEX_POINTING_DESC = "MEX_POINTING_DESC.TXT"
RIGHT_ASCENSION = -1e+32
DECLINATION = -1e+32
OFFSET_ANGLE = -1e+32
SPACECRAFT_SOLAR_DISTANCE = 2.30847e+08
TARGET_NAME = MARS
/* CAMERA DATA ELEMENTS */
BUFFER_MODE_ID = BUFFER_8
EXPOSURE_DURATION = 5.04
INST_CMPRS_NAME = NONE
INST_CMPRS_RATIO = 1.0
INST_CMPRS_QUALITY = -2147483648
INST_CMPRS_QUANTZ_TBL_ID = -2147483648
INSTRUMENT_TEMPERATURE = 8.91547
MISSING_FRAMES = 0
START_BIT = 0
/* RADIOMETRIC DATA ELEMENTS */
BANDWIDTH = 250.0
CENTER_FILTER_WAVELENGTH = 600.0
RADIANCE_OFFSET = -9.99e+31
RADIANCE_SCALING_FACTOR = -9.99e+31
REFLECTANCE_SCALING_FACTOR = -9.99e+31
MEX:REFLECTANCE_OFFSET = -9.99e+31
/* IMAGE OBJECT DEFINITIONS */
OBJECT = IMAGE
  INTERCHANGE_FORMAT = BINARY
  LINES = 1486
  LINE_SAMPLES = 1494
  SAMPLE_TYPE = UNSIGNED_INTEGER
  SAMPLE_BITS = 8
  BANDS = 1
  BAND_STORAGE_TYPE = BAND_SEQUENTIAL
  MAXIMUM = 9729
  MEAN = 9247.26
  MINIMUM = 7949
  STANDARD_DEVIATION = 105.52
END_OBJECT = IMAGE
/* MAP OBJECT DEFINITIONS */
OBJECT = IMAGE_MAP_PROJECTION
  ^DATA_SET_MAP_PROJECTION_CATALOG= "DSMAP.CAT"
  A_AXIS_RADIUS = 3396.19
  B_AXIS_RADIUS = 3396.19
  C_AXIS_RADIUS = 3396.19
  CENTER_LATITUDE = 0.0
  CENTER_LONGITUDE = 277.0
  COORDINATE_SYSTEM_NAME = PLANETOGRAPHIC
  COORDINATE_SYSTEM_TYPE = "BODY-FIXED ROTATING"
  EASTERNMOST_LONGITUDE = 276.597
  FIRST_STANDARD_PARALLEL = "N/A"
  LINE_FIRST_PIXEL = 1
  LINE_LAST_PIXEL = 1486
  LINE_PROJECTION_OFFSET = 671994.0
  MAP_PROJECTION_ROTATION = 0.0
  MAP_PROJECTION_TYPE = SINUSOIDAL
  MAP_RESOLUTION = 23709.8786048756
  MAP_SCALE = 0.0025
  MAXIMUM_LATITUDE = 28.3538
  MINIMUM_LATITUDE = 28.2936
  POSITIVE_LONGITUDE_DIRECTION = EAST
  REFERENCE_LATITUDE = "N/A"
  REFERENCE_LONGITUDE = "N/A"
  SAMPLE_FIRST_PIXEL = 1
  SAMPLE_LAST_PIXEL = 1494
  SAMPLE_PROJECTION_OFFSET = 9863.0
  SECOND_STANDARD_PARALLEL = "N/A"
  WESTERNMOST_LONGITUDE = 276.528
END_OBJECT = IMAGE_MAP_PROJECTION
/* The JPEG2000 image data file associated with this label. */
OBJECT = COMPRESSED_FILE
  FILE_NAME = "H1301_0002_SR3.JP2"
  RECORD_TYPE = UNDEFINED
  FILE_RECORDS = UNK
  ENCODING_TYPE = "JP2"
  INTERCHANGE_FORMAT = BINARY
  UNCOMPRESSED_FILE_NAME = "H1301_0002_SR3.IMG"
  REQUIRED_STORAGE_BYTES = "2239506"
  ^DESCRIPTION = "JP2INFO.TXT"
END_OBJECT = COMPRESSED_FILE
END
