PDS_VERSION_ID = PDS3
/* FILE DATA ELEMENTS */
RECORD_TYPE = STREAM
/* POINTERS TO DATA OBJECTS */
^COMPRESSED_FILE = "H1301_0004_SR3.JP2"
/* IDENTIFICATION DATA ELEMENTS */
DATA_SET_ID = "MEX-M-HRSC-5-REFDR-MAPPROJECTED-V3.0"
DATA_SET_NAME = "MARS EXPRESS HRSC MAP PROJECTED REFDR V3.0"
DETECTOR_ID = MEX_HRSC_SRC
EVENT_TYPE = "MARS-REGIONAL-STEREO-Vo-Te"
INSTRUMENT_HOST_ID = MEX
INSTRUMENT_HOST_NAME = "MARS EXPRESS"
INSTRUMENT_ID = HRSC
INSTRUMENT_NAME = "HIGH RESOLUTION STEREO CAMERA"
MISSION_NAME = "MARS EXPRESS"
MISSION_PHASE_NAME = MR_Phase_4
PROCESSING_LEVEL_ID = 3
PRODUCT_CREATION_TIME = 2016-03-05T01:52:25.000Z
PRODUCT_ID = "H1301_0004_SR3.JP2"
RELEASE_ID = 0018
REVISION_ID = 0000
/* QUALITY DATA ELEMENTS */
DATA_QUALITY_ID = 1
DATA_QUALITY_DESC = "Data calculated based on original SPICE kernels"
/* TIME DATA ELEMENTS */
SPACECRAFT_CLOCK_START_COUNT = "1/0054435000.57967"
SPACECRAFT_CLOCK_STOP_COUNT = "1/0054435288.62923"
IMAGE_TIME = 2005-01-22T00:53:43.574Z
START_TIME = 2005-01-22T00:53:43.572Z
STOP_TIME = 2005-01-22T00:53:43.577Z
/* ORBITAL DATA ELEMENTS */
ASCENDING_NODE_LONGITUDE = 201.31
MAXIMUM_RESOLUTION = 3.507
FOOTPRINT_POINT_LATITUDE = (28.2251,28.2271,28.2293,28.2308, 28.2335,28.2358,28.2395,28.2427,28.2454 ,28.2471,28.2494,28.2528,28.2559, 28.2574,28.2597,28.2628,28.2651,28.2683 ,28.2713,28.2741,28.2759,28.2775, 28.2799,28.2818,28.2833,28.2843,28.2844 ,28.2844,28.2844,28.2844,28.2845, 28.2845,28.2845,28.2846,28.2846,28.2846 ,28.2846,28.2847,28.2847,28.2847, 28.2847,28.2848,28.2848,28.2848,28.2849 ,28.2849,28.2849,28.2849,28.285,28.285, 28.2821,28.2795,28.2773,28.2746,28.2728 ,28.271,28.2683,28.2659,28.264,28.2611, 28.2577,28.2561,28.254,28.2506,28.2487, 28.2456,28.2441,28.2417,28.2387,28.2366 ,28.2336,28.2314,28.2296,28.2259, 28.2253,28.2253,28.2252,28.2252,28.2252 ,28.2252,28.2251,28.2251,28.2251, 28.2251,28.225,28.225,28.225,28.225, 28.2249,28.2249,28.2249,28.2249,28.2248 ,28.2248,28.2248,28.2247,28.2247, 28.2247,28.2247,28.2251)
FOOTPRINT_POINT_LONGITUDE = (276.53,276.53,276.53,276.53,276.53, 276.529,276.529,276.529,276.529,276.529 ,276.529,276.529,276.529,276.529, 276.529,276.529,276.529,276.529,276.529 ,276.529,276.529,276.529,276.529, 276.529,276.529,276.532,276.534,276.537 ,276.539,276.542,276.545,276.548,276.55 ,276.553,276.556,276.559,276.562, 276.565,276.567,276.57,276.573,276.575, 276.578,276.581,276.583,276.586,276.589 ,276.591,276.593,276.595,276.597, 276.597,276.597,276.597,276.597,276.597 ,276.597,276.597,276.597,276.598, 276.598,276.598,276.598,276.598,276.598 ,276.598,276.598,276.598,276.598, 276.598,276.598,276.598,276.598,276.598 ,276.595,276.591,276.589,276.586, 276.583,276.58,276.578,276.575,276.572, 276.57,276.567,276.564,276.562,276.56, 276.558,276.555,276.553,276.55,276.547, 276.545,276.543,276.539,276.536,276.534 ,276.531,276.53)
ORBIT_NUMBER = 1301
ORBITAL_ECCENTRICITY = 0.569
ORBITAL_INCLINATION = 86.6
ORBITAL_SEMIMAJOR_AXIS = 8576.92
PERIAPSIS_ALTITUDE = 310.39
PERIAPSIS_ARGUMENT_ANGLE = 131.91
PERIAPSIS_TIME = 2005-01-22T00:48:40.000Z
SPACECRAFT_ORIENTATION = (0.0,-1.0,0.0)
^MEX_ORIENTATION_DESC = "MEX_ORIENTATION_DESC.TXT"
SPACECRAFT_POINTING_MODE = NADIR
^MEX_POINTING_DESC = "MEX_POINTING_DESC.TXT"
RIGHT_ASCENSION = -1e+32
DECLINATION = -1e+32
OFFSET_ANGLE = -1e+32
SPACECRAFT_SOLAR_DISTANCE = 2.30847e+08
TARGET_NAME = MARS
/* CAMERA DATA ELEMENTS */
BUFFER_MODE_ID = BUFFER_8
EXPOSURE_DURATION = 5.04
INST_CMPRS_NAME = NONE
INST_CMPRS_RATIO = 1.0
INST_CMPRS_QUALITY = -2147483648
INST_CMPRS_QUANTZ_TBL_ID = -2147483648
INSTRUMENT_TEMPERATURE = 9.0187
MISSING_FRAMES = 0
START_BIT = 0
/* RADIOMETRIC DATA ELEMENTS */
BANDWIDTH = 250.0
CENTER_FILTER_WAVELENGTH = 600.0
RADIANCE_OFFSET = -9.99e+31
RADIANCE_SCALING_FACTOR = -9.99e+31
REFLECTANCE_SCALING_FACTOR = -9.99e+31
MEX:REFLECTANCE_OFFSET = -9.99e+31
/* IMAGE OBJECT DEFINITIONS */
OBJECT = IMAGE
  INTERCHANGE_FORMAT = BINARY
  LINES = 1488
  LINE_SAMPLES = 1496
  SAMPLE_TYPE = UNSIGNED_INTEGER
  SAMPLE_BITS = 8
  BANDS = 1
  BAND_STORAGE_TYPE = BAND_SEQUENTIAL
  MAXIMUM = 9864
  MEAN = 9246.08
  MINIMUM = 7882
  STANDARD_DEVIATION = 106.941
END_OBJECT = IMAGE
/* MAP OBJECT DEFINITIONS */
OBJECT = IMAGE_MAP_PROJECTION
  ^DATA_SET_MAP_PROJECTION_CATALOG= "DSMAP.CAT"
  A_AXIS_RADIUS = 3396.19
  B_AXIS_RADIUS = 3396.19
  C_AXIS_RADIUS = 3396.19
  CENTER_LATITUDE = 0.0
  CENTER_LONGITUDE = 277.0
  COORDINATE_SYSTEM_NAME = PLANETOGRAPHIC
  COORDINATE_SYSTEM_TYPE = "BODY-FIXED ROTATING"
  EASTERNMOST_LONGITUDE = 276.598
  FIRST_STANDARD_PARALLEL = "N/A"
  LINE_FIRST_PIXEL = 1
  LINE_LAST_PIXEL = 1488
  LINE_PROJECTION_OFFSET = 670364.0
  MAP_PROJECTION_ROTATION = 0.0
  MAP_PROJECTION_TYPE = SINUSOIDAL
  MAP_RESOLUTION = 23709.8786048756
  MAP_SCALE = 0.0025
  MAXIMUM_LATITUDE = 28.285
  MINIMUM_LATITUDE = 28.2247
  POSITIVE_LONGITUDE_DIRECTION = EAST
  REFERENCE_LATITUDE = "N/A"
  REFERENCE_LONGITUDE = "N/A"
  SAMPLE_FIRST_PIXEL = 1
  SAMPLE_LAST_PIXEL = 1496
  SAMPLE_PROJECTION_OFFSET = 9852.0
  SECOND_STANDARD_PARALLEL = "N/A"
  WESTERNMOST_LONGITUDE = 276.529
END_OBJECT = IMAGE_MAP_PROJECTION
/* The JPEG2000 image data file associated with this label. */
OBJECT = COMPRESSED_FILE
  FILE_NAME = "H1301_0004_SR3.JP2"
  RECORD_TYPE = UNDEFINED
  FILE_RECORDS = UNK
  ENCODING_TYPE = "JP2"
  INTERCHANGE_FORMAT = BINARY
  UNCOMPRESSED_FILE_NAME = "H1301_0004_SR3.IMG"
  REQUIRED_STORAGE_BYTES = "2245496"
  ^DESCRIPTION = "JP2INFO.TXT"
END_OBJECT = COMPRESSED_FILE
END
