PDS_VERSION_ID = PDS3
/* FILE DATA ELEMENTS */
RECORD_TYPE = STREAM
/* POINTERS TO DATA OBJECTS */
^COMPRESSED_FILE = "H1305_0000_BL3.JP2"
/* IDENTIFICATION DATA ELEMENTS */
DATA_SET_ID = "MEX-M-HRSC-5-REFDR-MAPPROJECTED-V3.0"
DATA_SET_NAME = "MARS EXPRESS HRSC MAP PROJECTED REFDR V3.0"
DETECTOR_ID = MEX_HRSC_BLUE
EVENT_TYPE = "MARS-REGIONAL-STEREO-Vo-Te-Fl"
INSTRUMENT_HOST_ID = MEX
INSTRUMENT_HOST_NAME = "MARS EXPRESS"
INSTRUMENT_ID = HRSC
INSTRUMENT_NAME = "HIGH RESOLUTION STEREO CAMERA"
MISSION_NAME = "MARS EXPRESS"
MISSION_PHASE_NAME = MR_Phase_4
PROCESSING_LEVEL_ID = 3
PRODUCT_CREATION_TIME = 2016-03-05T01:52:25.000Z
PRODUCT_ID = "H1305_0000_BL3.JP2"
RELEASE_ID = 0018
REVISION_ID = 0000
/* QUALITY DATA ELEMENTS */
DATA_QUALITY_ID = 1
DATA_QUALITY_DESC = "Data calculated based on original SPICE kernels"
/* TIME DATA ELEMENTS */
SPACECRAFT_CLOCK_START_COUNT = "1/0054531665.57265"
SPACECRAFT_CLOCK_STOP_COUNT = "1/0054532062.31378"
START_TIME = 2005-01-23T03:41:46.081Z
STOP_TIME = 2005-01-23T03:47:14.795Z
/* ORBITAL DATA ELEMENTS */
ASCENDING_NODE_LONGITUDE = 201.22
MAXIMUM_RESOLUTION = 49.5
FOOTPRINT_POINT_LATITUDE = (48.5402,48.5204,48.5051,48.117,47.5298 ,47.1383,46.5513,45.9645,45.5733, 45.1824,44.7915,44.401,44.0104,43.6202, 43.2684,42.6684,42.2654,41.8626,41.4602 ,41.0581,40.6565,40.2553,39.8545, 39.4541,39.0425,38.6293,38.2165,37.8044 ,37.3926,36.9815,36.5608,36.1369, 35.7136,35.2908,34.8687,34.4339,33.9995 ,33.5658,32.91,32.4645,32.0199,31.5758, 31.1195,30.6641,29.9764,29.51,29.0448, 28.3325,27.8569,27.3418,27.3445,27.3476 ,27.35,27.8374,28.3139,29.0281,29.4941, 29.9611,30.6507,31.1067,31.7871,32.2319 ,32.6775,33.3415,33.7754,34.2102, 34.6454,35.0753,35.4981,35.9218,36.3461 ,36.9806,37.3922,37.8046,38.2174, 38.6308,39.0448,39.458,39.8591,40.2607, 40.6626,41.0649,41.4676,41.8709,42.2743 ,42.6783,43.2805,43.6329,44.0244, 44.4158,44.8073,45.1993,45.7873,46.3757 ,46.7679,47.1604,47.5529,47.9453, 48.3379,48.5402)
FOOTPRINT_POINT_LONGITUDE = (243.171,242.512,242.074,241.868,241.92 ,241.953,242.0,242.045,242.075,242.103, 242.13,242.156,242.182,242.207,242.229, 242.264,242.285,242.307,242.327,242.347 ,242.365,242.383,242.399,242.416, 242.431,242.446,242.46,242.473,242.486, 242.498,242.509,242.521,242.531,242.541 ,242.55,242.559,242.568,242.575,242.586 ,242.593,242.599,242.604,242.609, 242.613,242.619,242.622,242.624,242.626 ,242.627,242.845,243.122,243.515, 243.981,244.179,244.169,244.153,244.143 ,244.132,244.116,244.105,244.088, 244.077,244.065,244.048,244.036,244.024 ,244.011,243.999,243.986,243.973,243.96 ,243.94,243.926,243.912,243.898,243.883 ,243.869,243.855,243.841,243.826, 243.811,243.796,243.781,243.766,243.75, 243.734,243.711,243.696,243.681,243.665 ,243.648,243.632,243.605,243.578, 243.559,243.539,243.519,243.498,243.477 ,243.171)
ORBIT_NUMBER = 1305
ORBITAL_ECCENTRICITY = 0.569
ORBITAL_INCLINATION = 86.61
ORBITAL_SEMIMAJOR_AXIS = 8575.64
PERIAPSIS_ALTITUDE = 310.58
PERIAPSIS_ARGUMENT_ANGLE = 131.17
PERIAPSIS_TIME = 2005-01-23T03:41:38.000Z
SPACECRAFT_ORIENTATION = (0.0,-1.0,0.0)
^MEX_ORIENTATION_DESC = "MEX_ORIENTATION_DESC.TXT"
SPACECRAFT_POINTING_MODE = NADIR
^MEX_POINTING_DESC = "MEX_POINTING_DESC.TXT"
RIGHT_ASCENSION = -1e+32
DECLINATION = -1e+32
OFFSET_ANGLE = -1e+32
SPACECRAFT_SOLAR_DISTANCE = 2.30634e+08
TARGET_NAME = MARS
/* CAMERA DATA ELEMENTS */
DETECTOR_TEMPERATURE = 17.9627
FOCAL_PLANE_TEMPERATURE = 7.5638
INST_CMPRS_NAME = "DISCRETE COSINE TRANSFORMATION (DCT)"
INST_CMPRS_RATIO = 25.5122
INST_CMPRS_QUALITY = 0
INST_CMPRS_QUANTZ_TBL_ID = 0
INSTRUMENT_TEMPERATURE = 11.0301
LENS_TEMPERATURE = 7.9716
MACROPIXEL_SIZE = 4
MISSING_FRAMES = 25
PIXEL_SUBSAMPLING_FLAG = N
SIGNAL_CHAIN_ID = 2
/* RADIOMETRIC DATA ELEMENTS */
BANDWIDTH = 76.0
CENTER_FILTER_WAVELENGTH = 444.0
RADIANCE_OFFSET = 0.846617
RADIANCE_SCALING_FACTOR = 0.00275628
REFLECTANCE_SCALING_FACTOR = 0.000150635
MEX:REFLECTANCE_OFFSET = 0.0462688
/* IMAGE OBJECT DEFINITIONS */
OBJECT = IMAGE
  INTERCHANGE_FORMAT = BINARY
  LINES = 25149
  LINE_SAMPLES = 2234
  SAMPLE_TYPE = UNSIGNED_INTEGER
  SAMPLE_BITS = 8
  BANDS = 1
  BAND_STORAGE_TYPE = BAND_SEQUENTIAL
  MAXIMUM = 140
  MEAN = 79.4578
  MINIMUM = 48
  STANDARD_DEVIATION = 6.36805
END_OBJECT = IMAGE
/* MAP OBJECT DEFINITIONS */
OBJECT = IMAGE_MAP_PROJECTION
  ^DATA_SET_MAP_PROJECTION_CATALOG= "DSMAP.CAT"
  A_AXIS_RADIUS = 3396.0
  B_AXIS_RADIUS = 3396.0
  C_AXIS_RADIUS = 3396.0
  CENTER_LATITUDE = 0.0
  CENTER_LONGITUDE = 243.0
  COORDINATE_SYSTEM_NAME = PLANETOGRAPHIC
  COORDINATE_SYSTEM_TYPE = "BODY-FIXED ROTATING"
  EASTERNMOST_LONGITUDE = 244.179
  FIRST_STANDARD_PARALLEL = "N/A"
  LINE_FIRST_PIXEL = 1
  LINE_LAST_PIXEL = 25149
  LINE_PROJECTION_OFFSET = 57570.375
  MAP_PROJECTION_ROTATION = 0.0
  MAP_PROJECTION_TYPE = SINUSOIDAL
  MAP_RESOLUTION = 1185.42760773333
  MAP_SCALE = 0.05
  MAXIMUM_LATITUDE = 48.5402
  MINIMUM_LATITUDE = 27.3418
  POSITIVE_LONGITUDE_DIRECTION = EAST
  REFERENCE_LATITUDE = "N/A"
  REFERENCE_LONGITUDE = "N/A"
  SAMPLE_FIRST_PIXEL = 1
  SAMPLE_LAST_PIXEL = 2234
  SAMPLE_PROJECTION_OFFSET = 944.625
  SECOND_STANDARD_PARALLEL = "N/A"
  WESTERNMOST_LONGITUDE = 241.868
END_OBJECT = IMAGE_MAP_PROJECTION
/* The JPEG2000 image data file associated with this label. */
OBJECT = COMPRESSED_FILE
  FILE_NAME = "H1305_0000_BL3.JP2"
  RECORD_TYPE = UNDEFINED
  FILE_RECORDS = UNK
  ENCODING_TYPE = "JP2"
  INTERCHANGE_FORMAT = BINARY
  UNCOMPRESSED_FILE_NAME = "H1305_0000_BL3.IMG"
  REQUIRED_STORAGE_BYTES = "56205206"
  ^DESCRIPTION = "JP2INFO.TXT"
END_OBJECT = COMPRESSED_FILE
END
