PDS_VERSION_ID = PDS3
/* FILE DATA ELEMENTS */
RECORD_TYPE = STREAM
/* POINTERS TO DATA OBJECTS */
^COMPRESSED_FILE = "H1309_0000_S13.JP2"
/* IDENTIFICATION DATA ELEMENTS */
DATA_SET_ID = "MEX-M-HRSC-5-REFDR-MAPPROJECTED-V3.0"
DATA_SET_NAME = "MARS EXPRESS HRSC MAP PROJECTED REFDR V3.0"
DETECTOR_ID = MEX_HRSC_S1
EVENT_TYPE = "MARS-REGIONAL-MAPPING-Vo-Eo"
INSTRUMENT_HOST_ID = MEX
INSTRUMENT_HOST_NAME = "MARS EXPRESS"
INSTRUMENT_ID = HRSC
INSTRUMENT_NAME = "HIGH RESOLUTION STEREO CAMERA"
MISSION_NAME = "MARS EXPRESS"
MISSION_PHASE_NAME = MR_Phase_4
PROCESSING_LEVEL_ID = 3
PRODUCT_CREATION_TIME = 2016-03-05T01:52:25.000Z
PRODUCT_ID = "H1309_0000_S13.JP2"
RELEASE_ID = 0018
REVISION_ID = 0000
/* QUALITY DATA ELEMENTS */
DATA_QUALITY_ID = 1
DATA_QUALITY_DESC = "Data calculated based on original SPICE kernels"
/* TIME DATA ELEMENTS */
SPACECRAFT_CLOCK_START_COUNT = "1/0054628765.57316"
SPACECRAFT_CLOCK_STOP_COUNT = "1/0054629087.25020"
START_TIME = 2005-01-24T06:39:33.608Z
STOP_TIME = 2005-01-24T06:42:58.738Z
/* ORBITAL DATA ELEMENTS */
ASCENDING_NODE_LONGITUDE = 201.13
MAXIMUM_RESOLUTION = 32.5
FOOTPRINT_POINT_LATITUDE = (28.2983,28.308,28.3151,28.1502,27.9171 ,27.6841,27.3347,27.0716,26.8324, 26.5933,26.3544,26.1154,25.8717,25.5057 ,25.1384,24.8936,24.6444,24.2423,23.991 ,23.7403,23.4832,23.2268,22.9687, 22.7133,22.4469,22.1841,21.7898,21.5237 ,21.2542,20.9851,20.7166,20.305,20.0303 ,19.7559,19.4768,19.1966,18.7767, 18.3478,17.9193,17.6276,17.1907,16.8956 ,16.5987,16.302,15.9997,15.5462,15.2447 ,14.9432,14.913,14.9047,14.8989,14.8871 ,14.8718,15.1751,15.6311,15.9347, 16.2376,16.5345,16.8324,17.1295,17.4206 ,17.7131,18.0029,18.2881,18.5746, 18.8589,19.1392,19.5605,19.9755,20.2488 ,20.5251,20.7957,21.0647,21.3335, 21.6036,21.8661,22.1294,22.3927,22.6582 ,22.9157,23.1729,23.4304,23.6879, 23.9391,24.1908,24.5934,24.8441,25.2118 ,25.4575,25.7029,26.0705,26.3095, 26.5493,26.9085,27.1488,27.4093,27.6426 ,27.9919,28.2246,28.2983)
FOOTPRINT_POINT_LONGITUDE = (211.265,210.797,210.334,209.98,209.98, 209.979,209.978,209.977,209.976,209.975 ,209.973,209.972,209.97,209.968,209.965 ,209.963,209.961,209.957,209.954, 209.951,209.948,209.945,209.942,209.939 ,209.935,209.932,209.926,209.922, 209.917,209.913,209.908,209.901,209.896 ,209.891,209.885,209.88,209.871,209.862 ,209.853,209.846,209.836,209.829, 209.822,209.814,209.806,209.795,209.786 ,209.778,210.12,210.519,210.756,211.177 ,211.662,211.659,211.654,211.65,211.648 ,211.645,211.642,211.639,211.636, 211.633,211.63,211.628,211.625,211.622, 211.619,211.615,211.61,211.608,211.605, 211.602,211.599,211.597,211.593,211.591 ,211.588,211.585,211.583,211.58,211.577 ,211.574,211.571,211.568,211.565, 211.561,211.558,211.554,211.551,211.548 ,211.543,211.541,211.537,211.533,211.53 ,211.526,211.523,211.519,211.516, 211.265)
ORBIT_NUMBER = 1309
ORBITAL_ECCENTRICITY = 0.569
ORBITAL_INCLINATION = 86.61
ORBITAL_SEMIMAJOR_AXIS = 8568.84
PERIAPSIS_ALTITUDE = 311.25
PERIAPSIS_ARGUMENT_ANGLE = 130.48
PERIAPSIS_TIME = 2005-01-24T06:34:42.000Z
SPACECRAFT_ORIENTATION = (0.0,-1.0,0.0)
^MEX_ORIENTATION_DESC = "MEX_ORIENTATION_DESC.TXT"
SPACECRAFT_POINTING_MODE = ACROSSTRACK
^MEX_POINTING_DESC = "MEX_POINTING_DESC.TXT"
RIGHT_ASCENSION = -1e+32
DECLINATION = -1e+32
OFFSET_ANGLE = 0.458
SPACECRAFT_SOLAR_DISTANCE = 2.3042e+08
TARGET_NAME = MARS
/* CAMERA DATA ELEMENTS */
DETECTOR_TEMPERATURE = 16.9432
FOCAL_PLANE_TEMPERATURE = 7.7677
INST_CMPRS_NAME = "DISCRETE COSINE TRANSFORMATION (DCT)"
INST_CMPRS_RATIO = 11.351
INST_CMPRS_QUALITY = 0
INST_CMPRS_QUANTZ_TBL_ID = 0
INSTRUMENT_TEMPERATURE = 10.8262
LENS_TEMPERATURE = 7.9716
MACROPIXEL_SIZE = 2
MISSING_FRAMES = 13
PIXEL_SUBSAMPLING_FLAG = N
SIGNAL_CHAIN_ID = 1
/* RADIOMETRIC DATA ELEMENTS */
BANDWIDTH = 180.0
CENTER_FILTER_WAVELENGTH = 677.0
RADIANCE_OFFSET = 10.4142
RADIANCE_SCALING_FACTOR = 0.0159207
REFLECTANCE_SCALING_FACTOR = 0.000441001
MEX:REFLECTANCE_OFFSET = 0.288472
/* IMAGE OBJECT DEFINITIONS */
OBJECT = IMAGE
  INTERCHANGE_FORMAT = BINARY
  LINES = 31659
  LINE_SAMPLES = 4815
  SAMPLE_TYPE = UNSIGNED_INTEGER
  SAMPLE_BITS = 8
  BANDS = 1
  BAND_STORAGE_TYPE = BAND_SEQUENTIAL
  MAXIMUM = 167
  MEAN = 140.344
  MINIMUM = 113
  STANDARD_DEVIATION = 6.11199
END_OBJECT = IMAGE
/* MAP OBJECT DEFINITIONS */
OBJECT = IMAGE_MAP_PROJECTION
  ^DATA_SET_MAP_PROJECTION_CATALOG= "DSMAP.CAT"
  A_AXIS_RADIUS = 3396.0
  B_AXIS_RADIUS = 3396.0
  C_AXIS_RADIUS = 3396.0
  CENTER_LATITUDE = 0.0
  CENTER_LONGITUDE = 211.0
  COORDINATE_SYSTEM_NAME = PLANETOGRAPHIC
  COORDINATE_SYSTEM_TYPE = "BODY-FIXED ROTATING"
  EASTERNMOST_LONGITUDE = 211.662
  FIRST_STANDARD_PARALLEL = "N/A"
  LINE_FIRST_PIXEL = 1
  LINE_LAST_PIXEL = 31659
  LINE_PROJECTION_OFFSET = 67038.25
  MAP_PROJECTION_ROTATION = 0.0
  MAP_PROJECTION_TYPE = SINUSOIDAL
  MAP_RESOLUTION = 2370.85521546667
  MAP_SCALE = 0.025
  MAXIMUM_LATITUDE = 28.3151
  MINIMUM_LATITUDE = 14.8718
  POSITIVE_LONGITUDE_DIRECTION = EAST
  REFERENCE_LATITUDE = "N/A"
  REFERENCE_LONGITUDE = "N/A"
  SAMPLE_FIRST_PIXEL = 1
  SAMPLE_LAST_PIXEL = 4815
  SAMPLE_PROJECTION_OFFSET = 3031.75
  SECOND_STANDARD_PARALLEL = "N/A"
  WESTERNMOST_LONGITUDE = 209.778
END_OBJECT = IMAGE_MAP_PROJECTION
/* The JPEG2000 image data file associated with this label. */
OBJECT = COMPRESSED_FILE
  FILE_NAME = "H1309_0000_S13.JP2"
  RECORD_TYPE = UNDEFINED
  FILE_RECORDS = UNK
  ENCODING_TYPE = "JP2"
  INTERCHANGE_FORMAT = BINARY
  UNCOMPRESSED_FILE_NAME = "H1309_0000_S13.IMG"
  REQUIRED_STORAGE_BYTES = "152462160"
  ^DESCRIPTION = "JP2INFO.TXT"
END_OBJECT = COMPRESSED_FILE
END
