PDS_VERSION_ID = PDS3
/* FILE DATA ELEMENTS */
RECORD_TYPE = STREAM
/* POINTERS TO DATA OBJECTS */
^COMPRESSED_FILE = "H1310_0000_ND3.JP2"
/* IDENTIFICATION DATA ELEMENTS */
DATA_SET_ID = "MEX-M-HRSC-5-REFDR-MAPPROJECTED-V3.0"
DATA_SET_NAME = "MARS EXPRESS HRSC MAP PROJECTED REFDR V3.0"
DETECTOR_ID = MEX_HRSC_NADIR
EVENT_TYPE = "MARS-REGIONAL-MAPPING-Vo-Te-Mw"
INSTRUMENT_HOST_ID = MEX
INSTRUMENT_HOST_NAME = "MARS EXPRESS"
INSTRUMENT_ID = HRSC
INSTRUMENT_NAME = "HIGH RESOLUTION STEREO CAMERA"
MISSION_NAME = "MARS EXPRESS"
MISSION_PHASE_NAME = MR_Phase_4
PROCESSING_LEVEL_ID = 3
PRODUCT_CREATION_TIME = 2016-03-05T01:52:25.000Z
PRODUCT_ID = "H1310_0000_ND3.JP2"
RELEASE_ID = 0018
REVISION_ID = 0000
/* QUALITY DATA ELEMENTS */
DATA_QUALITY_ID = 1
DATA_QUALITY_DESC = "Data calculated based on original SPICE kernels"
/* TIME DATA ELEMENTS */
SPACECRAFT_CLOCK_START_COUNT = "1/0054653046.57866"
SPACECRAFT_CLOCK_STOP_COUNT = "1/0054653529.57270"
START_TIME = 2005-01-24T13:24:54.944Z
STOP_TIME = 2005-01-24T13:30:33.977Z
/* ORBITAL DATA ELEMENTS */
ASCENDING_NODE_LONGITUDE = 201.11
MAXIMUM_RESOLUTION = 18.1
FOOTPRINT_POINT_LATITUDE = (23.1616,23.1616,23.1599,22.9878, 22.1378,21.7944,21.2719,20.9224,20.5676 ,20.2118,19.671,19.3091,18.9407,18.3858 ,18.0119,17.634,17.2544,16.8693,16.2874 ,15.6977,15.3007,14.8986,14.4939, 14.0856,13.6722,13.0531,12.6421,12.2325 ,11.8243,11.4176,11.0122,10.6083, 10.2058,9.80479,9.40526,9.0071,8.61048, 8.21527,7.82156,7.42934,7.03852,6.64921 ,6.26138,5.87518,5.49036,5.10703, 4.72512,4.34481,3.9658,3.93977,3.92692, 3.91785,3.90347,4.47148,4.85398,5.23795 ,5.62339,6.01034,6.39873,6.78852, 7.17984,7.57263,7.96688,8.36264,8.75971 ,9.1583,9.55832,9.95979,10.3627,10.767, 11.1728,11.5799,11.9886,12.3985,12.8099 ,13.2226,13.6368,14.0515,14.4609, 14.8669,15.2704,15.6683,16.2596,16.8432 ,17.2296,17.6099,17.9892,18.3638, 18.7361,19.1048,19.4712,19.8339,20.1947 ,20.5512,20.9071,21.2573,21.7812, 22.1252,22.6394,23.1616)
FOOTPRINT_POINT_LONGITUDE = (112.594,112.209,111.64,111.046,111.036 ,111.031,111.023,111.018,111.012, 111.006,110.996,110.989,110.982,110.97, 110.962,110.952,110.944,110.934,110.92, 110.904,110.893,110.882,110.869,110.857 ,110.844,110.823,110.81,110.795,110.781 ,110.766,110.751,110.737,110.721, 110.706,110.689,110.673,110.656,110.639 ,110.622,110.604,110.587,110.568,110.55 ,110.53,110.51,110.49,110.471,110.45, 110.431,110.927,111.66,112.156,112.914, 113.075,113.068,113.062,113.055,113.049 ,113.043,113.035,113.029,113.024, 113.018,113.013,113.005,112.999,112.993 ,112.987,112.982,112.976,112.97,112.963 ,112.959,112.95,112.944,112.938,112.931 ,112.925,112.918,112.912,112.906,112.9, 112.891,112.882,112.876,112.87,112.864, 112.858,112.852,112.846,112.84,112.834, 112.828,112.821,112.815,112.809,112.8, 112.794,112.785,112.594)
ORBIT_NUMBER = 1310
ORBITAL_ECCENTRICITY = 0.569
ORBITAL_INCLINATION = 86.6
ORBITAL_SEMIMAJOR_AXIS = 8576.26
PERIAPSIS_ALTITUDE = 311.29
PERIAPSIS_ARGUMENT_ANGLE = 130.29
PERIAPSIS_TIME = 2005-01-24T13:18:03.000Z
SPACECRAFT_ORIENTATION = (0.0,-1.0,0.0)
^MEX_ORIENTATION_DESC = "MEX_ORIENTATION_DESC.TXT"
SPACECRAFT_POINTING_MODE = NADIR
^MEX_POINTING_DESC = "MEX_POINTING_DESC.TXT"
RIGHT_ASCENSION = -1e+32
DECLINATION = -1e+32
OFFSET_ANGLE = -1e+32
SPACECRAFT_SOLAR_DISTANCE = 2.30366e+08
TARGET_NAME = MARS
/* CAMERA DATA ELEMENTS */
DETECTOR_TEMPERATURE = 17.9627
FOCAL_PLANE_TEMPERATURE = 7.9716
INST_CMPRS_NAME = "DISCRETE COSINE TRANSFORMATION (DCT)"
INST_CMPRS_RATIO = 7.40738
INST_CMPRS_QUALITY = 0
INST_CMPRS_QUANTZ_TBL_ID = 0
INSTRUMENT_TEMPERATURE = 11.0301
LENS_TEMPERATURE = 8.3794
MACROPIXEL_SIZE = 1
MISSING_FRAMES = 0
PIXEL_SUBSAMPLING_FLAG = N
SIGNAL_CHAIN_ID = 0
/* RADIOMETRIC DATA ELEMENTS */
BANDWIDTH = 177.0
CENTER_FILTER_WAVELENGTH = 677.5
RADIANCE_OFFSET = 10.2432
RADIANCE_SCALING_FACTOR = 0.0155495
REFLECTANCE_SCALING_FACTOR = 0.000438364
MEX:REFLECTANCE_OFFSET = 0.288772
/* IMAGE OBJECT DEFINITIONS */
OBJECT = IMAGE
  INTERCHANGE_FORMAT = BINARY
  LINES = 91331
  LINE_SAMPLES = 12958
  SAMPLE_TYPE = UNSIGNED_INTEGER
  SAMPLE_BITS = 8
  BANDS = 1
  BAND_STORAGE_TYPE = BAND_SEQUENTIAL
  MAXIMUM = 229
  MEAN = 147.409
  MINIMUM = 108
  STANDARD_DEVIATION = 7.64934
END_OBJECT = IMAGE
/* MAP OBJECT DEFINITIONS */
OBJECT = IMAGE_MAP_PROJECTION
  ^DATA_SET_MAP_PROJECTION_CATALOG= "DSMAP.CAT"
  A_AXIS_RADIUS = 3396.0
  B_AXIS_RADIUS = 3396.0
  C_AXIS_RADIUS = 3396.0
  CENTER_LATITUDE = 0.0
  CENTER_LONGITUDE = 112.0
  COORDINATE_SYSTEM_NAME = PLANETOGRAPHIC
  COORDINATE_SYSTEM_TYPE = "BODY-FIXED ROTATING"
  EASTERNMOST_LONGITUDE = 113.075
  FIRST_STANDARD_PARALLEL = "N/A"
  LINE_FIRST_PIXEL = 1
  LINE_LAST_PIXEL = 91331
  LINE_PROJECTION_OFFSET = 109825.0
  MAP_PROJECTION_ROTATION = 0.0
  MAP_PROJECTION_TYPE = SINUSOIDAL
  MAP_RESOLUTION = 4741.71043093333
  MAP_SCALE = 0.0125
  MAXIMUM_LATITUDE = 23.1616
  MINIMUM_LATITUDE = 3.90347
  POSITIVE_LONGITUDE_DIRECTION = EAST
  REFERENCE_LATITUDE = "N/A"
  REFERENCE_LONGITUDE = "N/A"
  SAMPLE_FIRST_PIXEL = 1
  SAMPLE_LAST_PIXEL = 12958
  SAMPLE_PROJECTION_OFFSET = 7620.0
  SECOND_STANDARD_PARALLEL = "N/A"
  WESTERNMOST_LONGITUDE = 110.431
END_OBJECT = IMAGE_MAP_PROJECTION
/* The JPEG2000 image data file associated with this label. */
OBJECT = COMPRESSED_FILE
  FILE_NAME = "H1310_0000_ND3.JP2"
  RECORD_TYPE = UNDEFINED
  FILE_RECORDS = UNK
  ENCODING_TYPE = "JP2"
  INTERCHANGE_FORMAT = BINARY
  UNCOMPRESSED_FILE_NAME = "H1310_0000_ND3.IMG"
  REQUIRED_STORAGE_BYTES = "1183505972"
  ^DESCRIPTION = "JP2INFO.TXT"
END_OBJECT = COMPRESSED_FILE
END
