PDS_VERSION_ID = PDS3
/* FILE DATA ELEMENTS */
RECORD_TYPE = STREAM
/* POINTERS TO DATA OBJECTS */
^COMPRESSED_FILE = "H1313_0000_BL3.JP2"
/* IDENTIFICATION DATA ELEMENTS */
DATA_SET_ID = "MEX-M-HRSC-5-REFDR-MAPPROJECTED-V3.0"
DATA_SET_NAME = "MARS EXPRESS HRSC MAP PROJECTED REFDR V3.0"
DETECTOR_ID = MEX_HRSC_BLUE
EVENT_TYPE = "MARS-LOCAL-MAPPING-Vo-Te-Fl"
INSTRUMENT_HOST_ID = MEX
INSTRUMENT_HOST_NAME = "MARS EXPRESS"
INSTRUMENT_ID = HRSC
INSTRUMENT_NAME = "HIGH RESOLUTION STEREO CAMERA"
MISSION_NAME = "MARS EXPRESS"
MISSION_PHASE_NAME = MR_Phase_4
PROCESSING_LEVEL_ID = 3
PRODUCT_CREATION_TIME = 2016-03-05T01:52:25.000Z
PRODUCT_ID = "H1313_0000_BL3.JP2"
RELEASE_ID = 0018
REVISION_ID = 0000
/* QUALITY DATA ELEMENTS */
DATA_QUALITY_ID = 1
DATA_QUALITY_DESC = "Data calculated based on original SPICE kernels"
/* TIME DATA ELEMENTS */
SPACECRAFT_CLOCK_START_COUNT = "1/0054725635.56180"
SPACECRAFT_CLOCK_STOP_COUNT = "1/0054726013.61264"
START_TIME = 2005-01-25T09:34:51.315Z
STOP_TIME = 2005-01-25T09:39:09.230Z
/* ORBITAL DATA ELEMENTS */
ASCENDING_NODE_LONGITUDE = 201.04
MAXIMUM_RESOLUTION = 73.2
FOOTPRINT_POINT_LATITUDE = (23.9709,23.97,23.9751,23.6902,23.4046, 23.1197,22.8297,22.5392,22.1011,21.8055 ,21.5105,21.0606,20.7606,20.4561, 20.1511,19.8466,19.5429,19.24,18.9376, 18.636,18.3352,18.0351,17.7357,17.4369, 17.139,16.8417,16.5451,16.1017,15.8069, 15.513,15.2199,14.9275,14.6358,14.3448, 14.0547,13.7653,13.4765,13.1886,12.9016 ,12.6157,12.3294,12.0446,11.7606, 11.4774,11.1949,10.6322,10.0726,9.51613 ,9.34885,9.3427,9.33631,9.33062,9.32399 ,9.31715,9.3115,9.86933,10.571,11.1348, 11.4175,11.7017,11.987,12.273,12.5597, 12.8469,13.1356,13.4244,13.7139,14.0042 ,14.4415,14.7341,15.0271,15.3206, 15.6164,15.9103,16.2062,16.5028,16.9495 ,17.248,17.5471,17.847,18.1477,18.4491, 18.7511,19.0538,19.3573,19.6614,19.9663 ,20.4248,20.7306,21.1818,21.4828, 21.7785,22.0748,22.3693,22.6598,22.9514 ,23.2395,23.6681,23.9543,23.9709)
FOOTPRINT_POINT_LONGITUDE = (176.277,175.495,174.972,174.972, 174.972,174.971,174.97,174.97,174.967, 174.965,174.963,174.96,174.957,174.954, 174.951,174.948,174.944,174.94,174.936, 174.932,174.927,174.922,174.917,174.912 ,174.906,174.9,174.894,174.885,174.879, 174.871,174.864,174.857,174.849,174.842 ,174.834,174.826,174.818,174.809,174.8, 174.79,174.783,174.773,174.764,174.754, 174.744,174.724,174.703,174.681,174.996 ,175.362,175.725,176.04,176.398,176.754 ,177.093,177.082,177.068,177.056,177.05 ,177.044,177.038,177.032,177.026,177.02 ,177.014,177.008,177.002,176.996, 176.986,176.98,176.974,176.967,176.96, 176.954,176.947,176.94,176.93,176.923, 176.916,176.909,176.902,176.895,176.888 ,176.88,176.873,176.865,176.858,176.846 ,176.838,176.827,176.819,176.811, 176.803,176.795,176.787,176.779,176.771 ,176.759,176.751,176.277)
ORBIT_NUMBER = 1313
ORBITAL_ECCENTRICITY = 0.568
ORBITAL_INCLINATION = 86.61
ORBITAL_SEMIMAJOR_AXIS = 8566.26
PERIAPSIS_ALTITUDE = 312.41
PERIAPSIS_ARGUMENT_ANGLE = 129.77
PERIAPSIS_TIME = 2005-01-25T09:27:56.000Z
SPACECRAFT_ORIENTATION = (0.0,-1.0,0.0)
^MEX_ORIENTATION_DESC = "MEX_ORIENTATION_DESC.TXT"
SPACECRAFT_POINTING_MODE = ACROSSTRACK
^MEX_POINTING_DESC = "MEX_POINTING_DESC.TXT"
RIGHT_ASCENSION = -1e+32
DECLINATION = -1e+32
OFFSET_ANGLE = -1.0
SPACECRAFT_SOLAR_DISTANCE = 2.30205e+08
TARGET_NAME = MARS
/* CAMERA DATA ELEMENTS */
DETECTOR_TEMPERATURE = 17.9627
FOCAL_PLANE_TEMPERATURE = 8.1755
INST_CMPRS_NAME = "DISCRETE COSINE TRANSFORMATION (DCT)"
INST_CMPRS_RATIO = 30.41
INST_CMPRS_QUALITY = 0
INST_CMPRS_QUANTZ_TBL_ID = 0
INSTRUMENT_TEMPERATURE = 11.0301
LENS_TEMPERATURE = 8.5833
MACROPIXEL_SIZE = 4
MISSING_FRAMES = 0
PIXEL_SUBSAMPLING_FLAG = N
SIGNAL_CHAIN_ID = 2
/* RADIOMETRIC DATA ELEMENTS */
BANDWIDTH = 76.0
CENTER_FILTER_WAVELENGTH = 444.0
RADIANCE_OFFSET = 1.18201
RADIANCE_SCALING_FACTOR = 0.00203673
REFLECTANCE_SCALING_FACTOR = 0.000110896
MEX:REFLECTANCE_OFFSET = 0.0643581
/* IMAGE OBJECT DEFINITIONS */
OBJECT = IMAGE
  INTERCHANGE_FORMAT = BINARY
  LINES = 17388
  LINE_SAMPLES = 2871
  SAMPLE_TYPE = UNSIGNED_INTEGER
  SAMPLE_BITS = 8
  BANDS = 1
  BAND_STORAGE_TYPE = BAND_SEQUENTIAL
  MAXIMUM = 97
  MEAN = 79.8607
  MINIMUM = 66
  STANDARD_DEVIATION = 4.57219
END_OBJECT = IMAGE
/* MAP OBJECT DEFINITIONS */
OBJECT = IMAGE_MAP_PROJECTION
  ^DATA_SET_MAP_PROJECTION_CATALOG= "DSMAP.CAT"
  A_AXIS_RADIUS = 3396.0
  B_AXIS_RADIUS = 3396.0
  C_AXIS_RADIUS = 3396.0
  CENTER_LATITUDE = 0.0
  CENTER_LONGITUDE = 176.0
  COORDINATE_SYSTEM_NAME = PLANETOGRAPHIC
  COORDINATE_SYSTEM_TYPE = "BODY-FIXED ROTATING"
  EASTERNMOST_LONGITUDE = 177.093
  FIRST_STANDARD_PARALLEL = "N/A"
  LINE_FIRST_PIXEL = 1
  LINE_LAST_PIXEL = 17388
  LINE_PROJECTION_OFFSET = 28427.625
  MAP_PROJECTION_ROTATION = 0.0
  MAP_PROJECTION_TYPE = SINUSOIDAL
  MAP_RESOLUTION = 1185.42760773333
  MAP_SCALE = 0.05
  MAXIMUM_LATITUDE = 23.9751
  MINIMUM_LATITUDE = 9.311500000000001
  POSITIVE_LONGITUDE_DIRECTION = EAST
  REFERENCE_LATITUDE = "N/A"
  REFERENCE_LONGITUDE = "N/A"
  SAMPLE_FIRST_PIXEL = 1
  SAMPLE_LAST_PIXEL = 2871
  SAMPLE_PROJECTION_OFFSET = 1615.625
  SECOND_STANDARD_PARALLEL = "N/A"
  WESTERNMOST_LONGITUDE = 174.681
END_OBJECT = IMAGE_MAP_PROJECTION
/* The JPEG2000 image data file associated with this label. */
OBJECT = COMPRESSED_FILE
  FILE_NAME = "H1313_0000_BL3.JP2"
  RECORD_TYPE = UNDEFINED
  FILE_RECORDS = UNK
  ENCODING_TYPE = "JP2"
  INTERCHANGE_FORMAT = BINARY
  UNCOMPRESSED_FILE_NAME = "H1313_0000_BL3.IMG"
  REQUIRED_STORAGE_BYTES = "49943916"
  ^DESCRIPTION = "JP2INFO.TXT"
END_OBJECT = COMPRESSED_FILE
END
