PDS_VERSION_ID = PDS3
/* FILE DATA ELEMENTS */
RECORD_TYPE = STREAM
/* POINTERS TO DATA OBJECTS */
^COMPRESSED_FILE = "H1316_0000_S23.JP2"
/* IDENTIFICATION DATA ELEMENTS */
DATA_SET_ID = "MEX-M-HRSC-5-REFDR-MAPPROJECTED-V3.0"
DATA_SET_NAME = "MARS EXPRESS HRSC MAP PROJECTED REFDR V3.0"
DETECTOR_ID = MEX_HRSC_S2
EVENT_TYPE = "MARS-REGIONAL-MAPPING-Vo-Te"
INSTRUMENT_HOST_ID = MEX
INSTRUMENT_HOST_NAME = "MARS EXPRESS"
INSTRUMENT_ID = HRSC
INSTRUMENT_NAME = "HIGH RESOLUTION STEREO CAMERA"
MISSION_NAME = "MARS EXPRESS"
MISSION_PHASE_NAME = MR_Phase_4
PROCESSING_LEVEL_ID = 3
PRODUCT_CREATION_TIME = 2016-03-05T01:52:25.000Z
PRODUCT_ID = "H1316_0000_S23.JP2"
RELEASE_ID = 0018
REVISION_ID = 0000
/* QUALITY DATA ELEMENTS */
DATA_QUALITY_ID = 1
DATA_QUALITY_DESC = "Data calculated based on original SPICE kernels"
/* TIME DATA ELEMENTS */
SPACECRAFT_CLOCK_START_COUNT = "1/0054798042.57165"
SPACECRAFT_CLOCK_STOP_COUNT = "1/0054798532.32292"
START_TIME = 2005-01-26T05:41:57.923Z
STOP_TIME = 2005-01-26T05:48:58.225Z
/* ORBITAL DATA ELEMENTS */
ASCENDING_NODE_LONGITUDE = 200.99
MAXIMUM_RESOLUTION = 31.3
FOOTPRINT_POINT_LATITUDE = (36.2211,36.2496,35.8503,35.4208, 34.7729,34.3351,33.6802,33.0107,32.5663 ,31.8871,31.4344,30.9741,30.5132, 29.8125,29.3444,28.8662,28.1477,27.663, 27.1741,26.683,26.1828,25.6852,25.1901, 24.6974,24.2071,23.7198,23.2353,22.7531 ,22.2733,21.796,21.3215,20.849,20.3792, 19.9122,19.4481,18.9873,18.2975,17.8418 ,17.3881,16.9381,16.2659,15.8228, 15.3815,14.9435,14.5087,14.0766,13.6474 ,13.1776,13.1341,13.0658,13.0151,13.444 ,13.8757,14.3102,14.7475,15.1874, 15.6301,16.0752,16.5232,16.9738,17.4271 ,17.8834,18.342,18.8035,19.2675,19.7348 ,20.2044,20.6764,21.1501,21.6268, 22.1063,22.5875,23.0713,23.5581,24.0471 ,24.5386,25.0329,25.5294,26.0283, 26.5301,27.0238,27.5159,28.0012,28.4845 ,28.9631,29.6723,30.3759,30.838,31.3006 ,31.9819,32.4366,32.8821,33.3283, 33.9891,34.4288,34.8688,35.2988,35.7278 ,36.1581,36.2211)
FOOTPRINT_POINT_LONGITUDE = (239.584,239.031,238.888,238.911, 238.943,238.963,238.993,239.02,239.037, 239.061,239.076,239.09,239.104,239.122, 239.134,239.145,239.159,239.168,239.174 ,239.181,239.186,239.191,239.195, 239.198,239.2,239.2,239.2,239.199, 239.197,239.195,239.191,239.188,239.183 ,239.178,239.172,239.164,239.155, 239.147,239.139,239.13,239.116,239.105, 239.094,239.082,239.069,239.055,239.041 ,239.28,239.857,240.81,241.555,241.542, 241.529,241.515,241.502,241.488,241.474 ,241.46,241.446,241.432,241.417,241.403 ,241.388,241.372,241.357,241.341, 241.325,241.309,241.292,241.276,241.258 ,241.241,241.224,241.206,241.188, 241.169,241.15,241.13,241.11,241.09, 241.069,241.049,241.028,241.007,240.985 ,240.953,240.92,240.898,240.875,240.841 ,240.817,240.794,240.771,240.736,240.71 ,240.685,240.66,240.635,240.61,239.584)
ORBIT_NUMBER = 1316
ORBITAL_ECCENTRICITY = 0.569
ORBITAL_INCLINATION = 86.61
ORBITAL_SEMIMAJOR_AXIS = 8571.68
PERIAPSIS_ALTITUDE = 311.87
PERIAPSIS_ARGUMENT_ANGLE = 129.2
PERIAPSIS_TIME = 2005-01-26T05:37:43.000Z
SPACECRAFT_ORIENTATION = (0.0,-1.0,0.0)
^MEX_ORIENTATION_DESC = "MEX_ORIENTATION_DESC.TXT"
SPACECRAFT_POINTING_MODE = ACROSSTRACK
^MEX_POINTING_DESC = "MEX_POINTING_DESC.TXT"
RIGHT_ASCENSION = -1e+32
DECLINATION = -1e+32
OFFSET_ANGLE = -1.7
SPACECRAFT_SOLAR_DISTANCE = 2.30044e+08
TARGET_NAME = MARS
/* CAMERA DATA ELEMENTS */
DETECTOR_TEMPERATURE = 18.3705
FOCAL_PLANE_TEMPERATURE = 7.9716
INST_CMPRS_NAME = "DISCRETE COSINE TRANSFORMATION (DCT)"
INST_CMPRS_RATIO = 11.5824
INST_CMPRS_QUALITY = 0
INST_CMPRS_QUANTZ_TBL_ID = 0
INSTRUMENT_TEMPERATURE = 10.8262
LENS_TEMPERATURE = 8.3794
MACROPIXEL_SIZE = 2
MISSING_FRAMES = 0
PIXEL_SUBSAMPLING_FLAG = N
SIGNAL_CHAIN_ID = 1
/* RADIOMETRIC DATA ELEMENTS */
BANDWIDTH = 178.0
CENTER_FILTER_WAVELENGTH = 679.0
RADIANCE_OFFSET = 11.7533
RADIANCE_SCALING_FACTOR = 0.014475
REFLECTANCE_SCALING_FACTOR = 0.000405666
MEX:REFLECTANCE_OFFSET = 0.32939
/* IMAGE OBJECT DEFINITIONS */
OBJECT = IMAGE
  INTERCHANGE_FORMAT = BINARY
  LINES = 54941
  LINE_SAMPLES = 5671
  SAMPLE_TYPE = UNSIGNED_INTEGER
  SAMPLE_BITS = 8
  BANDS = 1
  BAND_STORAGE_TYPE = BAND_SEQUENTIAL
  MAXIMUM = 163
  MEAN = 140.134
  MINIMUM = 108
  STANDARD_DEVIATION = 5.12153
END_OBJECT = IMAGE
/* MAP OBJECT DEFINITIONS */
OBJECT = IMAGE_MAP_PROJECTION
  ^DATA_SET_MAP_PROJECTION_CATALOG= "DSMAP.CAT"
  A_AXIS_RADIUS = 3396.0
  B_AXIS_RADIUS = 3396.0
  C_AXIS_RADIUS = 3396.0
  CENTER_LATITUDE = 0.0
  CENTER_LONGITUDE = 240.0
  COORDINATE_SYSTEM_NAME = PLANETOGRAPHIC
  COORDINATE_SYSTEM_TYPE = "BODY-FIXED ROTATING"
  EASTERNMOST_LONGITUDE = 241.555
  FIRST_STANDARD_PARALLEL = "N/A"
  LINE_FIRST_PIXEL = 1
  LINE_LAST_PIXEL = 54941
  LINE_PROJECTION_OFFSET = 86039.75
  MAP_PROJECTION_ROTATION = 0.0
  MAP_PROJECTION_TYPE = SINUSOIDAL
  MAP_RESOLUTION = 2370.85521546667
  MAP_SCALE = 0.025
  MAXIMUM_LATITUDE = 36.2496
  MINIMUM_LATITUDE = 13.0151
  POSITIVE_LONGITUDE_DIRECTION = EAST
  REFERENCE_LATITUDE = "N/A"
  REFERENCE_LONGITUDE = "N/A"
  SAMPLE_FIRST_PIXEL = 1
  SAMPLE_LAST_PIXEL = 5671
  SAMPLE_PROJECTION_OFFSET = 2379.75
  SECOND_STANDARD_PARALLEL = "N/A"
  WESTERNMOST_LONGITUDE = 238.888
END_OBJECT = IMAGE_MAP_PROJECTION
/* The JPEG2000 image data file associated with this label. */
OBJECT = COMPRESSED_FILE
  FILE_NAME = "H1316_0000_S23.JP2"
  RECORD_TYPE = UNDEFINED
  FILE_RECORDS = UNK
  ENCODING_TYPE = "JP2"
  INTERCHANGE_FORMAT = BINARY
  UNCOMPRESSED_FILE_NAME = "H1316_0000_S23.IMG"
  REQUIRED_STORAGE_BYTES = "311598766"
  ^DESCRIPTION = "JP2INFO.TXT"
END_OBJECT = COMPRESSED_FILE
END
