PDS_VERSION_ID = PDS3
/* FILE DATA ELEMENTS */
RECORD_TYPE = STREAM
/* POINTERS TO DATA OBJECTS */
^COMPRESSED_FILE = "H1317_0002_SR3.JP2"
/* IDENTIFICATION DATA ELEMENTS */
DATA_SET_ID = "MEX-M-HRSC-5-REFDR-MAPPROJECTED-V3.0"
DATA_SET_NAME = "MARS EXPRESS HRSC MAP PROJECTED REFDR V3.0"
DETECTOR_ID = MEX_HRSC_SRC
EVENT_TYPE = "MARS-REGIONAL-STEREO-Vo-Im-Eo"
INSTRUMENT_HOST_ID = MEX
INSTRUMENT_HOST_NAME = "MARS EXPRESS"
INSTRUMENT_ID = HRSC
INSTRUMENT_NAME = "HIGH RESOLUTION STEREO CAMERA"
MISSION_NAME = "MARS EXPRESS"
MISSION_PHASE_NAME = MR_Phase_4
PROCESSING_LEVEL_ID = 3
PRODUCT_CREATION_TIME = 2016-03-05T01:52:25.000Z
PRODUCT_ID = "H1317_0002_SR3.JP2"
RELEASE_ID = 0018
REVISION_ID = 0000
/* QUALITY DATA ELEMENTS */
DATA_QUALITY_ID = 1
DATA_QUALITY_DESC = "Data calculated based on original SPICE kernels"
/* TIME DATA ELEMENTS */
SPACECRAFT_CLOCK_START_COUNT = "1/0054822263.56175"
SPACECRAFT_CLOCK_STOP_COUNT = "1/0054822608.04240"
IMAGE_TIME = 2005-01-26T12:25:28.524Z
START_TIME = 2005-01-26T12:25:28.521Z
STOP_TIME = 2005-01-26T12:25:28.526Z
/* ORBITAL DATA ELEMENTS */
ASCENDING_NODE_LONGITUDE = 200.96
MAXIMUM_RESOLUTION = 3.436
FOOTPRINT_POINT_LATITUDE = (33.5621,33.5606,33.5573,33.5553, 33.5531,33.5513,33.5491,33.5474,33.5453 ,33.5423,33.5391,33.5366,33.5333, 33.5309,33.5288,33.5261,33.5244,33.5218 ,33.5183,33.5168,33.5151,33.5125, 33.5106,33.509,33.5067,33.504,33.5035, 33.5035,33.5034,33.5034,33.5034,33.5034 ,33.5034,33.5033,33.5033,33.5033, 33.5033,33.5033,33.5032,33.5032,33.5032 ,33.5032,33.5031,33.5031,33.5031, 33.5031,33.5031,33.503,33.503,33.503, 33.503,33.5066,33.5093,33.5115,33.5144, 33.5164,33.5192,33.522,33.5253,33.5277, 33.5295,33.532,33.5344,33.5377,33.5403, 33.5424,33.5443,33.546,33.5488,33.5517, 33.5537,33.5553,33.5578,33.56,33.5615, 33.5615,33.5616,33.5616,33.5616,33.5616 ,33.5617,33.5617,33.5617,33.5617, 33.5618,33.5618,33.5618,33.5618,33.5619 ,33.5619,33.5619,33.5619,33.5619,33.562 ,33.562,33.562,33.562,33.5621,33.5621, 33.5621)
FOOTPRINT_POINT_LONGITUDE = (144.626,144.626,144.626,144.626, 144.626,144.626,144.626,144.626,144.626 ,144.626,144.626,144.626,144.626, 144.626,144.626,144.626,144.626,144.626 ,144.626,144.626,144.626,144.626, 144.626,144.626,144.626,144.626,144.623 ,144.62,144.617,144.614,144.611,144.608 ,144.606,144.603,144.6,144.597,144.594, 144.592,144.589,144.586,144.583,144.58, 144.577,144.575,144.572,144.569,144.566 ,144.563,144.561,144.558,144.555, 144.555,144.554,144.554,144.554,144.554 ,144.554,144.554,144.554,144.554, 144.554,144.554,144.554,144.554,144.554 ,144.554,144.554,144.554,144.554, 144.554,144.554,144.554,144.554,144.554 ,144.555,144.557,144.56,144.563,144.566 ,144.569,144.572,144.574,144.577,144.58 ,144.583,144.586,144.588,144.591, 144.594,144.597,144.6,144.603,144.605, 144.608,144.611,144.614,144.617,144.619 ,144.622,144.626)
ORBIT_NUMBER = 1317
ORBITAL_ECCENTRICITY = 0.569
ORBITAL_INCLINATION = 86.6
ORBITAL_SEMIMAJOR_AXIS = 8569.52
PERIAPSIS_ALTITUDE = 313.16
PERIAPSIS_ARGUMENT_ANGLE = 129.06
PERIAPSIS_TIME = 2005-01-26T12:21:03.000Z
SPACECRAFT_ORIENTATION = (0.0,1.0,0.0)
^MEX_ORIENTATION_DESC = "MEX_ORIENTATION_DESC.TXT"
SPACECRAFT_POINTING_MODE = ACROSSTRACK
^MEX_POINTING_DESC = "MEX_POINTING_DESC.TXT"
RIGHT_ASCENSION = -1e+32
DECLINATION = -1e+32
OFFSET_ANGLE = 0.76
SPACECRAFT_SOLAR_DISTANCE = 2.2999e+08
TARGET_NAME = MARS
/* CAMERA DATA ELEMENTS */
BUFFER_MODE_ID = BUFFER_8
EXPOSURE_DURATION = 5.04
INST_CMPRS_NAME = NONE
INST_CMPRS_RATIO = 1.0
INST_CMPRS_QUALITY = -2147483648
INST_CMPRS_QUANTZ_TBL_ID = -2147483648
INSTRUMENT_TEMPERATURE = 6.08005
MISSING_FRAMES = 0
START_BIT = 0
/* RADIOMETRIC DATA ELEMENTS */
BANDWIDTH = 250.0
CENTER_FILTER_WAVELENGTH = 600.0
RADIANCE_OFFSET = -9.99e+31
RADIANCE_SCALING_FACTOR = -9.99e+31
REFLECTANCE_SCALING_FACTOR = -9.99e+31
MEX:REFLECTANCE_OFFSET = -9.99e+31
/* IMAGE OBJECT DEFINITIONS */
OBJECT = IMAGE
  INTERCHANGE_FORMAT = BINARY
  LINES = 1466
  LINE_SAMPLES = 1485
  SAMPLE_TYPE = UNSIGNED_INTEGER
  SAMPLE_BITS = 8
  BANDS = 1
  BAND_STORAGE_TYPE = BAND_SEQUENTIAL
  MAXIMUM = 8452
  MEAN = 7885.91
  MINIMUM = 6654
  STANDARD_DEVIATION = 108.979
END_OBJECT = IMAGE
/* MAP OBJECT DEFINITIONS */
OBJECT = IMAGE_MAP_PROJECTION
  ^DATA_SET_MAP_PROJECTION_CATALOG= "DSMAP.CAT"
  A_AXIS_RADIUS = 3396.19
  B_AXIS_RADIUS = 3396.19
  C_AXIS_RADIUS = 3396.19
  CENTER_LATITUDE = 0.0
  CENTER_LONGITUDE = 145.0
  COORDINATE_SYSTEM_NAME = PLANETOGRAPHIC
  COORDINATE_SYSTEM_TYPE = "BODY-FIXED ROTATING"
  EASTERNMOST_LONGITUDE = 144.626
  FIRST_STANDARD_PARALLEL = "N/A"
  LINE_FIRST_PIXEL = 1
  LINE_LAST_PIXEL = 1466
  LINE_PROJECTION_OFFSET = 795287.0
  MAP_PROJECTION_ROTATION = 0.0
  MAP_PROJECTION_TYPE = SINUSOIDAL
  MAP_RESOLUTION = 23709.8786048756
  MAP_SCALE = 0.0025
  MAXIMUM_LATITUDE = 33.5621
  MINIMUM_LATITUDE = 33.503
  POSITIVE_LONGITUDE_DIRECTION = EAST
  REFERENCE_LATITUDE = "N/A"
  REFERENCE_LONGITUDE = "N/A"
  SAMPLE_FIRST_PIXEL = 1
  SAMPLE_LAST_PIXEL = 1485
  SAMPLE_PROJECTION_OFFSET = 8503.0
  SECOND_STANDARD_PARALLEL = "N/A"
  WESTERNMOST_LONGITUDE = 144.554
END_OBJECT = IMAGE_MAP_PROJECTION
/* The JPEG2000 image data file associated with this label. */
OBJECT = COMPRESSED_FILE
  FILE_NAME = "H1317_0002_SR3.JP2"
  RECORD_TYPE = UNDEFINED
  FILE_RECORDS = UNK
  ENCODING_TYPE = "JP2"
  INTERCHANGE_FORMAT = BINARY
  UNCOMPRESSED_FILE_NAME = "H1317_0002_SR3.IMG"
  REQUIRED_STORAGE_BYTES = "2196315"
  ^DESCRIPTION = "JP2INFO.TXT"
END_OBJECT = COMPRESSED_FILE
END
