PDS_VERSION_ID = PDS3
/* FILE DATA ELEMENTS */
RECORD_TYPE = STREAM
/* POINTERS TO DATA OBJECTS */
^COMPRESSED_FILE = "H1323_0000_RE3.JP2"
/* IDENTIFICATION DATA ELEMENTS */
DATA_SET_ID = "MEX-M-HRSC-5-REFDR-MAPPROJECTED-V3.0"
DATA_SET_NAME = "MARS EXPRESS HRSC MAP PROJECTED REFDR V3.0"
DETECTOR_ID = MEX_HRSC_RED
EVENT_TYPE = "MARS-REGIONAL-MAPPING-Vo-Im"
INSTRUMENT_HOST_ID = MEX
INSTRUMENT_HOST_NAME = "MARS EXPRESS"
INSTRUMENT_ID = HRSC
INSTRUMENT_NAME = "HIGH RESOLUTION STEREO CAMERA"
MISSION_NAME = "MARS EXPRESS"
MISSION_PHASE_NAME = MR_Phase_4
PROCESSING_LEVEL_ID = 3
PRODUCT_CREATION_TIME = 2016-03-05T01:52:25.000Z
PRODUCT_ID = "H1323_0000_RE3.JP2"
RELEASE_ID = 0018
REVISION_ID = 0000
/* QUALITY DATA ELEMENTS */
DATA_QUALITY_ID = 1
DATA_QUALITY_DESC = "Data calculated based on original SPICE kernels"
/* TIME DATA ELEMENTS */
SPACECRAFT_CLOCK_START_COUNT = "1/0054967583.56198"
SPACECRAFT_CLOCK_STOP_COUNT = "1/0054967843.06166"
START_TIME = 2005-01-28T04:47:46.014Z
STOP_TIME = 2005-01-28T04:50:37.017Z
/* ORBITAL DATA ELEMENTS */
ASCENDING_NODE_LONGITUDE = 200.84
MAXIMUM_RESOLUTION = 75.6
FOOTPRINT_POINT_LATITUDE = (27.6868,27.6871,27.6872,27.687,27.6108 ,27.1574,26.61,26.4242,26.2388,26.0534, 25.8683,25.68,25.4913,25.3031,25.0193, 24.8276,24.6363,24.4454,24.1546,23.9605 ,23.7667,23.5732,23.3802,23.1877, 22.9954,22.8037,22.6122,22.421,22.1346, 21.9433,21.7562,21.4738,21.2829,21.0944 ,20.9067,20.7194,20.5324,20.3459, 20.1596,19.9738,19.7883,19.6033,19.4186 ,19.2343,19.0505,18.8668,18.6834, 18.3176,18.3049,18.3026,18.2983,18.2935 ,18.2884,18.285,18.4678,18.6511,18.8349 ,19.1115,19.296,19.4811,19.6667,19.8529 ,20.0391,20.2257,20.4128,20.6003, 20.7882,20.9766,21.1649,21.3539,21.5435 ,21.7326,21.9226,22.1133,22.3043, 22.4953,22.6866,22.9755,23.1682,23.3611 ,23.5544,23.7482,23.9423,24.1368, 24.4284,24.6198,24.8116,25.0036,25.1942 ,25.3826,25.5711,25.7606,25.9538,26.319 ,26.5054,26.7813,26.9643,27.2392, 27.6022,27.6868)
FOOTPRINT_POINT_LONGITUDE = (274.178,273.914,273.567,273.153, 272.807,272.805,272.803,272.801,272.8, 272.798,272.797,272.795,272.794,272.792 ,272.789,272.787,272.785,272.782, 272.779,272.776,272.773,272.771,272.768 ,272.765,272.762,272.758,272.755, 272.752,272.747,272.744,272.739,272.733 ,272.73,272.726,272.722,272.717,272.713 ,272.709,272.704,272.699,272.695,272.69 ,272.685,272.68,272.675,272.671,272.666 ,272.655,272.858,273.082,273.467, 273.954,274.419,274.831,274.826,274.822 ,274.818,274.811,274.807,274.802, 274.798,274.794,274.789,274.785,274.78, 274.776,274.771,274.767,274.762,274.758 ,274.753,274.748,274.744,274.739, 274.734,274.73,274.725,274.718,274.713, 274.708,274.703,274.699,274.694,274.689 ,274.682,274.677,274.672,274.667, 274.662,274.657,274.652,274.647,274.644 ,274.633,274.628,274.62,274.616,274.608 ,274.598,274.178)
ORBIT_NUMBER = 1323
ORBITAL_ECCENTRICITY = 0.569
ORBITAL_INCLINATION = 86.59
ORBITAL_SEMIMAJOR_AXIS = 8570.34
PERIAPSIS_ALTITUDE = 313.19
PERIAPSIS_ARGUMENT_ANGLE = 127.96
PERIAPSIS_TIME = 2005-01-28T04:40:54.000Z
SPACECRAFT_ORIENTATION = (0.0,-1.0,0.0)
^MEX_ORIENTATION_DESC = "MEX_ORIENTATION_DESC.TXT"
SPACECRAFT_POINTING_MODE = ACROSSTRACK
^MEX_POINTING_DESC = "MEX_POINTING_DESC.TXT"
RIGHT_ASCENSION = -1e+32
DECLINATION = -1e+32
OFFSET_ANGLE = -0.17
SPACECRAFT_SOLAR_DISTANCE = 2.29667e+08
TARGET_NAME = MARS
/* CAMERA DATA ELEMENTS */
DETECTOR_TEMPERATURE = 18.1666
FOCAL_PLANE_TEMPERATURE = 7.5638
INST_CMPRS_NAME = "DISCRETE COSINE TRANSFORMATION (DCT)"
INST_CMPRS_RATIO = 30.051
INST_CMPRS_QUALITY = 0
INST_CMPRS_QUANTZ_TBL_ID = 0
INSTRUMENT_TEMPERATURE = 10.8262
LENS_TEMPERATURE = 7.9716
MACROPIXEL_SIZE = 4
MISSING_FRAMES = 0
PIXEL_SUBSAMPLING_FLAG = N
SIGNAL_CHAIN_ID = 2
/* RADIOMETRIC DATA ELEMENTS */
BANDWIDTH = 48.0
CENTER_FILTER_WAVELENGTH = 748.0
RADIANCE_OFFSET = 1.23426
RADIANCE_SCALING_FACTOR = 0.0116735
REFLECTANCE_SCALING_FACTOR = 0.00140515
MEX:REFLECTANCE_OFFSET = 0.148568
/* IMAGE OBJECT DEFINITIONS */
OBJECT = IMAGE
  INTERCHANGE_FORMAT = BINARY
  LINES = 11168
  LINE_SAMPLES = 2341
  SAMPLE_TYPE = UNSIGNED_INTEGER
  SAMPLE_BITS = 8
  BANDS = 1
  BAND_STORAGE_TYPE = BAND_SEQUENTIAL
  MAXIMUM = 118
  MEAN = 105.12
  MINIMUM = 33
  STANDARD_DEVIATION = 2.47224
END_OBJECT = IMAGE
/* MAP OBJECT DEFINITIONS */
OBJECT = IMAGE_MAP_PROJECTION
  ^DATA_SET_MAP_PROJECTION_CATALOG= "DSMAP.CAT"
  A_AXIS_RADIUS = 3396.0
  B_AXIS_RADIUS = 3396.0
  C_AXIS_RADIUS = 3396.0
  CENTER_LATITUDE = 0.0
  CENTER_LONGITUDE = 274.0
  COORDINATE_SYSTEM_NAME = PLANETOGRAPHIC
  COORDINATE_SYSTEM_TYPE = "BODY-FIXED ROTATING"
  EASTERNMOST_LONGITUDE = 274.831
  FIRST_STANDARD_PARALLEL = "N/A"
  LINE_FIRST_PIXEL = 1
  LINE_LAST_PIXEL = 11168
  LINE_PROJECTION_OFFSET = 32879.875
  MAP_PROJECTION_ROTATION = 0.0
  MAP_PROJECTION_TYPE = SINUSOIDAL
  MAP_RESOLUTION = 1185.42760773333
  MAP_SCALE = 0.05
  MAXIMUM_LATITUDE = 27.6872
  MINIMUM_LATITUDE = 18.285
  POSITIVE_LONGITUDE_DIRECTION = EAST
  REFERENCE_LATITUDE = "N/A"
  REFERENCE_LONGITUDE = "N/A"
  SAMPLE_FIRST_PIXEL = 1
  SAMPLE_LAST_PIXEL = 2341
  SAMPLE_PROJECTION_OFFSET = 1472.875
  SECOND_STANDARD_PARALLEL = "N/A"
  WESTERNMOST_LONGITUDE = 272.655
END_OBJECT = IMAGE_MAP_PROJECTION
/* The JPEG2000 image data file associated with this label. */
OBJECT = COMPRESSED_FILE
  FILE_NAME = "H1323_0000_RE3.JP2"
  RECORD_TYPE = UNDEFINED
  FILE_RECORDS = UNK
  ENCODING_TYPE = "JP2"
  INTERCHANGE_FORMAT = BINARY
  UNCOMPRESSED_FILE_NAME = "H1323_0000_RE3.IMG"
  REQUIRED_STORAGE_BYTES = "26163016"
  ^DESCRIPTION = "JP2INFO.TXT"
END_OBJECT = COMPRESSED_FILE
END
