PDS_VERSION_ID = PDS3
/* FILE DATA ELEMENTS */
RECORD_TYPE = STREAM
/* POINTERS TO DATA OBJECTS */
^COMPRESSED_FILE = "H1326_0000_BL3.JP2"
/* IDENTIFICATION DATA ELEMENTS */
DATA_SET_ID = "MEX-M-HRSC-5-REFDR-MAPPROJECTED-V3.0"
DATA_SET_NAME = "MARS EXPRESS HRSC MAP PROJECTED REFDR V3.0"
DETECTOR_ID = MEX_HRSC_BLUE
EVENT_TYPE = "MARS-REGIONAL-MAPPING-Fl-Eo-Mw"
INSTRUMENT_HOST_ID = MEX
INSTRUMENT_HOST_NAME = "MARS EXPRESS"
INSTRUMENT_ID = HRSC
INSTRUMENT_NAME = "HIGH RESOLUTION STEREO CAMERA"
MISSION_NAME = "MARS EXPRESS"
MISSION_PHASE_NAME = MR_Phase_4
PROCESSING_LEVEL_ID = 3
PRODUCT_CREATION_TIME = 2016-03-05T01:52:25.000Z
PRODUCT_ID = "H1326_0000_BL3.JP2"
RELEASE_ID = 0018
REVISION_ID = 0000
/* QUALITY DATA ELEMENTS */
DATA_QUALITY_ID = 1
DATA_QUALITY_DESC = "Data calculated based on original SPICE kernels"
/* TIME DATA ELEMENTS */
SPACECRAFT_CLOCK_START_COUNT = "1/0055039780.57948"
SPACECRAFT_CLOCK_STOP_COUNT = "1/0055040280.13991"
START_TIME = 2005-01-29T00:50:12.935Z
STOP_TIME = 2005-01-29T01:01:33.991Z
/* ORBITAL DATA ELEMENTS */
ASCENDING_NODE_LONGITUDE = 200.77
MAXIMUM_RESOLUTION = 51.3
FOOTPRINT_POINT_LATITUDE = (54.1565,53.4173,52.6778,51.938,51.1979 ,50.4577,49.7173,49.027,48.2869,47.5471 ,46.4089,45.6446,44.8808,44.1176, 43.3552,42.182,41.3967,40.6125,39.4048, 38.5992,37.7759,36.9482,36.1083,35.2599 ,34.3967,33.082,32.1921,31.2817,30.3573 ,29.418,27.9778,27.0122,26.0501,25.0938 ,24.1425,23.1956,22.2541,21.3181, 20.3854,19.4609,18.5409,17.6264,16.7177 ,15.8149,14.9174,14.0271,13.1421, 12.2633,11.39,11.3981,11.4242,11.438, 12.3091,13.1856,14.0679,14.9563,15.8509 ,16.7513,17.6584,18.5706,19.4869, 20.4124,21.3416,22.2757,23.2143,24.1606 ,25.1111,26.0652,27.0251,27.9895, 29.4283,30.3663,31.2894,32.1988,33.0877 ,34.4006,35.2627,36.11,36.9489,37.7754, 38.5975,39.4022,40.6084,41.3914,42.1756 ,43.3473,44.1085,44.8704,45.633,46.3961 ,47.5326,48.271,49.0096,49.6987,50.4373 ,51.1758,51.9141,53.0215,54.1275, 54.1565)
FOOTPRINT_POINT_LONGITUDE = (340.956,340.976,340.994,341.012, 341.029,341.044,341.06,341.072,341.086, 341.097,341.115,341.126,341.135,341.145 ,341.154,341.167,341.175,341.182, 341.194,341.199,341.207,341.214,341.219 ,341.225,341.231,341.24,341.245,341.25, 341.256,341.262,341.267,341.271,341.279 ,341.282,341.285,341.291,341.296,341.3, 341.311,341.313,341.319,341.325,341.332 ,341.338,341.346,341.351,341.359, 341.366,341.376,340.747,339.668,339.014 ,339.052,339.089,339.125,339.16,339.194 ,339.227,339.258,339.288,339.318, 339.345,339.371,339.396,339.421,339.442 ,339.462,339.482,339.5,339.515,339.535, 339.546,339.555,339.562,339.567,339.571 ,339.572,339.57,339.568,339.563,339.556 ,339.548,339.532,339.519,339.504, 339.477,339.457,339.435,339.411,339.384 ,339.338,339.306,339.271,339.235, 339.194,339.15,339.102,339.022,338.934, 340.956)
ORBIT_NUMBER = 1326
ORBITAL_ECCENTRICITY = 0.568
ORBITAL_INCLINATION = 86.61
ORBITAL_SEMIMAJOR_AXIS = 8563.38
PERIAPSIS_ALTITUDE = 313.7
PERIAPSIS_ARGUMENT_ANGLE = 127.42
PERIAPSIS_TIME = 2005-01-29T00:50:43.000Z
SPACECRAFT_ORIENTATION = (0.0,1.0,0.0)
^MEX_ORIENTATION_DESC = "MEX_ORIENTATION_DESC.TXT"
SPACECRAFT_POINTING_MODE = ACROSSTRACK
^MEX_POINTING_DESC = "MEX_POINTING_DESC.TXT"
RIGHT_ASCENSION = -1e+32
DECLINATION = -1e+32
OFFSET_ANGLE = 1.19
SPACECRAFT_SOLAR_DISTANCE = 2.29505e+08
TARGET_NAME = MARS
/* CAMERA DATA ELEMENTS */
DETECTOR_TEMPERATURE = 17.9627
FOCAL_PLANE_TEMPERATURE = 8.1755
INST_CMPRS_NAME = "DISCRETE COSINE TRANSFORMATION (DCT)"
INST_CMPRS_RATIO = 23.7373
INST_CMPRS_QUALITY = 0
INST_CMPRS_QUANTZ_TBL_ID = 0
INSTRUMENT_TEMPERATURE = 11.234
LENS_TEMPERATURE = 8.7872
MACROPIXEL_SIZE = 4
MISSING_FRAMES = 49
PIXEL_SUBSAMPLING_FLAG = N
SIGNAL_CHAIN_ID = 2
/* RADIOMETRIC DATA ELEMENTS */
BANDWIDTH = 76.0
CENTER_FILTER_WAVELENGTH = 444.0
RADIANCE_OFFSET = 0.635364
RADIANCE_SCALING_FACTOR = 0.00475147
REFLECTANCE_SCALING_FACTOR = 0.000257139
MEX:REFLECTANCE_OFFSET = 0.0343846
/* IMAGE OBJECT DEFINITIONS */
OBJECT = IMAGE
  INTERCHANGE_FORMAT = BINARY
  LINES = 50712
  LINE_SAMPLES = 2906
  SAMPLE_TYPE = UNSIGNED_INTEGER
  SAMPLE_BITS = 8
  BANDS = 1
  BAND_STORAGE_TYPE = BAND_SEQUENTIAL
  MAXIMUM = 151
  MEAN = 75.9238
  MINIMUM = 41
  STANDARD_DEVIATION = 18.5518
END_OBJECT = IMAGE
/* MAP OBJECT DEFINITIONS */
OBJECT = IMAGE_MAP_PROJECTION
  ^DATA_SET_MAP_PROJECTION_CATALOG= "DSMAP.CAT"
  A_AXIS_RADIUS = 3396.0
  B_AXIS_RADIUS = 3396.0
  C_AXIS_RADIUS = 3396.0
  CENTER_LATITUDE = 0.0
  CENTER_LONGITUDE = 340.0
  COORDINATE_SYSTEM_NAME = PLANETOGRAPHIC
  COORDINATE_SYSTEM_TYPE = "BODY-FIXED ROTATING"
  EASTERNMOST_LONGITUDE = 341.376
  FIRST_STANDARD_PARALLEL = "N/A"
  LINE_FIRST_PIXEL = 1
  LINE_LAST_PIXEL = 50712
  LINE_PROJECTION_OFFSET = 64212.875
  MAP_PROJECTION_ROTATION = 0.0
  MAP_PROJECTION_TYPE = SINUSOIDAL
  MAP_RESOLUTION = 1185.42760773333
  MAP_SCALE = 0.05
  MAXIMUM_LATITUDE = 54.1565
  MINIMUM_LATITUDE = 11.39
  POSITIVE_LONGITUDE_DIRECTION = EAST
  REFERENCE_LATITUDE = "N/A"
  REFERENCE_LONGITUDE = "N/A"
  SAMPLE_FIRST_PIXEL = 1
  SAMPLE_LAST_PIXEL = 2906
  SAMPLE_PROJECTION_OFFSET = 1170.125
  SECOND_STANDARD_PARALLEL = "N/A"
  WESTERNMOST_LONGITUDE = 338.934
END_OBJECT = IMAGE_MAP_PROJECTION
/* The JPEG2000 image data file associated with this label. */
OBJECT = COMPRESSED_FILE
  FILE_NAME = "H1326_0000_BL3.JP2"
  RECORD_TYPE = UNDEFINED
  FILE_RECORDS = UNK
  ENCODING_TYPE = "JP2"
  INTERCHANGE_FORMAT = BINARY
  UNCOMPRESSED_FILE_NAME = "H1326_0000_BL3.IMG"
  REQUIRED_STORAGE_BYTES = "147392320"
  ^DESCRIPTION = "JP2INFO.TXT"
END_OBJECT = COMPRESSED_FILE
END
