PDS_VERSION_ID = PDS3
/* FILE DATA ELEMENTS */
RECORD_TYPE = STREAM
/* POINTERS TO DATA OBJECTS */
^COMPRESSED_FILE = "H1333_0007_SR3.JP2"
/* IDENTIFICATION DATA ELEMENTS */
DATA_SET_ID = "MEX-M-HRSC-5-REFDR-MAPPROJECTED-V3.0"
DATA_SET_NAME = "MARS EXPRESS HRSC MAP PROJECTED REFDR V3.0"
DETECTOR_ID = MEX_HRSC_SRC
EVENT_TYPE = "MARS-LOCAL-MAPPING-Im"
INSTRUMENT_HOST_ID = MEX
INSTRUMENT_HOST_NAME = "MARS EXPRESS"
INSTRUMENT_ID = HRSC
INSTRUMENT_NAME = "HIGH RESOLUTION STEREO CAMERA"
MISSION_NAME = "MARS EXPRESS"
MISSION_PHASE_NAME = MR_Phase_4
PROCESSING_LEVEL_ID = 3
PRODUCT_CREATION_TIME = 2016-03-05T01:52:25.000Z
PRODUCT_ID = "H1333_0007_SR3.JP2"
RELEASE_ID = 0018
REVISION_ID = 0000
/* QUALITY DATA ELEMENTS */
DATA_QUALITY_ID = 1
DATA_QUALITY_DESC = "Data calculated based on original SPICE kernels"
/* TIME DATA ELEMENTS */
SPACECRAFT_CLOCK_START_COUNT = "1/0055209570.57157"
SPACECRAFT_CLOCK_STOP_COUNT = "1/0055210309.34077"
IMAGE_TIME = 2005-01-31T00:01:10.492Z
START_TIME = 2005-01-31T00:01:10.490Z
STOP_TIME = 2005-01-31T00:01:10.495Z
/* ORBITAL DATA ELEMENTS */
ASCENDING_NODE_LONGITUDE = 200.62
MAXIMUM_RESOLUTION = 4.34
FOOTPRINT_POINT_LATITUDE = (25.5773,25.5811,25.5854,25.5891, 25.5918,25.5958,25.5984,25.6012,25.6048 ,25.6068,25.6097,25.6133,25.6158, 25.6179,25.621,25.6257,25.6286,25.6322, 25.6342,25.637,25.6389,25.6414,25.6456, 25.6478,25.6505,25.6506,25.6506,25.6506 ,25.6506,25.6506,25.6506,25.6507, 25.6507,25.6507,25.6507,25.6507,25.6507 ,25.6508,25.6508,25.6508,25.6508, 25.6508,25.6508,25.6509,25.6509,25.6509 ,25.6509,25.6509,25.6509,25.651,25.651, 25.6474,25.645,25.6408,25.6381,25.6343, 25.6321,25.6293,25.6264,25.6242,25.6222 ,25.619,25.6141,25.6094,25.6056,25.603, 25.6,25.5968,25.5941,25.5908,25.5888, 25.5866,25.583,25.5803,25.5771,25.5771, 25.5771,25.577,25.577,25.577,25.577, 25.577,25.5769,25.5769,25.5769,25.5769, 25.5769,25.5769,25.5768,25.5768,25.5768 ,25.5768,25.5768,25.5768,25.5767, 25.5767,25.5767,25.5767,25.5767, 25.5773)
FOOTPRINT_POINT_LONGITUDE = (10.8161,10.8161,10.8161,10.816,10.816, 10.816,10.816,10.816,10.8159,10.8159, 10.8159,10.8159,10.8159,10.8158,10.8158 ,10.8158,10.8158,10.8157,10.8157, 10.8157,10.8157,10.8157,10.8156,10.8156 ,10.8173,10.8198,10.823,10.8263,10.8295 ,10.832,10.8344,10.8377,10.8401,10.8426 ,10.8458,10.8499,10.8531,10.8564, 10.8596,10.8629,10.8662,10.8694,10.8727 ,10.8751,10.8784,10.8816,10.8849, 10.8881,10.8914,10.8946,10.8979,10.8982 ,10.8983,10.8983,10.8983,10.8983, 10.8983,10.8984,10.8984,10.8984,10.8984 ,10.8984,10.8985,10.8985,10.8985, 10.8985,10.8985,10.8986,10.8986,10.8986 ,10.8986,10.8986,10.8986,10.8987,10.897 ,10.8937,10.8905,10.8872,10.884,10.8815 ,10.8774,10.8734,10.8693,10.8661, 10.8628,10.8604,10.8571,10.8539,10.8506 ,10.8482,10.8449,10.8417,10.8392,10.836 ,10.8319,10.8286,10.8262,10.823,10.8189 ,10.8161)
ORBIT_NUMBER = 1333
ORBITAL_ECCENTRICITY = 0.568
ORBITAL_INCLINATION = 86.59
ORBITAL_SEMIMAJOR_AXIS = 8564.65
PERIAPSIS_ALTITUDE = 314.66
PERIAPSIS_ARGUMENT_ANGLE = 126.16
PERIAPSIS_TIME = 2005-01-30T23:53:51.000Z
SPACECRAFT_ORIENTATION = (0.0,-1.0,0.0)
^MEX_ORIENTATION_DESC = "MEX_ORIENTATION_DESC.TXT"
SPACECRAFT_POINTING_MODE = NADIR
^MEX_POINTING_DESC = "MEX_POINTING_DESC.TXT"
RIGHT_ASCENSION = -1e+32
DECLINATION = -1e+32
OFFSET_ANGLE = -1e+32
SPACECRAFT_SOLAR_DISTANCE = 2.29126e+08
TARGET_NAME = MARS
/* CAMERA DATA ELEMENTS */
BUFFER_MODE_ID = BUFFER_8
EXPOSURE_DURATION = 5.04
INST_CMPRS_NAME = NONE
INST_CMPRS_RATIO = 1.0
INST_CMPRS_QUALITY = -2147483648
INST_CMPRS_QUANTZ_TBL_ID = -2147483648
INSTRUMENT_TEMPERATURE = 7.40451
MISSING_FRAMES = 0
START_BIT = 0
/* RADIOMETRIC DATA ELEMENTS */
BANDWIDTH = 250.0
CENTER_FILTER_WAVELENGTH = 600.0
RADIANCE_OFFSET = -9.99e+31
RADIANCE_SCALING_FACTOR = -9.99e+31
REFLECTANCE_SCALING_FACTOR = -9.99e+31
MEX:REFLECTANCE_OFFSET = -9.99e+31
/* IMAGE OBJECT DEFINITIONS */
OBJECT = IMAGE
  INTERCHANGE_FORMAT = BINARY
  LINES = 929
  LINE_SAMPLES = 935
  SAMPLE_TYPE = UNSIGNED_INTEGER
  SAMPLE_BITS = 8
  BANDS = 1
  BAND_STORAGE_TYPE = BAND_SEQUENTIAL
  MAXIMUM = 10275
  MEAN = 9701.2
  MINIMUM = 8267
  STANDARD_DEVIATION = 130.848
END_OBJECT = IMAGE
/* MAP OBJECT DEFINITIONS */
OBJECT = IMAGE_MAP_PROJECTION
  ^DATA_SET_MAP_PROJECTION_CATALOG= "DSMAP.CAT"
  A_AXIS_RADIUS = 3396.19
  B_AXIS_RADIUS = 3396.19
  C_AXIS_RADIUS = 3396.19
  CENTER_LATITUDE = 0.0
  CENTER_LONGITUDE = 11.0
  COORDINATE_SYSTEM_NAME = PLANETOGRAPHIC
  COORDINATE_SYSTEM_TYPE = "BODY-FIXED ROTATING"
  EASTERNMOST_LONGITUDE = 10.8987
  FIRST_STANDARD_PARALLEL = "N/A"
  LINE_FIRST_PIXEL = 1
  LINE_LAST_PIXEL = 929
  LINE_PROJECTION_OFFSET = 303999.0
  MAP_PROJECTION_ROTATION = 0.0
  MAP_PROJECTION_TYPE = SINUSOIDAL
  MAP_RESOLUTION = 11854.9393024378
  MAP_SCALE = 0.005
  MAXIMUM_LATITUDE = 25.651
  MINIMUM_LATITUDE = 25.5767
  POSITIVE_LONGITUDE_DIRECTION = EAST
  REFERENCE_LATITUDE = "N/A"
  REFERENCE_LONGITUDE = "N/A"
  SAMPLE_FIRST_PIXEL = 1
  SAMPLE_LAST_PIXEL = 935
  SAMPLE_PROJECTION_OFFSET = 1991.0
  SECOND_STANDARD_PARALLEL = "N/A"
  WESTERNMOST_LONGITUDE = 10.8156
END_OBJECT = IMAGE_MAP_PROJECTION
/* The JPEG2000 image data file associated with this label. */
OBJECT = COMPRESSED_FILE
  FILE_NAME = "H1333_0007_SR3.JP2"
  RECORD_TYPE = UNDEFINED
  FILE_RECORDS = UNK
  ENCODING_TYPE = "JP2"
  INTERCHANGE_FORMAT = BINARY
  UNCOMPRESSED_FILE_NAME = "H1333_0007_SR3.IMG"
  REQUIRED_STORAGE_BYTES = "886380"
  ^DESCRIPTION = "JP2INFO.TXT"
END_OBJECT = COMPRESSED_FILE
END
