PDS_VERSION_ID = PDS3
/* FILE DATA ELEMENTS */
RECORD_TYPE = STREAM
/* POINTERS TO DATA OBJECTS */
^COMPRESSED_FILE = "H1337_0000_GR3.JP2"
/* IDENTIFICATION DATA ELEMENTS */
DATA_SET_ID = "MEX-M-HRSC-5-REFDR-MAPPROJECTED-V3.0"
DATA_SET_NAME = "MARS EXPRESS HRSC MAP PROJECTED REFDR V3.0"
DETECTOR_ID = MEX_HRSC_GREEN
EVENT_TYPE = "MARS-LOCAL-MAPPING-Pf-Eo-Mw"
INSTRUMENT_HOST_ID = MEX
INSTRUMENT_HOST_NAME = "MARS EXPRESS"
INSTRUMENT_ID = HRSC
INSTRUMENT_NAME = "HIGH RESOLUTION STEREO CAMERA"
MISSION_NAME = "MARS EXPRESS"
MISSION_PHASE_NAME = MR_Phase_4
PROCESSING_LEVEL_ID = 3
PRODUCT_CREATION_TIME = 2016-03-05T01:52:25.000Z
PRODUCT_ID = "H1337_0000_GR3.JP2"
RELEASE_ID = 0018
REVISION_ID = 0000
/* QUALITY DATA ELEMENTS */
DATA_QUALITY_ID = 1
DATA_QUALITY_DESC = "Data calculated based on original SPICE kernels"
/* TIME DATA ELEMENTS */
SPACECRAFT_CLOCK_START_COUNT = "1/0055305782.57151"
SPACECRAFT_CLOCK_STOP_COUNT = "1/0055306214.40815"
START_TIME = 2005-02-01T02:43:50.366Z
STOP_TIME = 2005-02-01T02:49:53.906Z
/* ORBITAL DATA ELEMENTS */
ASCENDING_NODE_LONGITUDE = 200.54
MAXIMUM_RESOLUTION = 51.2
FOOTPRINT_POINT_LATITUDE = (67.5433,67.3583,66.8519,66.3448, 65.8371,65.3363,64.8435,64.3501,63.8563 ,63.3619,62.873,62.3939,61.9146,61.4281 ,60.948,60.4678,59.9873,59.5066,59.0385 ,58.5736,58.1083,57.4104,56.945,56.4796 ,56.0142,55.5487,54.8507,54.3853,53.92, 53.2223,52.7575,52.2923,51.5958,51.1315 ,50.6673,50.2036,49.7398,49.2766, 48.8137,48.3354,47.6183,47.1409,46.6638 ,46.1872,45.7112,45.2356,44.7461, 44.2557,43.7661,43.7358,43.7161,44.2048 ,44.6941,45.1834,45.6582,46.1334,46.609 ,47.085,47.5616,48.0385,48.5159,48.9857 ,49.4474,50.1417,50.8361,51.299,51.7622 ,52.2259,52.6894,53.1531,53.617,54.081, 54.5449,55.009,55.4729,55.9369,56.4008, 56.8647,57.3284,57.7921,58.2556,58.7189 ,59.182,59.8949,60.3733,60.8514,61.3292 ,61.8132,62.2902,62.7667,63.4982, 63.9893,64.4798,64.9698,65.459,65.9633, 66.4668,66.9695,67.4715,67.5433)
FOOTPRINT_POINT_LONGITUDE = (336.388,337.989,338.056,338.121, 338.181,338.239,338.293,338.345,338.394 ,338.442,338.486,338.528,338.569, 338.608,338.645,338.682,338.716,338.749 ,338.78,338.81,338.837,338.878,338.905, 338.93,338.954,338.977,339.012,339.033, 339.053,339.083,339.103,339.118,339.148 ,339.165,339.181,339.197,339.211, 339.225,339.24,339.254,339.274,339.288, 339.3,339.313,339.325,339.336,339.349, 339.359,339.37,338.515,337.672,337.656, 337.64,337.622,337.604,337.585,337.565, 337.543,337.521,337.497,337.472,337.446 ,337.418,337.377,337.332,337.299, 337.265,337.23,337.193,337.155,337.115, 337.073,337.029,336.983,336.935,336.886 ,336.834,336.779,336.723,336.664, 336.602,336.538,336.471,336.363,336.286 ,336.205,336.121,336.032,335.94,335.844 ,335.687,335.576,335.459,335.337, 335.209,335.07,334.924,334.77,334.609, 336.388)
ORBIT_NUMBER = 1337
ORBITAL_ECCENTRICITY = 0.568
ORBITAL_INCLINATION = 86.61
ORBITAL_SEMIMAJOR_AXIS = 8560.56
PERIAPSIS_ALTITUDE = 315.1
PERIAPSIS_ARGUMENT_ANGLE = 125.45
PERIAPSIS_TIME = 2005-02-01T02:47:06.000Z
SPACECRAFT_ORIENTATION = (0.0,1.0,0.0)
^MEX_ORIENTATION_DESC = "MEX_ORIENTATION_DESC.TXT"
SPACECRAFT_POINTING_MODE = ACROSSTRACK
^MEX_POINTING_DESC = "MEX_POINTING_DESC.TXT"
RIGHT_ASCENSION = -1e+32
DECLINATION = -1e+32
OFFSET_ANGLE = 0.92
SPACECRAFT_SOLAR_DISTANCE = 2.28909e+08
TARGET_NAME = MARS
/* CAMERA DATA ELEMENTS */
DETECTOR_TEMPERATURE = 18.3705
FOCAL_PLANE_TEMPERATURE = 8.5833
INST_CMPRS_NAME = "DISCRETE COSINE TRANSFORMATION (DCT)"
INST_CMPRS_RATIO = 21.2645
INST_CMPRS_QUALITY = 0
INST_CMPRS_QUANTZ_TBL_ID = 0
INSTRUMENT_TEMPERATURE = 10.8262
LENS_TEMPERATURE = 8.3794
MACROPIXEL_SIZE = 4
MISSING_FRAMES = 1
PIXEL_SUBSAMPLING_FLAG = N
SIGNAL_CHAIN_ID = 2
/* RADIOMETRIC DATA ELEMENTS */
BANDWIDTH = 88.0
CENTER_FILTER_WAVELENGTH = 538.0
RADIANCE_OFFSET = 1.24991
RADIANCE_SCALING_FACTOR = 0.00450633
REFLECTANCE_SCALING_FACTOR = 0.000203301
MEX:REFLECTANCE_OFFSET = 0.0563893
/* IMAGE OBJECT DEFINITIONS */
OBJECT = IMAGE
  INTERCHANGE_FORMAT = BINARY
  LINES = 28322
  LINE_SAMPLES = 2781
  SAMPLE_TYPE = UNSIGNED_INTEGER
  SAMPLE_BITS = 8
  BANDS = 1
  BAND_STORAGE_TYPE = BAND_SEQUENTIAL
  MAXIMUM = 124
  MEAN = 89.6493
  MINIMUM = 59
  STANDARD_DEVIATION = 8.65437
END_OBJECT = IMAGE
/* MAP OBJECT DEFINITIONS */
OBJECT = IMAGE_MAP_PROJECTION
  ^DATA_SET_MAP_PROJECTION_CATALOG= "DSMAP.CAT"
  A_AXIS_RADIUS = 3396.0
  B_AXIS_RADIUS = 3396.0
  C_AXIS_RADIUS = 3396.0
  CENTER_LATITUDE = 0.0
  CENTER_LONGITUDE = 338.0
  COORDINATE_SYSTEM_NAME = PLANETOGRAPHIC
  COORDINATE_SYSTEM_TYPE = "BODY-FIXED ROTATING"
  EASTERNMOST_LONGITUDE = 339.37
  FIRST_STANDARD_PARALLEL = "N/A"
  LINE_FIRST_PIXEL = 1
  LINE_LAST_PIXEL = 28322
  LINE_PROJECTION_OFFSET = 80150.125
  MAP_PROJECTION_ROTATION = 0.0
  MAP_PROJECTION_TYPE = SINUSOIDAL
  MAP_RESOLUTION = 1185.42760773333
  MAP_SCALE = 0.05
  MAXIMUM_LATITUDE = 67.5433
  MINIMUM_LATITUDE = 43.7161
  POSITIVE_LONGITUDE_DIRECTION = EAST
  REFERENCE_LATITUDE = "N/A"
  REFERENCE_LONGITUDE = "N/A"
  SAMPLE_FIRST_PIXEL = 1
  SAMPLE_LAST_PIXEL = 2781
  SAMPLE_PROJECTION_OFFSET = 1566.875
  SECOND_STANDARD_PARALLEL = "N/A"
  WESTERNMOST_LONGITUDE = 334.609
END_OBJECT = IMAGE_MAP_PROJECTION
/* The JPEG2000 image data file associated with this label. */
OBJECT = COMPRESSED_FILE
  FILE_NAME = "H1337_0000_GR3.JP2"
  RECORD_TYPE = UNDEFINED
  FILE_RECORDS = UNK
  ENCODING_TYPE = "JP2"
  INTERCHANGE_FORMAT = BINARY
  UNCOMPRESSED_FILE_NAME = "H1337_0000_GR3.IMG"
  REQUIRED_STORAGE_BYTES = "78785730"
  ^DESCRIPTION = "JP2INFO.TXT"
END_OBJECT = COMPRESSED_FILE
END
