PDS_VERSION_ID = PDS3
/* FILE DATA ELEMENTS */
RECORD_TYPE = STREAM
/* POINTERS TO DATA OBJECTS */
^COMPRESSED_FILE = "H1337_0000_ND3.JP2"
/* IDENTIFICATION DATA ELEMENTS */
DATA_SET_ID = "MEX-M-HRSC-5-REFDR-MAPPROJECTED-V3.0"
DATA_SET_NAME = "MARS EXPRESS HRSC MAP PROJECTED REFDR V3.0"
DETECTOR_ID = MEX_HRSC_NADIR
EVENT_TYPE = "MARS-LOCAL-MAPPING-Pf-Eo-Mw"
INSTRUMENT_HOST_ID = MEX
INSTRUMENT_HOST_NAME = "MARS EXPRESS"
INSTRUMENT_ID = HRSC
INSTRUMENT_NAME = "HIGH RESOLUTION STEREO CAMERA"
MISSION_NAME = "MARS EXPRESS"
MISSION_PHASE_NAME = MR_Phase_4
PROCESSING_LEVEL_ID = 3
PRODUCT_CREATION_TIME = 2016-03-05T01:52:25.000Z
PRODUCT_ID = "H1337_0000_ND3.JP2"
RELEASE_ID = 0018
REVISION_ID = 0000
/* QUALITY DATA ELEMENTS */
DATA_QUALITY_ID = 1
DATA_QUALITY_DESC = "Data calculated based on original SPICE kernels"
/* TIME DATA ELEMENTS */
SPACECRAFT_CLOCK_START_COUNT = "1/0055305782.57151"
SPACECRAFT_CLOCK_STOP_COUNT = "1/0055306214.40815"
START_TIME = 2005-02-01T02:43:44.665Z
STOP_TIME = 2005-02-01T02:49:48.657Z
/* ORBITAL DATA ELEMENTS */
ASCENDING_NODE_LONGITUDE = 200.54
MAXIMUM_RESOLUTION = 12.8
FOOTPRINT_POINT_LATITUDE = (67.5787,67.1026,66.5985,66.0936,65.588 ,65.0859,64.5948,64.1032,63.611,63.1182 ,62.6275,62.1497,61.6714,61.1928, 60.7138,60.2344,59.7547,59.036,58.5716, 58.107,57.6422,57.1772,56.712,56.2467, 55.7813,55.3158,54.8502,54.3846,53.919, 53.4533,52.7549,52.2894,51.8239,51.3586 ,50.8933,50.4282,49.9633,49.4986,49.034 ,48.5697,47.8532,47.3737,46.8944, 46.4155,45.937,45.4589,44.9813,44.2459, 43.7536,43.7358,43.9663,44.4581,44.9465 ,45.4233,45.9005,46.3781,46.856,47.3344 ,47.813,48.5283,48.9916,49.4552,49.9189 ,50.3828,50.8468,51.3109,51.7752, 52.2395,52.7038,53.1682,53.6326,54.0969 ,54.7934,55.2575,55.7216,56.1855, 56.6492,57.1128,57.5761,58.0393,58.5021 ,58.9647,59.6801,60.1577,60.6349, 61.1116,61.5879,62.0637,62.539,63.0267, 63.5166,64.0058,64.4943,64.9821,65.4804 ,65.9823,66.4833,66.9834,67.4926, 67.5787)
FOOTPRINT_POINT_LONGITUDE = (336.501,338.049,338.114,338.175, 338.233,338.289,338.341,338.39,338.438, 338.483,338.526,338.567,338.606,338.644 ,338.679,338.715,338.747,338.794, 338.825,338.851,338.879,338.905,338.93, 338.954,338.978,339.001,339.023,339.044 ,339.064,339.083,339.113,339.129,339.15 ,339.166,339.182,339.198,339.212, 339.227,339.241,339.254,339.275,339.288 ,339.302,339.314,339.326,339.337, 339.349,339.366,339.376,338.538,337.667 ,337.651,337.634,337.616,337.597, 337.577,337.556,337.534,337.511,337.473 ,337.447,337.42,337.392,337.363,337.332 ,337.299,337.265,337.23,337.193,337.154 ,337.113,337.071,337.004,336.957, 336.908,336.857,336.803,336.748,336.69, 336.629,336.566,336.501,336.393,336.317 ,336.238,336.156,336.069,335.979, 335.885,335.784,335.678,335.566,335.449 ,335.327,335.195,335.056,334.91,334.756 ,334.591,336.501)
ORBIT_NUMBER = 1337
ORBITAL_ECCENTRICITY = 0.568
ORBITAL_INCLINATION = 86.61
ORBITAL_SEMIMAJOR_AXIS = 8560.56
PERIAPSIS_ALTITUDE = 315.1
PERIAPSIS_ARGUMENT_ANGLE = 125.45
PERIAPSIS_TIME = 2005-02-01T02:47:06.000Z
SPACECRAFT_ORIENTATION = (0.0,1.0,0.0)
^MEX_ORIENTATION_DESC = "MEX_ORIENTATION_DESC.TXT"
SPACECRAFT_POINTING_MODE = ACROSSTRACK
^MEX_POINTING_DESC = "MEX_POINTING_DESC.TXT"
RIGHT_ASCENSION = -1e+32
DECLINATION = -1e+32
OFFSET_ANGLE = 0.92
SPACECRAFT_SOLAR_DISTANCE = 2.28909e+08
TARGET_NAME = MARS
/* CAMERA DATA ELEMENTS */
DETECTOR_TEMPERATURE = 18.3705
FOCAL_PLANE_TEMPERATURE = 8.5833
INST_CMPRS_NAME = "DISCRETE COSINE TRANSFORMATION (DCT)"
INST_CMPRS_RATIO = 7.85764
INST_CMPRS_QUALITY = 0
INST_CMPRS_QUANTZ_TBL_ID = 0
INSTRUMENT_TEMPERATURE = 10.8262
LENS_TEMPERATURE = 8.3794
MACROPIXEL_SIZE = 1
MISSING_FRAMES = 0
PIXEL_SUBSAMPLING_FLAG = N
SIGNAL_CHAIN_ID = 0
/* RADIOMETRIC DATA ELEMENTS */
BANDWIDTH = 177.0
CENTER_FILTER_WAVELENGTH = 677.5
RADIANCE_OFFSET = 2.63111
RADIANCE_SCALING_FACTOR = 0.0149612
REFLECTANCE_SCALING_FACTOR = 0.000416465
MEX:REFLECTANCE_OFFSET = 0.0732404
/* IMAGE OBJECT DEFINITIONS */
OBJECT = IMAGE
  INTERCHANGE_FORMAT = BINARY
  LINES = 113285
  LINE_SAMPLES = 11124
  SAMPLE_TYPE = UNSIGNED_INTEGER
  SAMPLE_BITS = 8
  BANDS = 1
  BAND_STORAGE_TYPE = BAND_SEQUENTIAL
  MAXIMUM = 143
  MEAN = 65.6101
  MINIMUM = 34
  STANDARD_DEVIATION = 8.05681
END_OBJECT = IMAGE
/* MAP OBJECT DEFINITIONS */
OBJECT = IMAGE_MAP_PROJECTION
  ^DATA_SET_MAP_PROJECTION_CATALOG= "DSMAP.CAT"
  A_AXIS_RADIUS = 3396.0
  B_AXIS_RADIUS = 3396.0
  C_AXIS_RADIUS = 3396.0
  CENTER_LATITUDE = 0.0
  CENTER_LONGITUDE = 338.0
  COORDINATE_SYSTEM_NAME = PLANETOGRAPHIC
  COORDINATE_SYSTEM_TYPE = "BODY-FIXED ROTATING"
  EASTERNMOST_LONGITUDE = 339.376
  FIRST_STANDARD_PARALLEL = "N/A"
  LINE_FIRST_PIXEL = 1
  LINE_LAST_PIXEL = 113285
  LINE_PROJECTION_OFFSET = 320602.0
  MAP_PROJECTION_ROTATION = 0.0
  MAP_PROJECTION_TYPE = SINUSOIDAL
  MAP_RESOLUTION = 4741.71043093333
  MAP_SCALE = 0.0125
  MAXIMUM_LATITUDE = 67.5787
  MINIMUM_LATITUDE = 43.7358
  POSITIVE_LONGITUDE_DIRECTION = EAST
  REFERENCE_LATITUDE = "N/A"
  REFERENCE_LONGITUDE = "N/A"
  SAMPLE_FIRST_PIXEL = 1
  SAMPLE_LAST_PIXEL = 11124
  SAMPLE_PROJECTION_OFFSET = 6269.0
  SECOND_STANDARD_PARALLEL = "N/A"
  WESTERNMOST_LONGITUDE = 334.591
END_OBJECT = IMAGE_MAP_PROJECTION
/* The JPEG2000 image data file associated with this label. */
OBJECT = COMPRESSED_FILE
  FILE_NAME = "H1337_0000_ND3.JP2"
  RECORD_TYPE = UNDEFINED
  FILE_RECORDS = UNK
  ENCODING_TYPE = "JP2"
  INTERCHANGE_FORMAT = BINARY
  UNCOMPRESSED_FILE_NAME = "H1337_0000_ND3.IMG"
  REQUIRED_STORAGE_BYTES = "1260215712"
  ^DESCRIPTION = "JP2INFO.TXT"
END_OBJECT = COMPRESSED_FILE
END
