PDS_VERSION_ID = PDS3
/* FILE DATA ELEMENTS */
RECORD_TYPE = STREAM
/* POINTERS TO DATA OBJECTS */
^COMPRESSED_FILE = "H1339_0000_BL3.JP2"
/* IDENTIFICATION DATA ELEMENTS */
DATA_SET_ID = "MEX-M-HRSC-5-REFDR-MAPPROJECTED-V3.0"
DATA_SET_NAME = "MARS EXPRESS HRSC MAP PROJECTED REFDR V3.0"
DETECTOR_ID = MEX_HRSC_BLUE
EVENT_TYPE = "MARS-REGIONAL-STEREO-Vo-Te-Fl"
INSTRUMENT_HOST_ID = MEX
INSTRUMENT_HOST_NAME = "MARS EXPRESS"
INSTRUMENT_ID = HRSC
INSTRUMENT_NAME = "HIGH RESOLUTION STEREO CAMERA"
MISSION_NAME = "MARS EXPRESS"
MISSION_PHASE_NAME = MR_Phase_4
PROCESSING_LEVEL_ID = 3
PRODUCT_CREATION_TIME = 2016-03-05T01:52:25.000Z
PRODUCT_ID = "H1339_0000_BL3.JP2"
RELEASE_ID = 0018
REVISION_ID = 0000
/* QUALITY DATA ELEMENTS */
DATA_QUALITY_ID = 1
DATA_QUALITY_DESC = "Data calculated based on original SPICE kernels"
/* TIME DATA ELEMENTS */
SPACECRAFT_CLOCK_START_COUNT = "1/0055354756.57936"
SPACECRAFT_CLOCK_STOP_COUNT = "1/0055355396.54571"
START_TIME = 2005-02-01T16:20:10.525Z
STOP_TIME = 2005-02-01T16:31:05.064Z
/* ORBITAL DATA ELEMENTS */
ASCENDING_NODE_LONGITUDE = 200.49
MAXIMUM_RESOLUTION = 70.2
FOOTPRINT_POINT_LATITUDE = (30.4086,30.4009,30.3984,29.6851, 28.9596,28.2241,27.4778,26.7191,25.9485 ,25.1721,24.4003,23.633,22.8702,22.112, 21.3587,20.6099,19.8661,19.1269,18.3927 ,17.6632,16.9387,16.2189,15.5042, 14.7943,14.0896,13.3898,12.6951,12.0055 ,11.3209,10.6414,9.96678,9.29709,8.6324 ,7.97305,7.31868,6.6694,6.02498,5.38578 ,4.75158,4.1224,3.49823,2.87916,2.26498 ,1.65575,1.05165,0.452217,-0.731788, -1.89582,-3.04232,-3.62388,-3.66018, -3.68315,-3.71751,-3.73479,-2.5903, -1.42702,-0.244618,0.956785,1.56503, 2.17821,2.79643,3.41943,4.04722,4.68011 ,5.3179,5.96084,6.60868,7.26149,7.91929 ,8.58186,9.24959,9.92254,10.6001, 11.2825,11.9722,12.664,13.36,14.0627, 14.7703,15.4827,16.2001,16.9226,17.6492 ,18.381,19.1176,19.859,20.6051,21.3563, 22.113,22.8722,23.6371,24.4065,25.1803, 25.9584,26.7308,27.4906,28.2388,28.976, 29.703,30.4086)
FOOTPRINT_POINT_LONGITUDE = (141.429,140.394,139.663,139.669, 139.673,139.675,139.675,139.675,139.671 ,139.666,139.658,139.649,139.638, 139.625,139.611,139.595,139.578,139.559 ,139.539,139.518,139.496,139.473, 139.448,139.423,139.396,139.368,139.339 ,139.309,139.278,139.246,139.214, 139.181,139.147,139.111,139.076,139.039 ,139.001,138.963,138.924,138.884, 138.844,138.802,138.76,138.717,138.673, 138.629,138.539,138.445,138.352,138.776 ,139.759,140.448,141.535,142.201, 142.172,142.144,142.116,142.088,142.075 ,142.062,142.049,142.036,142.022, 142.009,141.996,141.983,141.97,141.957, 141.945,141.931,141.918,141.905,141.891 ,141.878,141.867,141.852,141.836, 141.822,141.808,141.793,141.779,141.764 ,141.748,141.733,141.717,141.701, 141.684,141.668,141.652,141.633,141.615 ,141.596,141.578,141.558,141.538, 141.518,141.498,141.478,141.458, 141.429)
ORBIT_NUMBER = 1339
ORBITAL_ECCENTRICITY = 0.568
ORBITAL_INCLINATION = 86.59
ORBITAL_SEMIMAJOR_AXIS = 8564.08
PERIAPSIS_ALTITUDE = 315.78
PERIAPSIS_ARGUMENT_ANGLE = 125.11
PERIAPSIS_TIME = 2005-02-01T16:13:45.000Z
SPACECRAFT_ORIENTATION = (0.0,-1.0,0.0)
^MEX_ORIENTATION_DESC = "MEX_ORIENTATION_DESC.TXT"
SPACECRAFT_POINTING_MODE = ACROSSTRACK
^MEX_POINTING_DESC = "MEX_POINTING_DESC.TXT"
RIGHT_ASCENSION = -1e+32
DECLINATION = -1e+32
OFFSET_ANGLE = -0.32
SPACECRAFT_SOLAR_DISTANCE = 2.28801e+08
TARGET_NAME = MARS
/* CAMERA DATA ELEMENTS */
DETECTOR_TEMPERATURE = 17.9627
FOCAL_PLANE_TEMPERATURE = 7.9716
INST_CMPRS_NAME = "DISCRETE COSINE TRANSFORMATION (DCT)"
INST_CMPRS_RATIO = 30.5793
INST_CMPRS_QUALITY = 0
INST_CMPRS_QUANTZ_TBL_ID = 0
INSTRUMENT_TEMPERATURE = 11.0301
LENS_TEMPERATURE = 8.5833
MACROPIXEL_SIZE = 4
MISSING_FRAMES = 0
PIXEL_SUBSAMPLING_FLAG = N
SIGNAL_CHAIN_ID = 2
/* RADIOMETRIC DATA ELEMENTS */
BANDWIDTH = 76.0
CENTER_FILTER_WAVELENGTH = 444.0
RADIANCE_OFFSET = 1.1894
RADIANCE_SCALING_FACTOR = 0.0036597
REFLECTANCE_SCALING_FACTOR = 0.00019684
MEX:REFLECTANCE_OFFSET = 0.063973
/* IMAGE OBJECT DEFINITIONS */
OBJECT = IMAGE
  INTERCHANGE_FORMAT = BINARY
  LINES = 40496
  LINE_SAMPLES = 4591
  SAMPLE_TYPE = UNSIGNED_INTEGER
  SAMPLE_BITS = 8
  BANDS = 1
  BAND_STORAGE_TYPE = BAND_SEQUENTIAL
  MAXIMUM = 177
  MEAN = 84.7149
  MINIMUM = 55
  STANDARD_DEVIATION = 7.64245
END_OBJECT = IMAGE
/* MAP OBJECT DEFINITIONS */
OBJECT = IMAGE_MAP_PROJECTION
  ^DATA_SET_MAP_PROJECTION_CATALOG= "DSMAP.CAT"
  A_AXIS_RADIUS = 3396.0
  B_AXIS_RADIUS = 3396.0
  C_AXIS_RADIUS = 3396.0
  CENTER_LATITUDE = 0.0
  CENTER_LONGITUDE = 141.0
  COORDINATE_SYSTEM_NAME = PLANETOGRAPHIC
  COORDINATE_SYSTEM_TYPE = "BODY-FIXED ROTATING"
  EASTERNMOST_LONGITUDE = 142.201
  FIRST_STANDARD_PARALLEL = "N/A"
  LINE_FIRST_PIXEL = 1
  LINE_LAST_PIXEL = 40496
  LINE_PROJECTION_OFFSET = 36071.375
  MAP_PROJECTION_ROTATION = 0.0
  MAP_PROJECTION_TYPE = SINUSOIDAL
  MAP_RESOLUTION = 1185.42760773333
  MAP_SCALE = 0.05
  MAXIMUM_LATITUDE = 30.4086
  MINIMUM_LATITUDE = -3.73479
  POSITIVE_LONGITUDE_DIRECTION = EAST
  REFERENCE_LATITUDE = "N/A"
  REFERENCE_LONGITUDE = "N/A"
  SAMPLE_FIRST_PIXEL = 1
  SAMPLE_LAST_PIXEL = 4591
  SAMPLE_PROJECTION_OFFSET = 3203.625
  SECOND_STANDARD_PARALLEL = "N/A"
  WESTERNMOST_LONGITUDE = 138.352
END_OBJECT = IMAGE_MAP_PROJECTION
/* The JPEG2000 image data file associated with this label. */
OBJECT = COMPRESSED_FILE
  FILE_NAME = "H1339_0000_BL3.JP2"
  RECORD_TYPE = UNDEFINED
  FILE_RECORDS = UNK
  ENCODING_TYPE = "JP2"
  INTERCHANGE_FORMAT = BINARY
  UNCOMPRESSED_FILE_NAME = "H1339_0000_BL3.IMG"
  REQUIRED_STORAGE_BYTES = "185944682"
  ^DESCRIPTION = "JP2INFO.TXT"
END_OBJECT = COMPRESSED_FILE
END
