PDS_VERSION_ID = PDS3
/* FILE DATA ELEMENTS */
RECORD_TYPE = STREAM
/* POINTERS TO DATA OBJECTS */
^COMPRESSED_FILE = "H1343_0000_P23.JP2"
/* IDENTIFICATION DATA ELEMENTS */
DATA_SET_ID = "MEX-M-HRSC-5-REFDR-MAPPROJECTED-V3.0"
DATA_SET_NAME = "MARS EXPRESS HRSC MAP PROJECTED REFDR V3.0"
DETECTOR_ID = MEX_HRSC_P2
EVENT_TYPE = "MARS-REGIONAL-MAPPING-Im-Pf-Eo"
INSTRUMENT_HOST_ID = MEX
INSTRUMENT_HOST_NAME = "MARS EXPRESS"
INSTRUMENT_ID = HRSC
INSTRUMENT_NAME = "HIGH RESOLUTION STEREO CAMERA"
MISSION_NAME = "MARS EXPRESS"
MISSION_PHASE_NAME = MR_Phase_4
PROCESSING_LEVEL_ID = 3
PRODUCT_CREATION_TIME = 2016-03-05T01:52:25.000Z
PRODUCT_ID = "H1343_0000_P23.JP2"
RELEASE_ID = 0018
REVISION_ID = 0000
/* QUALITY DATA ELEMENTS */
DATA_QUALITY_ID = 1
DATA_QUALITY_DESC = "Data calculated based on original SPICE kernels"
/* TIME DATA ELEMENTS */
SPACECRAFT_CLOCK_START_COUNT = "1/0055450804.57927"
SPACECRAFT_CLOCK_STOP_COUNT = "1/0055451249.24788"
START_TIME = 2005-02-02T19:00:29.001Z
STOP_TIME = 2005-02-02T19:06:48.183Z
/* ORBITAL DATA ELEMENTS */
ASCENDING_NODE_LONGITUDE = 200.41
MAXIMUM_RESOLUTION = 52.5
FOOTPRINT_POINT_LATITUDE = (78.6471,78.783,78.9016,78.9235,78.3671 ,77.5399,76.9937,76.454,75.6539,75.1242 ,74.6033,74.0827,73.5716,73.0583, 72.5565,72.0537,71.3115,70.8182,70.329, 69.8471,69.3639,68.8844,68.4127,67.94, 67.2353,66.7738,66.3115,65.848,65.3903, 64.9395,64.4877,63.8084,63.3553,62.9153 ,62.4743,62.0327,61.5903,61.1473, 60.7035,60.2661,59.8361,59.4053,58.9739 ,58.542,58.1097,57.6767,57.2433,56.8095 ,56.1578,55.7229,55.2876,55.2028, 55.1773,55.603,56.0364,56.4693,56.9015, 57.3332,57.7646,58.1952,58.6253,59.0549 ,59.4837,59.912,60.3395,60.9998,61.4403 ,61.8798,62.3187,62.7566,63.1936, 63.8661,64.3157,64.7634,65.4336,65.8916 ,66.3501,66.8072,67.2632,67.7306, 68.4311,68.8961,69.3732,69.8497,70.5666 ,71.0514,71.5341,72.2723,72.7636, 73.2648,73.764,74.2704,74.7771,75.29, 75.8035,76.324,77.1079,77.6326,78.1638, 78.6471)
FOOTPRINT_POINT_LONGITUDE = (93.6483,95.8643,98.1447,101.063, 101.561,102.215,102.601,102.95,103.418, 103.699,103.956,104.195,104.414,104.621 ,104.811,104.989,105.233,105.386,105.53 ,105.663,105.791,105.911,106.025, 106.132,106.284,106.379,106.469,106.556 ,106.638,106.716,106.791,106.898, 106.967,107.03,107.092,107.152,107.21, 107.266,107.32,107.371,107.42,107.468, 107.514,107.559,107.602,107.644,107.685 ,107.724,107.782,107.819,107.855, 106.938,106.137,105.836,105.775,105.711 ,105.645,105.577,105.506,105.432, 105.356,105.277,105.196,105.111,105.023 ,104.881,104.781,104.678,104.57,104.459 ,104.342,104.155,104.022,103.884, 103.667,103.51,103.345,103.173,102.994, 102.801,102.493,102.276,102.041,101.794 ,101.395,101.106,100.801,100.298, 99.9362,99.543,99.1237,98.6686,98.1787, 97.6451,97.0675,96.433,95.3699,94.5741, 93.6883,93.6483)
ORBIT_NUMBER = 1343
ORBITAL_ECCENTRICITY = 0.568
ORBITAL_INCLINATION = 86.6
ORBITAL_SEMIMAJOR_AXIS = 8566.73
PERIAPSIS_ALTITUDE = 315.18
PERIAPSIS_ARGUMENT_ANGLE = 124.37
PERIAPSIS_TIME = 2005-02-02T19:07:03.000Z
SPACECRAFT_ORIENTATION = (0.0,1.0,0.0)
^MEX_ORIENTATION_DESC = "MEX_ORIENTATION_DESC.TXT"
SPACECRAFT_POINTING_MODE = ACROSSTRACK
^MEX_POINTING_DESC = "MEX_POINTING_DESC.TXT"
RIGHT_ASCENSION = -1e+32
DECLINATION = -1e+32
OFFSET_ANGLE = 0.28
SPACECRAFT_SOLAR_DISTANCE = 2.28583e+08
TARGET_NAME = MARS
/* CAMERA DATA ELEMENTS */
DETECTOR_TEMPERATURE = 18.3705
FOCAL_PLANE_TEMPERATURE = 7.9716
INST_CMPRS_NAME = "DISCRETE COSINE TRANSFORMATION (DCT)"
INST_CMPRS_RATIO = 11.6093
INST_CMPRS_QUALITY = 0
INST_CMPRS_QUANTZ_TBL_ID = 0
INSTRUMENT_TEMPERATURE = 11.0301
LENS_TEMPERATURE = 8.3794
MACROPIXEL_SIZE = 4
MISSING_FRAMES = 0
PIXEL_SUBSAMPLING_FLAG = N
SIGNAL_CHAIN_ID = 3
/* RADIOMETRIC DATA ELEMENTS */
BANDWIDTH = 177.0
CENTER_FILTER_WAVELENGTH = 676.5
RADIANCE_OFFSET = 1.8227
RADIANCE_SCALING_FACTOR = 0.0361155
REFLECTANCE_SCALING_FACTOR = 0.00100056
MEX:REFLECTANCE_OFFSET = 0.0504971
/* IMAGE OBJECT DEFINITIONS */
OBJECT = IMAGE
  INTERCHANGE_FORMAT = BINARY
  LINES = 28150
  LINE_SAMPLES = 4695
  SAMPLE_TYPE = UNSIGNED_INTEGER
  SAMPLE_BITS = 8
  BANDS = 1
  BAND_STORAGE_TYPE = BAND_SEQUENTIAL
  MAXIMUM = 244
  MEAN = 96.8925
  MINIMUM = 34
  STANDARD_DEVIATION = 20.389
END_OBJECT = IMAGE
/* MAP OBJECT DEFINITIONS */
OBJECT = IMAGE_MAP_PROJECTION
  ^DATA_SET_MAP_PROJECTION_CATALOG= "DSMAP.CAT"
  A_AXIS_RADIUS = 3396.0
  B_AXIS_RADIUS = 3396.0
  C_AXIS_RADIUS = 3396.0
  CENTER_LATITUDE = 0.0
  CENTER_LONGITUDE = 105.0
  COORDINATE_SYSTEM_NAME = PLANETOGRAPHIC
  COORDINATE_SYSTEM_TYPE = "BODY-FIXED ROTATING"
  EASTERNMOST_LONGITUDE = 107.855
  FIRST_STANDARD_PARALLEL = "N/A"
  LINE_FIRST_PIXEL = 1
  LINE_LAST_PIXEL = 28150
  LINE_PROJECTION_OFFSET = 93558.625
  MAP_PROJECTION_ROTATION = 0.0
  MAP_PROJECTION_TYPE = SINUSOIDAL
  MAP_RESOLUTION = 1185.42760773333
  MAP_SCALE = 0.05
  MAXIMUM_LATITUDE = 78.9235
  MINIMUM_LATITUDE = 55.1773
  POSITIVE_LONGITUDE_DIRECTION = EAST
  REFERENCE_LATITUDE = "N/A"
  REFERENCE_LONGITUDE = "N/A"
  SAMPLE_FIRST_PIXEL = 1
  SAMPLE_LAST_PIXEL = 4695
  SAMPLE_PROJECTION_OFFSET = 2774.125
  SECOND_STANDARD_PARALLEL = "N/A"
  WESTERNMOST_LONGITUDE = 93.64830000000001
END_OBJECT = IMAGE_MAP_PROJECTION
/* The JPEG2000 image data file associated with this label. */
OBJECT = COMPRESSED_FILE
  FILE_NAME = "H1343_0000_P23.JP2"
  RECORD_TYPE = UNDEFINED
  FILE_RECORDS = UNK
  ENCODING_TYPE = "JP2"
  INTERCHANGE_FORMAT = BINARY
  UNCOMPRESSED_FILE_NAME = "H1343_0000_P23.IMG"
  REQUIRED_STORAGE_BYTES = "132187725"
  ^DESCRIPTION = "JP2INFO.TXT"
END_OBJECT = COMPRESSED_FILE
END
