PDS_VERSION_ID = PDS3
/* FILE DATA ELEMENTS */
RECORD_TYPE = STREAM
/* POINTERS TO DATA OBJECTS */
^COMPRESSED_FILE = "H1343_0002_SR3.JP2"
/* IDENTIFICATION DATA ELEMENTS */
DATA_SET_ID = "MEX-M-HRSC-5-REFDR-MAPPROJECTED-V3.0"
DATA_SET_NAME = "MARS EXPRESS HRSC MAP PROJECTED REFDR V3.0"
DETECTOR_ID = MEX_HRSC_SRC
EVENT_TYPE = "MARS-REGIONAL-COLOR-Vo-Te-Mw"
INSTRUMENT_HOST_ID = MEX
INSTRUMENT_HOST_NAME = "MARS EXPRESS"
INSTRUMENT_ID = HRSC
INSTRUMENT_NAME = "HIGH RESOLUTION STEREO CAMERA"
MISSION_NAME = "MARS EXPRESS"
MISSION_PHASE_NAME = MR_Phase_4
PROCESSING_LEVEL_ID = 3
PRODUCT_CREATION_TIME = 2016-03-05T01:52:25.000Z
PRODUCT_ID = "H1343_0002_SR3.JP2"
RELEASE_ID = 0018
REVISION_ID = 0000
/* QUALITY DATA ELEMENTS */
DATA_QUALITY_ID = 1
DATA_QUALITY_DESC = "Data calculated based on original SPICE kernels"
/* TIME DATA ELEMENTS */
SPACECRAFT_CLOCK_START_COUNT = "1/0055451519.56188"
SPACECRAFT_CLOCK_STOP_COUNT = "1/0055452206.29564"
IMAGE_TIME = 2005-02-02T19:16:59.943Z
START_TIME = 2005-02-02T19:16:59.685Z
STOP_TIME = 2005-02-02T19:17:00.201Z
/* ORBITAL DATA ELEMENTS */
ASCENDING_NODE_LONGITUDE = 200.41
MAXIMUM_RESOLUTION = 5.533
FOOTPRINT_POINT_LATITUDE = (18.1817,18.1792,18.1758,18.1711, 18.1659,18.162,18.1561,18.1514,18.148, 18.1456,18.1423,18.1396,18.1362,18.1325 ,18.1294,18.1251,18.1212,18.1161, 18.1125,18.1078,18.1037,18.1001,18.0968 ,18.0929,18.0899,18.09,18.09,18.09, 18.09,18.0901,18.0901,18.0901,18.0901, 18.0902,18.0902,18.0902,18.0902,18.0903 ,18.0903,18.0903,18.0903,18.0904, 18.0904,18.0904,18.0904,18.0905,18.0905 ,18.0905,18.0906,18.0942,18.0978, 18.1035,18.1071,18.1104,18.1162,18.12, 18.1233,18.1257,18.1291,18.1339,18.137, 18.1399,18.1441,18.1472,18.1515,18.1564 ,18.1597,18.1621,18.165,18.1695,18.1734 ,18.1777,18.181,18.1834,18.1847,18.1847 ,18.1847,18.1846,18.1846,18.1846, 18.1846,18.1845,18.1845,18.1845,18.1845 ,18.1844,18.1844,18.1844,18.1844, 18.1843,18.1843,18.1843,18.1843,18.1842 ,18.1842,18.1842,18.1842,18.1841, 18.1841,18.1817)
FOOTPRINT_POINT_LONGITUDE = (108.065,108.065,108.065,108.065, 108.065,108.065,108.065,108.065,108.065 ,108.065,108.065,108.065,108.065, 108.065,108.065,108.065,108.065,108.065 ,108.065,108.065,108.065,108.064, 108.064,108.064,108.061,108.057,108.054 ,108.05,108.046,108.042,108.038,108.034 ,108.03,108.026,108.022,108.018,108.014 ,108.01,108.006,108.002,107.998,107.994 ,107.991,107.987,107.983,107.979, 107.974,107.97,107.966,107.964,107.964, 107.964,107.964,107.964,107.964,107.965 ,107.965,107.965,107.965,107.965, 107.965,107.965,107.965,107.965,107.965 ,107.965,107.965,107.965,107.965, 107.965,107.965,107.965,107.965,107.965 ,107.967,107.971,107.975,107.979, 107.983,107.987,107.991,107.995,107.999 ,108.003,108.006,108.01,108.014,108.018 ,108.022,108.026,108.03,108.034,108.038 ,108.042,108.046,108.05,108.054,108.058 ,108.062,108.065)
ORBIT_NUMBER = 1343
ORBITAL_ECCENTRICITY = 0.568
ORBITAL_INCLINATION = 86.6
ORBITAL_SEMIMAJOR_AXIS = 8566.73
PERIAPSIS_ALTITUDE = 315.18
PERIAPSIS_ARGUMENT_ANGLE = 124.37
PERIAPSIS_TIME = 2005-02-02T19:07:03.000Z
SPACECRAFT_ORIENTATION = (0.0,1.0,0.0)
^MEX_ORIENTATION_DESC = "MEX_ORIENTATION_DESC.TXT"
SPACECRAFT_POINTING_MODE = ACROSSTRACK
^MEX_POINTING_DESC = "MEX_POINTING_DESC.TXT"
RIGHT_ASCENSION = -1e+32
DECLINATION = -1e+32
OFFSET_ANGLE = 0.28
SPACECRAFT_SOLAR_DISTANCE = 2.28583e+08
TARGET_NAME = MARS
/* CAMERA DATA ELEMENTS */
BUFFER_MODE_ID = BUFFER_8
EXPOSURE_DURATION = 516.096
INST_CMPRS_NAME = NONE
INST_CMPRS_RATIO = 1.0
INST_CMPRS_QUALITY = -2147483648
INST_CMPRS_QUANTZ_TBL_ID = -2147483648
INSTRUMENT_TEMPERATURE = 11.2121
MISSING_FRAMES = 0
START_BIT = 0
/* RADIOMETRIC DATA ELEMENTS */
BANDWIDTH = 250.0
CENTER_FILTER_WAVELENGTH = 600.0
RADIANCE_OFFSET = -9.99e+31
RADIANCE_SCALING_FACTOR = -9.99e+31
REFLECTANCE_SCALING_FACTOR = -9.99e+31
MEX:REFLECTANCE_OFFSET = -9.99e+31
/* IMAGE OBJECT DEFINITIONS */
OBJECT = IMAGE
  INTERCHANGE_FORMAT = BINARY
  LINES = 1168
  LINE_SAMPLES = 1179
  SAMPLE_TYPE = UNSIGNED_INTEGER
  SAMPLE_BITS = 8
  BANDS = 1
  BAND_STORAGE_TYPE = BAND_SEQUENTIAL
  MAXIMUM = 7035
  MEAN = 1095.57
  MINIMUM = 0
  STANDARD_DEVIATION = 2452.99
END_OBJECT = IMAGE
/* MAP OBJECT DEFINITIONS */
OBJECT = IMAGE_MAP_PROJECTION
  ^DATA_SET_MAP_PROJECTION_CATALOG= "DSMAP.CAT"
  A_AXIS_RADIUS = 3396.19
  B_AXIS_RADIUS = 3396.19
  C_AXIS_RADIUS = 3396.19
  CENTER_LATITUDE = 0.0
  CENTER_LONGITUDE = 108.0
  COORDINATE_SYSTEM_NAME = PLANETOGRAPHIC
  COORDINATE_SYSTEM_TYPE = "BODY-FIXED ROTATING"
  EASTERNMOST_LONGITUDE = 108.065
  FIRST_STANDARD_PARALLEL = "N/A"
  LINE_FIRST_PIXEL = 1
  LINE_LAST_PIXEL = 1168
  LINE_PROJECTION_OFFSET = 215554.0
  MAP_PROJECTION_ROTATION = 0.0
  MAP_PROJECTION_TYPE = SINUSOIDAL
  MAP_RESOLUTION = 11854.9393024378
  MAP_SCALE = 0.005
  MAXIMUM_LATITUDE = 18.1847
  MINIMUM_LATITUDE = 18.0899
  POSITIVE_LONGITUDE_DIRECTION = EAST
  REFERENCE_LATITUDE = "N/A"
  REFERENCE_LONGITUDE = "N/A"
  SAMPLE_FIRST_PIXEL = 1
  SAMPLE_LAST_PIXEL = 1179
  SAMPLE_PROJECTION_OFFSET = 412.0
  SECOND_STANDARD_PARALLEL = "N/A"
  WESTERNMOST_LONGITUDE = 107.964
END_OBJECT = IMAGE_MAP_PROJECTION
/* The JPEG2000 image data file associated with this label. */
OBJECT = COMPRESSED_FILE
  FILE_NAME = "H1343_0002_SR3.JP2"
  RECORD_TYPE = UNDEFINED
  FILE_RECORDS = UNK
  ENCODING_TYPE = "JP2"
  INTERCHANGE_FORMAT = BINARY
  UNCOMPRESSED_FILE_NAME = "H1343_0002_SR3.IMG"
  REQUIRED_STORAGE_BYTES = "1395936"
  ^DESCRIPTION = "JP2INFO.TXT"
END_OBJECT = COMPRESSED_FILE
END
