PDS_VERSION_ID = PDS3
/* FILE DATA ELEMENTS */
RECORD_TYPE = STREAM
/* POINTERS TO DATA OBJECTS */
^COMPRESSED_FILE = "H1343_0007_SR3.JP2"
/* IDENTIFICATION DATA ELEMENTS */
DATA_SET_ID = "MEX-M-HRSC-5-REFDR-MAPPROJECTED-V3.0"
DATA_SET_NAME = "MARS EXPRESS HRSC MAP PROJECTED REFDR V3.0"
DETECTOR_ID = MEX_HRSC_SRC
EVENT_TYPE = "MARS-REGIONAL-COLOR-Vo-Te-Mw"
INSTRUMENT_HOST_ID = MEX
INSTRUMENT_HOST_NAME = "MARS EXPRESS"
INSTRUMENT_ID = HRSC
INSTRUMENT_NAME = "HIGH RESOLUTION STEREO CAMERA"
MISSION_NAME = "MARS EXPRESS"
MISSION_PHASE_NAME = MR_Phase_4
PROCESSING_LEVEL_ID = 3
PRODUCT_CREATION_TIME = 2016-03-05T01:52:25.000Z
PRODUCT_ID = "H1343_0007_SR3.JP2"
RELEASE_ID = 0018
REVISION_ID = 0000
/* QUALITY DATA ELEMENTS */
DATA_QUALITY_ID = 1
DATA_QUALITY_DESC = "Data calculated based on original SPICE kernels"
/* TIME DATA ELEMENTS */
SPACECRAFT_CLOCK_START_COUNT = "1/0055451519.56188"
SPACECRAFT_CLOCK_STOP_COUNT = "1/0055452206.29564"
IMAGE_TIME = 2005-02-02T19:17:07.573Z
START_TIME = 2005-02-02T19:17:07.570Z
STOP_TIME = 2005-02-02T19:17:07.575Z
/* ORBITAL DATA ELEMENTS */
ASCENDING_NODE_LONGITUDE = 200.41
MAXIMUM_RESOLUTION = 5.597
FOOTPRINT_POINT_LATITUDE = (17.7502,17.7456,17.7428,17.7392, 17.7359,17.7337,17.7277,17.7229,17.7198 ,17.716,17.7116,17.7074,17.7038,17.7009 ,17.6975,17.695,17.6917,17.6872,17.6826 ,17.6783,17.6757,17.6716,17.6672, 17.6644,17.66,17.6586,17.6586,17.6587, 17.6587,17.6587,17.6587,17.6588,17.6588 ,17.6588,17.6589,17.6589,17.6589, 17.6589,17.659,17.659,17.659,17.6591, 17.6591,17.6591,17.6591,17.6592,17.6592 ,17.6592,17.6593,17.6593,17.6628, 17.6654,17.6688,17.6718,17.6766,17.68, 17.683,17.6879,17.692,17.6956,17.6981, 17.7011,17.704,17.7069,17.7092,17.7139, 17.7172,17.7226,17.7281,17.7323,17.7355 ,17.7398,17.7449,17.75,17.7545,17.7545, 17.7545,17.7544,17.7544,17.7544,17.7544 ,17.7543,17.7543,17.7543,17.7543, 17.7542,17.7542,17.7542,17.7541,17.7541 ,17.7541,17.7541,17.754,17.754,17.754, 17.754,17.7539,17.7539,17.7539,17.7502)
FOOTPRINT_POINT_LONGITUDE = (108.062,108.062,108.062,108.062, 108.062,108.062,108.062,108.062,108.062 ,108.062,108.062,108.062,108.062, 108.061,108.061,108.061,108.061,108.061 ,108.061,108.061,108.061,108.061, 108.061,108.061,108.061,108.058,108.054 ,108.05,108.046,108.042,108.038,108.034 ,108.03,108.026,108.022,108.018,108.014 ,108.01,108.006,108.002,107.998,107.995 ,107.991,107.987,107.983,107.979, 107.973,107.969,107.965,107.961,107.96, 107.96,107.96,107.96,107.96,107.96, 107.96,107.96,107.96,107.96,107.961, 107.961,107.961,107.961,107.961,107.961 ,107.961,107.961,107.961,107.961, 107.961,107.961,107.961,107.961,107.961 ,107.965,107.969,107.973,107.979, 107.983,107.987,107.991,107.995,107.999 ,108.003,108.007,108.011,108.015, 108.019,108.023,108.027,108.031,108.035 ,108.039,108.043,108.046,108.05,108.054 ,108.06,108.062)
ORBIT_NUMBER = 1343
ORBITAL_ECCENTRICITY = 0.568
ORBITAL_INCLINATION = 86.6
ORBITAL_SEMIMAJOR_AXIS = 8566.73
PERIAPSIS_ALTITUDE = 315.18
PERIAPSIS_ARGUMENT_ANGLE = 124.37
PERIAPSIS_TIME = 2005-02-02T19:07:03.000Z
SPACECRAFT_ORIENTATION = (0.0,1.0,0.0)
^MEX_ORIENTATION_DESC = "MEX_ORIENTATION_DESC.TXT"
SPACECRAFT_POINTING_MODE = ACROSSTRACK
^MEX_POINTING_DESC = "MEX_POINTING_DESC.TXT"
RIGHT_ASCENSION = -1e+32
DECLINATION = -1e+32
OFFSET_ANGLE = 0.28
SPACECRAFT_SOLAR_DISTANCE = 2.28583e+08
TARGET_NAME = MARS
/* CAMERA DATA ELEMENTS */
BUFFER_MODE_ID = BUFFER_8
EXPOSURE_DURATION = 5.04
INST_CMPRS_NAME = NONE
INST_CMPRS_RATIO = 1.0
INST_CMPRS_QUALITY = -2147483648
INST_CMPRS_QUANTZ_TBL_ID = -2147483648
INSTRUMENT_TEMPERATURE = 11.2121
MISSING_FRAMES = 0
START_BIT = 0
/* RADIOMETRIC DATA ELEMENTS */
BANDWIDTH = 250.0
CENTER_FILTER_WAVELENGTH = 600.0
RADIANCE_OFFSET = -9.99e+31
RADIANCE_SCALING_FACTOR = -9.99e+31
REFLECTANCE_SCALING_FACTOR = -9.99e+31
MEX:REFLECTANCE_OFFSET = -9.99e+31
/* IMAGE OBJECT DEFINITIONS */
OBJECT = IMAGE
  INTERCHANGE_FORMAT = BINARY
  LINES = 1181
  LINE_SAMPLES = 1192
  SAMPLE_TYPE = UNSIGNED_INTEGER
  SAMPLE_BITS = 8
  BANDS = 1
  BAND_STORAGE_TYPE = BAND_SEQUENTIAL
  MAXIMUM = 9941
  MEAN = 9451.72
  MINIMUM = 8067
  STANDARD_DEVIATION = 109.6
END_OBJECT = IMAGE
/* MAP OBJECT DEFINITIONS */
OBJECT = IMAGE_MAP_PROJECTION
  ^DATA_SET_MAP_PROJECTION_CATALOG= "DSMAP.CAT"
  A_AXIS_RADIUS = 3396.19
  B_AXIS_RADIUS = 3396.19
  C_AXIS_RADIUS = 3396.19
  CENTER_LATITUDE = 0.0
  CENTER_LONGITUDE = 108.0
  COORDINATE_SYSTEM_NAME = PLANETOGRAPHIC
  COORDINATE_SYSTEM_TYPE = "BODY-FIXED ROTATING"
  EASTERNMOST_LONGITUDE = 108.062
  FIRST_STANDARD_PARALLEL = "N/A"
  LINE_FIRST_PIXEL = 1
  LINE_LAST_PIXEL = 1181
  LINE_PROJECTION_OFFSET = 210457.0
  MAP_PROJECTION_ROTATION = 0.0
  MAP_PROJECTION_TYPE = SINUSOIDAL
  MAP_RESOLUTION = 11854.9393024378
  MAP_SCALE = 0.005
  MAXIMUM_LATITUDE = 17.7545
  MINIMUM_LATITUDE = 17.6586
  POSITIVE_LONGITUDE_DIRECTION = EAST
  REFERENCE_LATITUDE = "N/A"
  REFERENCE_LONGITUDE = "N/A"
  SAMPLE_FIRST_PIXEL = 1
  SAMPLE_LAST_PIXEL = 1192
  SAMPLE_PROJECTION_OFFSET = 460.0
  SECOND_STANDARD_PARALLEL = "N/A"
  WESTERNMOST_LONGITUDE = 107.96
END_OBJECT = IMAGE_MAP_PROJECTION
/* The JPEG2000 image data file associated with this label. */
OBJECT = COMPRESSED_FILE
  FILE_NAME = "H1343_0007_SR3.JP2"
  RECORD_TYPE = UNDEFINED
  FILE_RECORDS = UNK
  ENCODING_TYPE = "JP2"
  INTERCHANGE_FORMAT = BINARY
  UNCOMPRESSED_FILE_NAME = "H1343_0007_SR3.IMG"
  REQUIRED_STORAGE_BYTES = "1426824"
  ^DESCRIPTION = "JP2INFO.TXT"
END_OBJECT = COMPRESSED_FILE
END
