PDS_VERSION_ID = PDS3
/* FILE DATA ELEMENTS */
RECORD_TYPE = STREAM
/* POINTERS TO DATA OBJECTS */
^COMPRESSED_FILE = "H1347_0001_SR3.JP2"
/* IDENTIFICATION DATA ELEMENTS */
DATA_SET_ID = "MEX-M-HRSC-5-REFDR-MAPPROJECTED-V3.0"
DATA_SET_NAME = "MARS EXPRESS HRSC MAP PROJECTED REFDR V3.0"
DETECTOR_ID = MEX_HRSC_SRC
EVENT_TYPE = "MARS-REGIONAL-MAPPING-Vo-Te-Fl"
INSTRUMENT_HOST_ID = MEX
INSTRUMENT_HOST_NAME = "MARS EXPRESS"
INSTRUMENT_ID = HRSC
INSTRUMENT_NAME = "HIGH RESOLUTION STEREO CAMERA"
MISSION_NAME = "MARS EXPRESS"
MISSION_PHASE_NAME = MR_Phase_4
PROCESSING_LEVEL_ID = 3
PRODUCT_CREATION_TIME = 2016-03-05T01:52:25.000Z
PRODUCT_ID = "H1347_0001_SR3.JP2"
RELEASE_ID = 0018
REVISION_ID = 0000
/* QUALITY DATA ELEMENTS */
DATA_QUALITY_ID = 1
DATA_QUALITY_DESC = "Data calculated based on original SPICE kernels"
/* TIME DATA ELEMENTS */
SPACECRAFT_CLOCK_START_COUNT = "1/0055548366.57161"
SPACECRAFT_CLOCK_STOP_COUNT = "1/0055548868.31589"
IMAGE_TIME = 2005-02-03T22:08:08.717Z
START_TIME = 2005-02-03T22:08:08.459Z
STOP_TIME = 2005-02-03T22:08:08.975Z
/* ORBITAL DATA ELEMENTS */
ASCENDING_NODE_LONGITUDE = 200.32
MAXIMUM_RESOLUTION = 4.507
FOOTPRINT_POINT_LATITUDE = (26.5211,26.5171,26.5148,26.5121, 26.5084,26.5055,26.5023,26.4997,26.4961 ,26.4937,26.4917,26.4898,26.4866, 26.4846,26.481,26.479,26.4755,26.4715, 26.4684,26.465,26.4631,26.4606,26.4587, 26.4555,26.4534,26.4512,26.4478,26.4456 ,26.4456,26.4456,26.4456,26.4456, 26.4456,26.4456,26.4456,26.4456,26.4456 ,26.4456,26.4456,26.4456,26.4456, 26.4457,26.4457,26.4457,26.4457,26.4457 ,26.4457,26.4457,26.4457,26.4457, 26.4457,26.4457,26.447,26.451,26.4536, 26.4566,26.4609,26.4629,26.4654,26.469, 26.4735,26.4779,26.48,26.4833,26.4868, 26.4913,26.4955,26.4984,26.5019,26.5057 ,26.5099,26.5124,26.5147,26.5194, 26.5223,26.5223,26.5223,26.5223,26.5223 ,26.5223,26.5223,26.5223,26.5223, 26.5223,26.5223,26.5223,26.5223,26.5223 ,26.5223,26.5223,26.5223,26.5223, 26.5223,26.5223,26.5223,26.5223,26.5223 ,26.5223,26.5223,26.5211)
FOOTPRINT_POINT_LONGITUDE = (75.4074,75.4074,75.4074,75.4074, 75.4074,75.4074,75.4074,75.4074,75.4074 ,75.4074,75.4074,75.4074,75.4074, 75.4074,75.4074,75.4074,75.4074,75.4074 ,75.4074,75.4074,75.4074,75.4074, 75.4074,75.4074,75.4074,75.4074,75.4074 ,75.4047,75.4013,75.3979,75.3944,75.391 ,75.3876,75.3841,75.3807,75.3773, 75.3739,75.3705,75.367,75.3636,75.3602, 75.3568,75.3533,75.3499,75.3465,75.3431 ,75.3397,75.3362,75.3328,75.3294,75.326 ,75.3226,75.3203,75.3203,75.3203, 75.3203,75.3203,75.3203,75.3203,75.3203 ,75.3203,75.3203,75.3203,75.3203, 75.3203,75.3203,75.3203,75.3203,75.3203 ,75.3203,75.3203,75.3203,75.3203, 75.3203,75.3213,75.3247,75.3281,75.3315 ,75.335,75.3384,75.3418,75.3452,75.3487 ,75.3521,75.3555,75.3589,75.3624, 75.3658,75.3692,75.3726,75.3761,75.3795 ,75.3829,75.3863,75.3898,75.3932, 75.3966,75.4,75.4035,75.4074)
ORBIT_NUMBER = 1347
ORBITAL_ECCENTRICITY = 0.568
ORBITAL_INCLINATION = 86.61
ORBITAL_SEMIMAJOR_AXIS = 8564.34
PERIAPSIS_ALTITUDE = 315.57
PERIAPSIS_ARGUMENT_ANGLE = 123.66
PERIAPSIS_TIME = 2005-02-03T22:00:23.000Z
SPACECRAFT_ORIENTATION = (0.0,1.0,0.0)
^MEX_ORIENTATION_DESC = "MEX_ORIENTATION_DESC.TXT"
SPACECRAFT_POINTING_MODE = ACROSSTRACK
^MEX_POINTING_DESC = "MEX_POINTING_DESC.TXT"
RIGHT_ASCENSION = -1e+32
DECLINATION = -1e+32
OFFSET_ANGLE = 0.8
SPACECRAFT_SOLAR_DISTANCE = 2.28366e+08
TARGET_NAME = MARS
/* CAMERA DATA ELEMENTS */
BUFFER_MODE_ID = BUFFER_8
EXPOSURE_DURATION = 516.096
INST_CMPRS_NAME = NONE
INST_CMPRS_RATIO = 1.0
INST_CMPRS_QUALITY = -2147483648
INST_CMPRS_QUANTZ_TBL_ID = -2147483648
INSTRUMENT_TEMPERATURE = 2.12121
MISSING_FRAMES = 0
START_BIT = 0
/* RADIOMETRIC DATA ELEMENTS */
BANDWIDTH = 250.0
CENTER_FILTER_WAVELENGTH = 600.0
RADIANCE_OFFSET = -9.99e+31
RADIANCE_SCALING_FACTOR = -9.99e+31
REFLECTANCE_SCALING_FACTOR = -9.99e+31
MEX:REFLECTANCE_OFFSET = -9.99e+31
/* IMAGE OBJECT DEFINITIONS */
OBJECT = IMAGE
  INTERCHANGE_FORMAT = BINARY
  LINES = 958
  LINE_SAMPLES = 974
  SAMPLE_TYPE = UNSIGNED_INTEGER
  SAMPLE_BITS = 8
  BANDS = 1
  BAND_STORAGE_TYPE = BAND_SEQUENTIAL
  MAXIMUM = 6103
  MEAN = 929.306
  MINIMUM = 0
  STANDARD_DEVIATION = 2081.55
END_OBJECT = IMAGE
/* MAP OBJECT DEFINITIONS */
OBJECT = IMAGE_MAP_PROJECTION
  ^DATA_SET_MAP_PROJECTION_CATALOG= "DSMAP.CAT"
  A_AXIS_RADIUS = 3396.19
  B_AXIS_RADIUS = 3396.19
  C_AXIS_RADIUS = 3396.19
  CENTER_LATITUDE = 0.0
  CENTER_LONGITUDE = 75.0
  COORDINATE_SYSTEM_NAME = PLANETOGRAPHIC
  COORDINATE_SYSTEM_TYPE = "BODY-FIXED ROTATING"
  EASTERNMOST_LONGITUDE = 75.4074
  FIRST_STANDARD_PARALLEL = "N/A"
  LINE_FIRST_PIXEL = 1
  LINE_LAST_PIXEL = 958
  LINE_PROJECTION_OFFSET = 314314.0
  MAP_PROJECTION_ROTATION = 0.0
  MAP_PROJECTION_TYPE = SINUSOIDAL
  MAP_RESOLUTION = 11854.9393024378
  MAP_SCALE = 0.005
  MAXIMUM_LATITUDE = 26.5223
  MINIMUM_LATITUDE = 26.4456
  POSITIVE_LONGITUDE_DIRECTION = EAST
  REFERENCE_LATITUDE = "N/A"
  REFERENCE_LONGITUDE = "N/A"
  SAMPLE_FIRST_PIXEL = 1
  SAMPLE_LAST_PIXEL = 974
  SAMPLE_PROJECTION_OFFSET = -3456.0
  SECOND_STANDARD_PARALLEL = "N/A"
  WESTERNMOST_LONGITUDE = 75.3203
END_OBJECT = IMAGE_MAP_PROJECTION
/* The JPEG2000 image data file associated with this label. */
OBJECT = COMPRESSED_FILE
  FILE_NAME = "H1347_0001_SR3.JP2"
  RECORD_TYPE = UNDEFINED
  FILE_RECORDS = UNK
  ENCODING_TYPE = "JP2"
  INTERCHANGE_FORMAT = BINARY
  UNCOMPRESSED_FILE_NAME = "H1347_0001_SR3.IMG"
  REQUIRED_STORAGE_BYTES = "951598"
  ^DESCRIPTION = "JP2INFO.TXT"
END_OBJECT = COMPRESSED_FILE
END
