PDS_VERSION_ID = PDS3
/* FILE DATA ELEMENTS */
RECORD_TYPE = STREAM
/* POINTERS TO DATA OBJECTS */
^COMPRESSED_FILE = "H1351_0000_S23.JP2"
/* IDENTIFICATION DATA ELEMENTS */
DATA_SET_ID = "MEX-M-HRSC-5-REFDR-MAPPROJECTED-V3.0"
DATA_SET_NAME = "MARS EXPRESS HRSC MAP PROJECTED REFDR V3.0"
DETECTOR_ID = MEX_HRSC_S2
EVENT_TYPE = "MARS-REGIONAL-COLOR-Gl-Pf-Eo"
INSTRUMENT_HOST_ID = MEX
INSTRUMENT_HOST_NAME = "MARS EXPRESS"
INSTRUMENT_ID = HRSC
INSTRUMENT_NAME = "HIGH RESOLUTION STEREO CAMERA"
MISSION_NAME = "MARS EXPRESS"
MISSION_PHASE_NAME = MR_Phase_4
PROCESSING_LEVEL_ID = 3
PRODUCT_CREATION_TIME = 2016-03-05T01:52:25.000Z
PRODUCT_ID = "H1351_0000_S23.JP2"
RELEASE_ID = 0018
REVISION_ID = 0000
/* QUALITY DATA ELEMENTS */
DATA_QUALITY_ID = 1
DATA_QUALITY_DESC = "Data calculated based on original SPICE kernels"
/* TIME DATA ELEMENTS */
SPACECRAFT_CLOCK_START_COUNT = "1/0055644363.56504"
SPACECRAFT_CLOCK_STOP_COUNT = "1/0055644725.55741"
START_TIME = 2005-02-05T00:46:11.581Z
STOP_TIME = 2005-02-05T00:51:11.397Z
/* ORBITAL DATA ELEMENTS */
ASCENDING_NODE_LONGITUDE = 200.23
MAXIMUM_RESOLUTION = 29.1
FOOTPRINT_POINT_LATITUDE = (81.7854,82.0151,82.3128,82.1511, 81.7565,81.1679,80.7704,80.3832,79.9938 ,79.6127,79.2286,78.8515,78.2855, 77.9137,77.3561,76.9894,76.4398,75.8979 ,75.5363,75.1814,74.826,74.4706,74.1216 ,73.7717,73.4212,73.0786,72.7351, 72.2182,71.8264,71.4892,71.1514,70.8151 ,70.4851,70.1541,69.8225,69.4902, 69.1668,68.8429,68.5183,68.193,67.8671, 67.3923,67.0752,66.6815,66.3569,66.0376 ,65.5762,65.1092,64.7978,64.5894, 64.5527,64.5105,64.7958,65.104,65.5658, 65.8729,66.1893,66.505,66.8942,67.2084, 67.6782,67.9988,68.32,68.6403,68.96, 69.2789,69.6053,69.9318,70.2574,70.5821 ,70.9115,71.2437,71.5748,71.9592,72.296 ,72.8006,73.1353,73.4765,73.8183, 74.1578,74.5022,74.8482,75.1925,75.5417 ,75.8912,76.4167,76.7702,77.1215,77.479 ,77.8339,78.3709,78.7274,79.0898, 79.6297,79.9914,80.3523,80.7129,81.0724 ,81.4294,81.7854)
FOOTPRINT_POINT_LONGITUDE = (16.6868,19.7277,24.6258,29.0234, 29.8032,30.8302,31.4607,32.0121,32.5242 ,32.9809,33.4098,33.8015,34.3393, 34.6638,35.1143,35.3888,35.7714,36.1185 ,36.3353,36.5375,36.7293,36.9131, 37.0854,37.25,37.4075,37.5554,37.6973, 37.9002,38.0461,38.1662,38.2817,38.3931 ,38.4983,38.6002,38.6988,38.794,38.8838 ,38.9706,39.0549,39.1367,39.2162,39.327 ,39.398,39.4843,39.5585,39.6237,39.7106 ,39.7998,39.8569,39.3732,38.4506, 37.5608,36.9954,36.8925,36.7329,36.6226 ,36.5057,36.3852,36.2311,36.1022, 35.9015,35.7587,35.6107,35.458,35.3003, 35.1374,34.9645,34.785,34.5993,34.4071, 34.2045,33.992,33.7715,33.5042,33.2592, 32.8717,32.6002,32.3107,32.0076,31.6913 ,31.3548,30.9998,30.6282,30.231,29.8115 ,29.1355,28.6473,28.1324,27.5753,26.986 ,26.0178,25.3179,24.5558,23.307,22.3843 ,21.3854,20.2961,19.109,17.811,16.6868)
ORBIT_NUMBER = 1351
ORBITAL_ECCENTRICITY = 0.568
ORBITAL_INCLINATION = 86.6
ORBITAL_SEMIMAJOR_AXIS = 8562.34
PERIAPSIS_ALTITUDE = 316.83
PERIAPSIS_ARGUMENT_ANGLE = 122.96
PERIAPSIS_TIME = 2005-02-05T00:53:40.000Z
SPACECRAFT_ORIENTATION = (0.0,1.0,0.0)
^MEX_ORIENTATION_DESC = "MEX_ORIENTATION_DESC.TXT"
SPACECRAFT_POINTING_MODE = ACROSSTRACK
^MEX_POINTING_DESC = "MEX_POINTING_DESC.TXT"
RIGHT_ASCENSION = -1e+32
DECLINATION = -1e+32
OFFSET_ANGLE = 0.13
SPACECRAFT_SOLAR_DISTANCE = 2.28148e+08
TARGET_NAME = MARS
/* CAMERA DATA ELEMENTS */
DETECTOR_TEMPERATURE = 18.3705
FOCAL_PLANE_TEMPERATURE = 7.5638
INST_CMPRS_NAME = "DISCRETE COSINE TRANSFORMATION (DCT)"
INST_CMPRS_RATIO = 15.7007
INST_CMPRS_QUALITY = 0
INST_CMPRS_QUANTZ_TBL_ID = 0
INSTRUMENT_TEMPERATURE = 11.0301
LENS_TEMPERATURE = 8.1755
MACROPIXEL_SIZE = 2
MISSING_FRAMES = 84
PIXEL_SUBSAMPLING_FLAG = N
SIGNAL_CHAIN_ID = 1
/* RADIOMETRIC DATA ELEMENTS */
BANDWIDTH = 178.0
CENTER_FILTER_WAVELENGTH = 679.0
RADIANCE_OFFSET = 2.56802
RADIANCE_SCALING_FACTOR = 0.0212127
REFLECTANCE_SCALING_FACTOR = 0.000584737
MEX:REFLECTANCE_OFFSET = 0.0707886
/* IMAGE OBJECT DEFINITIONS */
OBJECT = IMAGE
  INTERCHANGE_FORMAT = BINARY
  LINES = 42243
  LINE_SAMPLES = 10804
  SAMPLE_TYPE = UNSIGNED_INTEGER
  SAMPLE_BITS = 8
  BANDS = 1
  BAND_STORAGE_TYPE = BAND_SEQUENTIAL
  MAXIMUM = 154
  MEAN = 96.2089
  MINIMUM = 44
  STANDARD_DEVIATION = 19.0521
END_OBJECT = IMAGE
/* MAP OBJECT DEFINITIONS */
OBJECT = IMAGE_MAP_PROJECTION
  ^DATA_SET_MAP_PROJECTION_CATALOG= "DSMAP.CAT"
  A_AXIS_RADIUS = 3396.0
  B_AXIS_RADIUS = 3396.0
  C_AXIS_RADIUS = 3396.0
  CENTER_LATITUDE = 0.0
  CENTER_LONGITUDE = 35.0
  COORDINATE_SYSTEM_NAME = PLANETOGRAPHIC
  COORDINATE_SYSTEM_TYPE = "BODY-FIXED ROTATING"
  EASTERNMOST_LONGITUDE = 39.8569
  FIRST_STANDARD_PARALLEL = "N/A"
  LINE_FIRST_PIXEL = 1
  LINE_LAST_PIXEL = 42243
  LINE_PROJECTION_OFFSET = 195121.25
  MAP_PROJECTION_ROTATION = 0.0
  MAP_PROJECTION_TYPE = SINUSOIDAL
  MAP_RESOLUTION = 2370.85521546667
  MAP_SCALE = 0.025
  MAXIMUM_LATITUDE = 82.3128
  MINIMUM_LATITUDE = 64.51049999999999
  POSITIVE_LONGITUDE_DIRECTION = EAST
  REFERENCE_LATITUDE = "N/A"
  REFERENCE_LONGITUDE = "N/A"
  SAMPLE_FIRST_PIXEL = 1
  SAMPLE_LAST_PIXEL = 10804
  SAMPLE_PROJECTION_OFFSET = 5988.25
  SECOND_STANDARD_PARALLEL = "N/A"
  WESTERNMOST_LONGITUDE = 16.6868
END_OBJECT = IMAGE_MAP_PROJECTION
/* The JPEG2000 image data file associated with this label. */
OBJECT = COMPRESSED_FILE
  FILE_NAME = "H1351_0000_S23.JP2"
  RECORD_TYPE = UNDEFINED
  FILE_RECORDS = UNK
  ENCODING_TYPE = "JP2"
  INTERCHANGE_FORMAT = BINARY
  UNCOMPRESSED_FILE_NAME = "H1351_0000_S23.IMG"
  REQUIRED_STORAGE_BYTES = "456425784"
  ^DESCRIPTION = "JP2INFO.TXT"
END_OBJECT = COMPRESSED_FILE
END
