PDS_VERSION_ID = PDS3
/* FILE DATA ELEMENTS */
RECORD_TYPE = STREAM
/* POINTERS TO DATA OBJECTS */
^COMPRESSED_FILE = "H1351_0001_BL3.JP2"
/* IDENTIFICATION DATA ELEMENTS */
DATA_SET_ID = "MEX-M-HRSC-5-REFDR-MAPPROJECTED-V3.0"
DATA_SET_NAME = "MARS EXPRESS HRSC MAP PROJECTED REFDR V3.0"
DETECTOR_ID = MEX_HRSC_BLUE
EVENT_TYPE = "MARS-REGIONAL-MAPPING-Vo-Fl"
INSTRUMENT_HOST_ID = MEX
INSTRUMENT_HOST_NAME = "MARS EXPRESS"
INSTRUMENT_ID = HRSC
INSTRUMENT_NAME = "HIGH RESOLUTION STEREO CAMERA"
MISSION_NAME = "MARS EXPRESS"
MISSION_PHASE_NAME = MR_Phase_4
PROCESSING_LEVEL_ID = 3
PRODUCT_CREATION_TIME = 2016-03-05T01:52:25.000Z
PRODUCT_ID = "H1351_0001_BL3.JP2"
RELEASE_ID = 0018
REVISION_ID = 0000
/* QUALITY DATA ELEMENTS */
DATA_QUALITY_ID = 1
DATA_QUALITY_DESC = "Data calculated based on original SPICE kernels"
/* TIME DATA ELEMENTS */
SPACECRAFT_CLOCK_START_COUNT = "1/0055644838.57149"
SPACECRAFT_CLOCK_STOP_COUNT = "1/0055645296.37316"
START_TIME = 2005-02-05T00:54:30.040Z
STOP_TIME = 2005-02-05T01:00:45.167Z
/* ORBITAL DATA ELEMENTS */
ASCENDING_NODE_LONGITUDE = 200.23
MAXIMUM_RESOLUTION = 51.3
FOOTPRINT_POINT_LATITUDE = (53.2364,53.2557,53.2734,53.2705, 52.8439,52.4173,51.9908,51.5644,51.1381 ,50.7121,50.2859,49.8602,49.4345,49.004 ,48.564,48.1244,47.6847,47.2455,46.8065 ,46.3682,45.9264,45.4739,44.7956, 44.3442,43.8928,43.2015,42.7376,42.2745 ,41.5741,41.0962,40.6203,40.1448, 39.6575,39.1688,38.6812,37.933,37.4324, 36.6677,36.1561,35.3741,34.8511,34.3165 ,33.7815,33.2359,32.6893,32.1311, 31.2858,30.4268,29.8469,29.5519,29.1677 ,29.1658,29.1592,29.4522,30.0376, 30.6175,31.1866,31.7528,32.31,32.8624, 33.4068,34.2131,35.0105,35.5347,36.0554 ,36.566,37.0776,37.5804,38.0786,38.5789 ,39.0654,39.5526,40.2787,40.7534, 41.2289,41.9377,42.4004,42.8642,43.3259 ,43.785,44.2371,44.6875,45.1413,45.5916 ,46.0391,46.4765,46.9139,47.3519, 47.7902,48.4482,48.8873,49.3186,49.743, 50.1677,50.5927,51.0174,51.6553,52.0804 ,52.7181,53.2364)
FOOTPRINT_POINT_LONGITUDE = (39.6482,40.1583,40.6868,41.2164, 41.2503,41.2829,41.3147,41.3457,41.3757 ,41.4042,41.4332,41.4604,41.4875, 41.5146,41.5414,41.5667,41.5922,41.6167 ,41.6407,41.6628,41.6859,41.7086, 41.7424,41.7634,41.7851,41.8155,41.8343 ,41.8515,41.8779,41.8997,41.9174, 41.9352,41.9515,41.9696,41.9866,42.0087 ,42.0272,42.0526,42.0682,42.0912, 42.1059,42.1206,42.1357,42.1512,42.1662 ,42.1818,42.2049,42.2252,42.238,42.2449 ,41.9437,41.4258,40.6683,40.4063, 40.4079,40.4088,40.4086,40.4071,40.4055 ,40.4028,40.3967,40.3882,40.3796, 40.3745,40.3654,40.356,40.3458,40.3354, 40.3219,40.3093,40.2955,40.2806,40.2572 ,40.2404,40.2229,40.1951,40.1757, 40.1563,40.1315,40.1072,40.0873,40.0629 ,40.0422,40.0141,39.9823,39.9542, 39.9245,39.894,39.8624,39.8125,39.7779, 39.7422,39.7054,39.6673,39.6281,39.5869 ,39.5232,39.4784,39.4081,39.6482)
ORBIT_NUMBER = 1351
ORBITAL_ECCENTRICITY = 0.568
ORBITAL_INCLINATION = 86.6
ORBITAL_SEMIMAJOR_AXIS = 8562.34
PERIAPSIS_ALTITUDE = 316.83
PERIAPSIS_ARGUMENT_ANGLE = 122.96
PERIAPSIS_TIME = 2005-02-05T00:53:40.000Z
SPACECRAFT_ORIENTATION = (0.0,1.0,0.0)
^MEX_ORIENTATION_DESC = "MEX_ORIENTATION_DESC.TXT"
SPACECRAFT_POINTING_MODE = ACROSSTRACK
^MEX_POINTING_DESC = "MEX_POINTING_DESC.TXT"
RIGHT_ASCENSION = -1e+32
DECLINATION = -1e+32
OFFSET_ANGLE = 0.13
SPACECRAFT_SOLAR_DISTANCE = 2.28148e+08
TARGET_NAME = MARS
/* CAMERA DATA ELEMENTS */
DETECTOR_TEMPERATURE = 19.39
FOCAL_PLANE_TEMPERATURE = 7.7677
INST_CMPRS_NAME = "DISCRETE COSINE TRANSFORMATION (DCT)"
INST_CMPRS_RATIO = 30.0164
INST_CMPRS_QUALITY = 0
INST_CMPRS_QUANTZ_TBL_ID = 0
INSTRUMENT_TEMPERATURE = 12.8652
LENS_TEMPERATURE = 8.3794
MACROPIXEL_SIZE = 4
MISSING_FRAMES = 0
PIXEL_SUBSAMPLING_FLAG = N
SIGNAL_CHAIN_ID = 2
/* RADIOMETRIC DATA ELEMENTS */
BANDWIDTH = 76.0
CENTER_FILTER_WAVELENGTH = 444.0
RADIANCE_OFFSET = 0.72612
RADIANCE_SCALING_FACTOR = 0.00225153
REFLECTANCE_SCALING_FACTOR = 0.000120411
MEX:REFLECTANCE_OFFSET = 0.0388327
/* IMAGE OBJECT DEFINITIONS */
OBJECT = IMAGE
  INTERCHANGE_FORMAT = BINARY
  LINES = 28600
  LINE_SAMPLES = 2519
  SAMPLE_TYPE = UNSIGNED_INTEGER
  SAMPLE_BITS = 8
  BANDS = 1
  BAND_STORAGE_TYPE = BAND_SEQUENTIAL
  MAXIMUM = 107
  MEAN = 63.0292
  MINIMUM = 0
  STANDARD_DEVIATION = 3.61904
END_OBJECT = IMAGE
/* MAP OBJECT DEFINITIONS */
OBJECT = IMAGE_MAP_PROJECTION
  ^DATA_SET_MAP_PROJECTION_CATALOG= "DSMAP.CAT"
  A_AXIS_RADIUS = 3396.0
  B_AXIS_RADIUS = 3396.0
  C_AXIS_RADIUS = 3396.0
  CENTER_LATITUDE = 0.0
  CENTER_LONGITUDE = 41.0
  COORDINATE_SYSTEM_NAME = PLANETOGRAPHIC
  COORDINATE_SYSTEM_TYPE = "BODY-FIXED ROTATING"
  EASTERNMOST_LONGITUDE = 42.2449
  FIRST_STANDARD_PARALLEL = "N/A"
  LINE_FIRST_PIXEL = 1
  LINE_LAST_PIXEL = 28600
  LINE_PROJECTION_OFFSET = 63156.625
  MAP_PROJECTION_ROTATION = 0.0
  MAP_PROJECTION_TYPE = SINUSOIDAL
  MAP_RESOLUTION = 1185.42760773333
  MAP_SCALE = 0.05
  MAXIMUM_LATITUDE = 53.2734
  MINIMUM_LATITUDE = 29.1592
  POSITIVE_LONGITUDE_DIRECTION = EAST
  REFERENCE_LATITUDE = "N/A"
  REFERENCE_LONGITUDE = "N/A"
  SAMPLE_FIRST_PIXEL = 1
  SAMPLE_LAST_PIXEL = 2519
  SAMPLE_PROJECTION_OFFSET = 1166.875
  SECOND_STANDARD_PARALLEL = "N/A"
  WESTERNMOST_LONGITUDE = 39.4081
END_OBJECT = IMAGE_MAP_PROJECTION
/* The JPEG2000 image data file associated with this label. */
OBJECT = COMPRESSED_FILE
  FILE_NAME = "H1351_0001_BL3.JP2"
  RECORD_TYPE = UNDEFINED
  FILE_RECORDS = UNK
  ENCODING_TYPE = "JP2"
  INTERCHANGE_FORMAT = BINARY
  UNCOMPRESSED_FILE_NAME = "H1351_0001_BL3.IMG"
  REQUIRED_STORAGE_BYTES = "72063552"
  ^DESCRIPTION = "JP2INFO.TXT"
END_OBJECT = COMPRESSED_FILE
END
