PDS_VERSION_ID = PDS3
/* FILE DATA ELEMENTS */
RECORD_TYPE = STREAM
/* POINTERS TO DATA OBJECTS */
^COMPRESSED_FILE = "H1351_0001_GR3.JP2"
/* IDENTIFICATION DATA ELEMENTS */
DATA_SET_ID = "MEX-M-HRSC-5-REFDR-MAPPROJECTED-V3.0"
DATA_SET_NAME = "MARS EXPRESS HRSC MAP PROJECTED REFDR V3.0"
DETECTOR_ID = MEX_HRSC_GREEN
EVENT_TYPE = "MARS-REGIONAL-MAPPING-Vo-Fl"
INSTRUMENT_HOST_ID = MEX
INSTRUMENT_HOST_NAME = "MARS EXPRESS"
INSTRUMENT_ID = HRSC
INSTRUMENT_NAME = "HIGH RESOLUTION STEREO CAMERA"
MISSION_NAME = "MARS EXPRESS"
MISSION_PHASE_NAME = MR_Phase_4
PROCESSING_LEVEL_ID = 3
PRODUCT_CREATION_TIME = 2016-03-05T01:52:25.000Z
PRODUCT_ID = "H1351_0001_GR3.JP2"
RELEASE_ID = 0018
REVISION_ID = 0000
/* QUALITY DATA ELEMENTS */
DATA_QUALITY_ID = 1
DATA_QUALITY_DESC = "Data calculated based on original SPICE kernels"
/* TIME DATA ELEMENTS */
SPACECRAFT_CLOCK_START_COUNT = "1/0055644838.57149"
SPACECRAFT_CLOCK_STOP_COUNT = "1/0055645296.37316"
START_TIME = 2005-02-05T00:54:39.741Z
STOP_TIME = 2005-02-05T01:01:00.687Z
/* ORBITAL DATA ELEMENTS */
ASCENDING_NODE_LONGITUDE = 200.23
MAXIMUM_RESOLUTION = 51.4
FOOTPRINT_POINT_LATITUDE = (53.199,53.2352,53.0555,52.6287,52.202, 51.7755,51.3493,50.9234,50.2851,49.8598 ,49.4227,48.9837,48.5452,48.1068, 47.6692,47.2318,46.7951,46.3469,45.8966 ,45.4469,44.9977,44.5493,44.0851, 43.6234,43.1622,42.7016,42.2335,41.7594 ,41.2887,40.5738,40.0897,39.3645, 38.8687,38.3743,37.8752,37.3692,36.8641 ,36.3486,35.8315,35.0438,34.2466, 33.7081,33.1633,32.6145,32.0564,31.4955 ,30.9249,30.3482,29.7669,29.1554, 29.1528,29.1492,29.1443,29.7347,30.3145 ,30.8901,31.4596,32.0197,32.577,33.1247 ,33.6703,34.2078,34.7404,35.2655, 35.7883,36.3042,36.8192,37.576,38.0804, 38.5735,39.0681,39.798,40.2808,41.0007, 41.4714,41.943,42.6459,43.336,43.7972, 44.2569,44.714,45.1597,45.8348,46.2846, 46.7321,47.1679,47.6041,48.0409,48.4779 ,48.9153,49.3531,49.7899,50.2138, 50.6381,51.0627,51.4874,51.9125,52.3376 ,52.7633,53.199)
FOOTPRINT_POINT_LONGITUDE = (39.6015,40.5764,41.2383,41.2721, 41.3045,41.336,41.3667,41.3965,41.4399, 41.4673,41.4955,41.5233,41.5501,41.5757 ,41.6013,41.6258,41.6501,41.673,41.6968 ,41.7198,41.742,41.7642,41.7868,41.808, 41.828,41.8473,41.8654,41.8824,41.9058, 41.9321,41.9511,41.9762,41.9939,42.0126 ,42.0258,42.0448,42.0621,42.079,42.0943 ,42.1177,42.1409,42.1568,42.1727, 42.1883,42.2042,42.2191,42.2339,42.2483 ,42.2628,42.0308,41.3763,40.8996,40.383 ,40.3848,40.3878,40.3889,40.3887, 40.3876,40.3862,40.3835,40.3769,40.372, 40.3664,40.363,40.3554,40.3466,40.3371, 40.322,40.3088,40.2968,40.2833,40.2613, 40.2458,40.2205,40.2033,40.1848,40.1558 ,40.1225,40.0982,40.0779,40.0531, 40.0333,39.9886,39.9594,39.9299,39.9004 ,39.8698,39.8377,39.8045,39.7702, 39.7343,39.6963,39.6586,39.6195,39.5786 ,39.5366,39.4929,39.4478,39.4002, 39.6015)
ORBIT_NUMBER = 1351
ORBITAL_ECCENTRICITY = 0.568
ORBITAL_INCLINATION = 86.6
ORBITAL_SEMIMAJOR_AXIS = 8562.34
PERIAPSIS_ALTITUDE = 316.83
PERIAPSIS_ARGUMENT_ANGLE = 122.96
PERIAPSIS_TIME = 2005-02-05T00:53:40.000Z
SPACECRAFT_ORIENTATION = (0.0,1.0,0.0)
^MEX_ORIENTATION_DESC = "MEX_ORIENTATION_DESC.TXT"
SPACECRAFT_POINTING_MODE = ACROSSTRACK
^MEX_POINTING_DESC = "MEX_POINTING_DESC.TXT"
RIGHT_ASCENSION = -1e+32
DECLINATION = -1e+32
OFFSET_ANGLE = 0.13
SPACECRAFT_SOLAR_DISTANCE = 2.28148e+08
TARGET_NAME = MARS
/* CAMERA DATA ELEMENTS */
DETECTOR_TEMPERATURE = 19.39
FOCAL_PLANE_TEMPERATURE = 7.7677
INST_CMPRS_NAME = "DISCRETE COSINE TRANSFORMATION (DCT)"
INST_CMPRS_RATIO = 21.7921
INST_CMPRS_QUALITY = 0
INST_CMPRS_QUANTZ_TBL_ID = 0
INSTRUMENT_TEMPERATURE = 12.8652
LENS_TEMPERATURE = 8.3794
MACROPIXEL_SIZE = 4
MISSING_FRAMES = 1
PIXEL_SUBSAMPLING_FLAG = N
SIGNAL_CHAIN_ID = 2
/* RADIOMETRIC DATA ELEMENTS */
BANDWIDTH = 88.0
CENTER_FILTER_WAVELENGTH = 538.0
RADIANCE_OFFSET = 1.99988
RADIANCE_SCALING_FACTOR = 0.00653557
REFLECTANCE_SCALING_FACTOR = 0.00029289
MEX:REFLECTANCE_OFFSET = 0.0896243
/* IMAGE OBJECT DEFINITIONS */
OBJECT = IMAGE
  INTERCHANGE_FORMAT = BINARY
  LINES = 28600
  LINE_SAMPLES = 2519
  SAMPLE_TYPE = UNSIGNED_INTEGER
  SAMPLE_BITS = 8
  BANDS = 1
  BAND_STORAGE_TYPE = BAND_SEQUENTIAL
  MAXIMUM = 200
  MEAN = 79.7492
  MINIMUM = 50
  STANDARD_DEVIATION = 7.17155
END_OBJECT = IMAGE
/* MAP OBJECT DEFINITIONS */
OBJECT = IMAGE_MAP_PROJECTION
  ^DATA_SET_MAP_PROJECTION_CATALOG= "DSMAP.CAT"
  A_AXIS_RADIUS = 3396.0
  B_AXIS_RADIUS = 3396.0
  C_AXIS_RADIUS = 3396.0
  CENTER_LATITUDE = 0.0
  CENTER_LONGITUDE = 41.0
  COORDINATE_SYSTEM_NAME = PLANETOGRAPHIC
  COORDINATE_SYSTEM_TYPE = "BODY-FIXED ROTATING"
  EASTERNMOST_LONGITUDE = 42.2628
  FIRST_STANDARD_PARALLEL = "N/A"
  LINE_FIRST_PIXEL = 1
  LINE_LAST_PIXEL = 28600
  LINE_PROJECTION_OFFSET = 63156.625
  MAP_PROJECTION_ROTATION = 0.0
  MAP_PROJECTION_TYPE = SINUSOIDAL
  MAP_RESOLUTION = 1185.42760773333
  MAP_SCALE = 0.05
  MAXIMUM_LATITUDE = 53.2352
  MINIMUM_LATITUDE = 29.1443
  POSITIVE_LONGITUDE_DIRECTION = EAST
  REFERENCE_LATITUDE = "N/A"
  REFERENCE_LONGITUDE = "N/A"
  SAMPLE_FIRST_PIXEL = 1
  SAMPLE_LAST_PIXEL = 2519
  SAMPLE_PROJECTION_OFFSET = 1166.875
  SECOND_STANDARD_PARALLEL = "N/A"
  WESTERNMOST_LONGITUDE = 39.4002
END_OBJECT = IMAGE_MAP_PROJECTION
/* The JPEG2000 image data file associated with this label. */
OBJECT = COMPRESSED_FILE
  FILE_NAME = "H1351_0001_GR3.JP2"
  RECORD_TYPE = UNDEFINED
  FILE_RECORDS = UNK
  ENCODING_TYPE = "JP2"
  INTERCHANGE_FORMAT = BINARY
  UNCOMPRESSED_FILE_NAME = "H1351_0001_GR3.IMG"
  REQUIRED_STORAGE_BYTES = "72063552"
  ^DESCRIPTION = "JP2INFO.TXT"
END_OBJECT = COMPRESSED_FILE
END
