PDS_VERSION_ID = PDS3
/* FILE DATA ELEMENTS */
RECORD_TYPE = STREAM
/* POINTERS TO DATA OBJECTS */
^COMPRESSED_FILE = "H1351_0001_ND3.JP2"
/* IDENTIFICATION DATA ELEMENTS */
DATA_SET_ID = "MEX-M-HRSC-5-REFDR-MAPPROJECTED-V3.0"
DATA_SET_NAME = "MARS EXPRESS HRSC MAP PROJECTED REFDR V3.0"
DETECTOR_ID = MEX_HRSC_NADIR
EVENT_TYPE = "MARS-REGIONAL-MAPPING-Vo-Fl"
INSTRUMENT_HOST_ID = MEX
INSTRUMENT_HOST_NAME = "MARS EXPRESS"
INSTRUMENT_ID = HRSC
INSTRUMENT_NAME = "HIGH RESOLUTION STEREO CAMERA"
MISSION_NAME = "MARS EXPRESS"
MISSION_PHASE_NAME = MR_Phase_4
PROCESSING_LEVEL_ID = 3
PRODUCT_CREATION_TIME = 2016-03-05T01:52:25.000Z
PRODUCT_ID = "H1351_0001_ND3.JP2"
RELEASE_ID = 0018
REVISION_ID = 0000
/* QUALITY DATA ELEMENTS */
DATA_QUALITY_ID = 1
DATA_QUALITY_DESC = "Data calculated based on original SPICE kernels"
/* TIME DATA ELEMENTS */
SPACECRAFT_CLOCK_START_COUNT = "1/0055644838.57149"
SPACECRAFT_CLOCK_STOP_COUNT = "1/0055645296.37316"
START_TIME = 2005-02-05T00:54:34.771Z
STOP_TIME = 2005-02-05T01:00:52.786Z
/* ORBITAL DATA ELEMENTS */
ASCENDING_NODE_LONGITUDE = 200.23
MAXIMUM_RESOLUTION = 12.8
FOOTPRINT_POINT_LATITUDE = (53.2334,53.2617,53.0644,52.6368, 52.2093,51.782,51.3548,50.9279,50.5011, 50.0746,49.6483,49.2138,48.7734,48.3333 ,47.8936,47.4542,47.0152,46.5767, 45.8994,45.4473,44.9957,44.5447,44.0941 ,43.6311,43.1672,42.7039,42.2413, 41.5301,41.0548,40.5803,40.0956,39.6084 ,39.1221,38.6264,38.1277,37.6297, 37.1189,36.6091,35.8318,35.3109,34.7801 ,34.2478,33.7066,33.1632,32.61,31.7718, 31.2063,30.6307,30.0508,29.4636,29.1634 ,29.1574,29.4483,30.0342,30.6129, 31.1874,31.7517,32.5882,33.1403,33.6825 ,34.2226,34.7539,35.284,35.8038,36.5797 ,37.0884,37.5984,38.0953,38.5931, 39.0879,39.5732,40.0595,40.5432,41.0168 ,41.4912,42.2011,42.6628,43.1253, 43.5879,44.05,44.4997,44.9501,45.4008, 45.8515,46.5272,46.9648,47.4027,47.841, 48.2797,48.7187,49.158,49.5914,50.0166, 50.4419,50.8674,51.2932,51.7191,52.1451 ,52.5713,53.2334)
FOOTPRINT_POINT_LONGITUDE = (39.8402,40.6305,41.246,41.2795,41.3118 ,41.3431,41.3737,41.4034,41.4321, 41.4604,41.4877,41.5155,41.5426,41.5687 ,41.5942,41.6192,41.6434,41.6664, 41.7018,41.7246,41.7468,41.7689,41.7907 ,41.8119,41.8311,41.8511,41.8687, 41.8957,41.9166,41.9359,41.9538,41.9697 ,41.9881,42.0053,42.0205,42.0377, 42.0552,42.0722,42.0957,42.1107,42.1266 ,42.1415,42.1573,42.173,42.1885,42.2118 ,42.2278,42.2412,42.2548,42.2691, 41.7182,40.9024,40.3959,40.3977,40.399, 40.399,40.3979,40.3954,40.3919,40.3856, 40.3803,40.3743,40.3708,40.3627,40.3487 ,40.3388,40.3283,40.3151,40.3027, 40.2889,40.2742,40.2586,40.2418,40.2253 ,40.2078,40.1793,40.1599,40.1401, 40.1136,40.0908,40.0691,40.0473,40.0229 ,39.9914,39.9475,39.9178,39.8871, 39.8555,39.8227,39.7889,39.7531,39.7161 ,39.6788,39.64,39.5995,39.5579,39.5147, 39.47,39.4234,39.8402)
ORBIT_NUMBER = 1351
ORBITAL_ECCENTRICITY = 0.568
ORBITAL_INCLINATION = 86.6
ORBITAL_SEMIMAJOR_AXIS = 8562.34
PERIAPSIS_ALTITUDE = 316.83
PERIAPSIS_ARGUMENT_ANGLE = 122.96
PERIAPSIS_TIME = 2005-02-05T00:53:40.000Z
SPACECRAFT_ORIENTATION = (0.0,1.0,0.0)
^MEX_ORIENTATION_DESC = "MEX_ORIENTATION_DESC.TXT"
SPACECRAFT_POINTING_MODE = ACROSSTRACK
^MEX_POINTING_DESC = "MEX_POINTING_DESC.TXT"
RIGHT_ASCENSION = -1e+32
DECLINATION = -1e+32
OFFSET_ANGLE = 0.13
SPACECRAFT_SOLAR_DISTANCE = 2.28148e+08
TARGET_NAME = MARS
/* CAMERA DATA ELEMENTS */
DETECTOR_TEMPERATURE = 19.39
FOCAL_PLANE_TEMPERATURE = 7.7677
INST_CMPRS_NAME = "DISCRETE COSINE TRANSFORMATION (DCT)"
INST_CMPRS_RATIO = 6.75838
INST_CMPRS_QUALITY = 0
INST_CMPRS_QUANTZ_TBL_ID = 0
INSTRUMENT_TEMPERATURE = 12.8652
LENS_TEMPERATURE = 8.3794
MACROPIXEL_SIZE = 1
MISSING_FRAMES = 3
PIXEL_SUBSAMPLING_FLAG = N
SIGNAL_CHAIN_ID = 0
/* RADIOMETRIC DATA ELEMENTS */
BANDWIDTH = 177.0
CENTER_FILTER_WAVELENGTH = 677.5
RADIANCE_OFFSET = 4.67298
RADIANCE_SCALING_FACTOR = 0.0330875
REFLECTANCE_SCALING_FACTOR = 0.000914917
MEX:REFLECTANCE_OFFSET = 0.129214
/* IMAGE OBJECT DEFINITIONS */
OBJECT = IMAGE
  INTERCHANGE_FORMAT = BINARY
  LINES = 114399
  LINE_SAMPLES = 10075
  SAMPLE_TYPE = UNSIGNED_INTEGER
  SAMPLE_BITS = 8
  BANDS = 1
  BAND_STORAGE_TYPE = BAND_SEQUENTIAL
  MAXIMUM = 158
  MEAN = 76.4161
  MINIMUM = 29
  STANDARD_DEVIATION = 9.74087
END_OBJECT = IMAGE
/* MAP OBJECT DEFINITIONS */
OBJECT = IMAGE_MAP_PROJECTION
  ^DATA_SET_MAP_PROJECTION_CATALOG= "DSMAP.CAT"
  A_AXIS_RADIUS = 3396.0
  B_AXIS_RADIUS = 3396.0
  C_AXIS_RADIUS = 3396.0
  CENTER_LATITUDE = 0.0
  CENTER_LONGITUDE = 41.0
  COORDINATE_SYSTEM_NAME = PLANETOGRAPHIC
  COORDINATE_SYSTEM_TYPE = "BODY-FIXED ROTATING"
  EASTERNMOST_LONGITUDE = 42.2691
  FIRST_STANDARD_PARALLEL = "N/A"
  LINE_FIRST_PIXEL = 1
  LINE_LAST_PIXEL = 114399
  LINE_PROJECTION_OFFSET = 252628.0
  MAP_PROJECTION_ROTATION = 0.0
  MAP_PROJECTION_TYPE = SINUSOIDAL
  MAP_RESOLUTION = 4741.71043093333
  MAP_SCALE = 0.0125
  MAXIMUM_LATITUDE = 53.2617
  MINIMUM_LATITUDE = 29.1574
  POSITIVE_LONGITUDE_DIRECTION = EAST
  REFERENCE_LATITUDE = "N/A"
  REFERENCE_LONGITUDE = "N/A"
  SAMPLE_FIRST_PIXEL = 1
  SAMPLE_LAST_PIXEL = 10075
  SAMPLE_PROJECTION_OFFSET = 4669.0
  SECOND_STANDARD_PARALLEL = "N/A"
  WESTERNMOST_LONGITUDE = 39.4234
END_OBJECT = IMAGE_MAP_PROJECTION
/* The JPEG2000 image data file associated with this label. */
OBJECT = COMPRESSED_FILE
  FILE_NAME = "H1351_0001_ND3.JP2"
  RECORD_TYPE = UNDEFINED
  FILE_RECORDS = UNK
  ENCODING_TYPE = "JP2"
  INTERCHANGE_FORMAT = BINARY
  UNCOMPRESSED_FILE_NAME = "H1351_0001_ND3.IMG"
  REQUIRED_STORAGE_BYTES = "1152600150"
  ^DESCRIPTION = "JP2INFO.TXT"
END_OBJECT = COMPRESSED_FILE
END
