PDS_VERSION_ID = PDS3
/* FILE DATA ELEMENTS */
RECORD_TYPE = STREAM
/* POINTERS TO DATA OBJECTS */
^COMPRESSED_FILE = "H1354_0000_S13.JP2"
/* IDENTIFICATION DATA ELEMENTS */
DATA_SET_ID = "MEX-M-HRSC-5-REFDR-MAPPROJECTED-V3.0"
DATA_SET_NAME = "MARS EXPRESS HRSC MAP PROJECTED REFDR V3.0"
DETECTOR_ID = MEX_HRSC_S1
EVENT_TYPE = "MARS-REGIONAL-MAPPING-Im-Pf"
INSTRUMENT_HOST_ID = MEX
INSTRUMENT_HOST_NAME = "MARS EXPRESS"
INSTRUMENT_ID = HRSC
INSTRUMENT_NAME = "HIGH RESOLUTION STEREO CAMERA"
MISSION_NAME = "MARS EXPRESS"
MISSION_PHASE_NAME = MR_Phase_4
PROCESSING_LEVEL_ID = 3
PRODUCT_CREATION_TIME = 2016-03-05T01:52:25.000Z
PRODUCT_ID = "H1354_0000_S13.JP2"
RELEASE_ID = 0018
REVISION_ID = 0000
/* QUALITY DATA ELEMENTS */
DATA_QUALITY_ID = 1
DATA_QUALITY_DESC = "Data calculated based on original SPICE kernels"
/* TIME DATA ELEMENTS */
SPACECRAFT_CLOCK_START_COUNT = "1/0055717544.57953"
SPACECRAFT_CLOCK_STOP_COUNT = "1/0055717773.00849"
START_TIME = 2005-02-05T21:05:52.573Z
STOP_TIME = 2005-02-05T21:08:23.940Z
/* ORBITAL DATA ELEMENTS */
ASCENDING_NODE_LONGITUDE = 200.17
MAXIMUM_RESOLUTION = 28.2
FOOTPRINT_POINT_LATITUDE = (47.134,47.1208,47.1103,47.0991,46.9957 ,46.8072,46.6186,46.43,46.2414,46.053, 45.8644,45.6758,45.4871,45.2041,45.0153 ,44.8255,44.533,44.3379,44.143,43.8504, 43.6553,43.4603,43.1679,42.9729,42.6806 ,42.3837,42.1826,41.8808,41.68,41.4785, 41.2772,41.0761,40.875,40.5735,40.3663, 40.1589,39.8479,39.641,39.4339,39.1234, 38.9163,38.7059,38.4924,38.2794,38.0662 ,37.8532,37.5338,37.3212,37.1026, 36.9692,36.9784,36.986,36.9969,37.1154, 37.3348,37.5486,37.8685,38.0818,38.2953 ,38.5088,38.7226,38.9346,39.142,39.3492 ,39.5568,39.8682,40.0759,40.2834, 40.4912,40.6965,40.898,41.2002,41.5025, 41.704,42.007,42.2093,42.5116,42.804, 43.0041,43.1981,43.3923,43.6853,43.8806 ,44.0761,44.2716,44.4677,44.6623, 44.8575,45.0488,45.2379,45.4272,45.6164 ,45.8056,45.9945,46.1836,46.4672, 46.6564,46.8454,47.0344,47.134)
FOOTPRINT_POINT_LONGITUDE = (105.754,105.407,105.154,104.901, 104.586,104.6,104.614,104.628,104.642, 104.656,104.669,104.682,104.695,104.714 ,104.726,104.738,104.756,104.768,104.78 ,104.797,104.808,104.819,104.836, 104.846,104.861,104.877,104.887,104.901 ,104.911,104.92,104.929,104.938,104.947 ,104.96,104.968,104.976,104.988,104.996 ,105.004,105.015,105.022,105.03,105.036 ,105.043,105.05,105.056,105.066,105.072 ,105.078,105.376,105.654,105.915, 106.355,106.763,106.756,106.748,106.736 ,106.728,106.72,106.712,106.704,106.696 ,106.687,106.679,106.671,106.658, 106.649,106.641,106.632,106.623,106.614 ,106.601,106.588,106.578,106.564, 106.555,106.54,106.527,106.516,106.507, 106.498,106.483,106.473,106.463,106.453 ,106.442,106.432,106.422,106.411, 106.401,106.39,106.379,106.369,106.358, 106.347,106.33,106.319,106.307,106.296, 105.754)
ORBIT_NUMBER = 1354
ORBITAL_ECCENTRICITY = 0.568
ORBITAL_INCLINATION = 86.6
ORBITAL_SEMIMAJOR_AXIS = 8563.5
PERIAPSIS_ALTITUDE = 316.43
PERIAPSIS_ARGUMENT_ANGLE = 122.39
PERIAPSIS_TIME = 2005-02-05T21:03:43.000Z
SPACECRAFT_ORIENTATION = (0.0,-1.0,0.0)
^MEX_ORIENTATION_DESC = "MEX_ORIENTATION_DESC.TXT"
SPACECRAFT_POINTING_MODE = ACROSSTRACK
^MEX_POINTING_DESC = "MEX_POINTING_DESC.TXT"
RIGHT_ASCENSION = -1e+32
DECLINATION = -1e+32
OFFSET_ANGLE = -0.12
SPACECRAFT_SOLAR_DISTANCE = 2.27984e+08
TARGET_NAME = MARS
/* CAMERA DATA ELEMENTS */
DETECTOR_TEMPERATURE = 17.1471
FOCAL_PLANE_TEMPERATURE = 7.9716
INST_CMPRS_NAME = "DISCRETE COSINE TRANSFORMATION (DCT)"
INST_CMPRS_RATIO = 10.7309
INST_CMPRS_QUALITY = 0
INST_CMPRS_QUANTZ_TBL_ID = 0
INSTRUMENT_TEMPERATURE = 11.0301
LENS_TEMPERATURE = 8.5833
MACROPIXEL_SIZE = 2
MISSING_FRAMES = 0
PIXEL_SUBSAMPLING_FLAG = N
SIGNAL_CHAIN_ID = 1
/* RADIOMETRIC DATA ELEMENTS */
BANDWIDTH = 180.0
CENTER_FILTER_WAVELENGTH = 677.0
RADIANCE_OFFSET = 5.52645
RADIANCE_SCALING_FACTOR = 0.0262695
REFLECTANCE_SCALING_FACTOR = 0.000712364
MEX:REFLECTANCE_OFFSET = 0.149864
/* IMAGE OBJECT DEFINITIONS */
OBJECT = IMAGE
  INTERCHANGE_FORMAT = BINARY
  LINES = 23906
  LINE_SAMPLES = 3887
  SAMPLE_TYPE = UNSIGNED_INTEGER
  SAMPLE_BITS = 8
  BANDS = 1
  BAND_STORAGE_TYPE = BAND_SEQUENTIAL
  MAXIMUM = 155
  MEAN = 102.246
  MINIMUM = 61
  STANDARD_DEVIATION = 18.0976
END_OBJECT = IMAGE
/* MAP OBJECT DEFINITIONS */
OBJECT = IMAGE_MAP_PROJECTION
  ^DATA_SET_MAP_PROJECTION_CATALOG= "DSMAP.CAT"
  A_AXIS_RADIUS = 3396.0
  B_AXIS_RADIUS = 3396.0
  C_AXIS_RADIUS = 3396.0
  CENTER_LATITUDE = 0.0
  CENTER_LONGITUDE = 106.0
  COORDINATE_SYSTEM_NAME = PLANETOGRAPHIC
  COORDINATE_SYSTEM_TYPE = "BODY-FIXED ROTATING"
  EASTERNMOST_LONGITUDE = 106.763
  FIRST_STANDARD_PARALLEL = "N/A"
  LINE_FIRST_PIXEL = 1
  LINE_LAST_PIXEL = 23906
  LINE_PROJECTION_OFFSET = 111595.75
  MAP_PROJECTION_ROTATION = 0.0
  MAP_PROJECTION_TYPE = SINUSOIDAL
  MAP_RESOLUTION = 2370.85521546667
  MAP_SCALE = 0.025
  MAXIMUM_LATITUDE = 47.134
  MINIMUM_LATITUDE = 36.9692
  POSITIVE_LONGITUDE_DIRECTION = EAST
  REFERENCE_LATITUDE = "N/A"
  REFERENCE_LONGITUDE = "N/A"
  SAMPLE_FIRST_PIXEL = 1
  SAMPLE_LAST_PIXEL = 3887
  SAMPLE_PROJECTION_OFFSET = 2364.25
  SECOND_STANDARD_PARALLEL = "N/A"
  WESTERNMOST_LONGITUDE = 104.586
END_OBJECT = IMAGE_MAP_PROJECTION
/* The JPEG2000 image data file associated with this label. */
OBJECT = COMPRESSED_FILE
  FILE_NAME = "H1354_0000_S13.JP2"
  RECORD_TYPE = UNDEFINED
  FILE_RECORDS = UNK
  ENCODING_TYPE = "JP2"
  INTERCHANGE_FORMAT = BINARY
  UNCOMPRESSED_FILE_NAME = "H1354_0000_S13.IMG"
  REQUIRED_STORAGE_BYTES = "92945944"
  ^DESCRIPTION = "JP2INFO.TXT"
END_OBJECT = COMPRESSED_FILE
END
