PDS_VERSION_ID = PDS3
/* FILE DATA ELEMENTS */
RECORD_TYPE = STREAM
/* POINTERS TO DATA OBJECTS */
^COMPRESSED_FILE = "H1354_0004_SR3.JP2"
/* IDENTIFICATION DATA ELEMENTS */
DATA_SET_ID = "MEX-M-HRSC-5-REFDR-MAPPROJECTED-V3.0"
DATA_SET_NAME = "MARS EXPRESS HRSC MAP PROJECTED REFDR V3.0"
DETECTOR_ID = MEX_HRSC_SRC
EVENT_TYPE = "MARS-REGIONAL-MAPPING-Im-Pf"
INSTRUMENT_HOST_ID = MEX
INSTRUMENT_HOST_NAME = "MARS EXPRESS"
INSTRUMENT_ID = HRSC
INSTRUMENT_NAME = "HIGH RESOLUTION STEREO CAMERA"
MISSION_NAME = "MARS EXPRESS"
MISSION_PHASE_NAME = MR_Phase_4
PROCESSING_LEVEL_ID = 3
PRODUCT_CREATION_TIME = 2016-03-05T01:52:25.000Z
PRODUCT_ID = "H1354_0004_SR3.JP2"
RELEASE_ID = 0018
REVISION_ID = 0000
/* QUALITY DATA ELEMENTS */
DATA_QUALITY_ID = 1
DATA_QUALITY_DESC = "Data calculated based on original SPICE kernels"
/* TIME DATA ELEMENTS */
SPACECRAFT_CLOCK_START_COUNT = "1/0055717544.57953"
SPACECRAFT_CLOCK_STOP_COUNT = "1/0055717773.00849"
IMAGE_TIME = 2005-02-05T21:06:58.734Z
START_TIME = 2005-02-05T21:06:58.731Z
STOP_TIME = 2005-02-05T21:06:58.736Z
/* ORBITAL DATA ELEMENTS */
ASCENDING_NODE_LONGITUDE = 200.17
MAXIMUM_RESOLUTION = 3.198
FOOTPRINT_POINT_LATITUDE = (44.6191,44.6214,44.6236,44.6254, 44.6283,44.6315,44.6335,44.6361,44.6375 ,44.6399,44.6426,44.6445,44.6465,44.648 ,44.6501,44.6528,44.6564,44.6592, 44.6611,44.6625,44.6649,44.6664,44.6693 ,44.6711,44.6732,44.6732,44.6733, 44.6734,44.6735,44.6736,44.6737,44.6738 ,44.6739,44.6739,44.674,44.6741,44.6742 ,44.6743,44.6744,44.6745,44.6746, 44.6747,44.6748,44.6748,44.6749,44.675, 44.6751,44.6752,44.6753,44.6754,44.6743 ,44.6729,44.6702,44.668,44.666,44.6637, 44.6623,44.6595,44.6568,44.6548,44.6518 ,44.6482,44.6457,44.6443,44.6428, 44.6408,44.6394,44.6375,44.6346,44.6329 ,44.6313,44.6287,44.6263,44.624,44.6213 ,44.6209,44.6208,44.6207,44.6206, 44.6205,44.6204,44.6203,44.6202,44.6201 ,44.62,44.6199,44.6198,44.6197,44.6197, 44.6196,44.6195,44.6194,44.6193,44.6192 ,44.6191,44.619,44.6189,44.6188,44.6188 ,44.6191)
FOOTPRINT_POINT_LONGITUDE = (105.558,105.558,105.558,105.558, 105.558,105.557,105.557,105.557,105.557 ,105.557,105.557,105.557,105.556, 105.556,105.556,105.556,105.556,105.556 ,105.556,105.556,105.555,105.555, 105.555,105.555,105.555,105.557,105.56, 105.563,105.566,105.569,105.572,105.576 ,105.579,105.582,105.585,105.588, 105.591,105.594,105.597,105.6,105.603, 105.606,105.609,105.612,105.615,105.619 ,105.622,105.625,105.628,105.631, 105.632,105.632,105.633,105.633,105.633 ,105.633,105.633,105.633,105.633, 105.634,105.634,105.634,105.634,105.634 ,105.634,105.634,105.634,105.635, 105.635,105.635,105.635,105.635,105.635 ,105.635,105.635,105.633,105.63,105.627 ,105.624,105.621,105.618,105.613,105.61 ,105.607,105.604,105.601,105.598, 105.595,105.592,105.589,105.586,105.583 ,105.58,105.577,105.574,105.571,105.568 ,105.565,105.562,105.558)
ORBIT_NUMBER = 1354
ORBITAL_ECCENTRICITY = 0.568
ORBITAL_INCLINATION = 86.6
ORBITAL_SEMIMAJOR_AXIS = 8563.5
PERIAPSIS_ALTITUDE = 316.43
PERIAPSIS_ARGUMENT_ANGLE = 122.39
PERIAPSIS_TIME = 2005-02-05T21:03:43.000Z
SPACECRAFT_ORIENTATION = (0.0,-1.0,0.0)
^MEX_ORIENTATION_DESC = "MEX_ORIENTATION_DESC.TXT"
SPACECRAFT_POINTING_MODE = ACROSSTRACK
^MEX_POINTING_DESC = "MEX_POINTING_DESC.TXT"
RIGHT_ASCENSION = -1e+32
DECLINATION = -1e+32
OFFSET_ANGLE = -0.12
SPACECRAFT_SOLAR_DISTANCE = 2.27984e+08
TARGET_NAME = MARS
/* CAMERA DATA ELEMENTS */
BUFFER_MODE_ID = BUFFER_8
EXPOSURE_DURATION = 5.04
INST_CMPRS_NAME = NONE
INST_CMPRS_RATIO = 1.0
INST_CMPRS_QUALITY = -2147483648
INST_CMPRS_QUANTZ_TBL_ID = -2147483648
INSTRUMENT_TEMPERATURE = 5.53466
MISSING_FRAMES = 0
START_BIT = 0
/* RADIOMETRIC DATA ELEMENTS */
BANDWIDTH = 250.0
CENTER_FILTER_WAVELENGTH = 600.0
RADIANCE_OFFSET = -9.99e+31
RADIANCE_SCALING_FACTOR = -9.99e+31
REFLECTANCE_SCALING_FACTOR = -9.99e+31
MEX:REFLECTANCE_OFFSET = -9.99e+31
/* IMAGE OBJECT DEFINITIONS */
OBJECT = IMAGE
  INTERCHANGE_FORMAT = BINARY
  LINES = 1425
  LINE_SAMPLES = 1432
  SAMPLE_TYPE = UNSIGNED_INTEGER
  SAMPLE_BITS = 8
  BANDS = 1
  BAND_STORAGE_TYPE = BAND_SEQUENTIAL
  MAXIMUM = 6413
  MEAN = 5680.7
  MINIMUM = 4757
  STANDARD_DEVIATION = 146.962
END_OBJECT = IMAGE
/* MAP OBJECT DEFINITIONS */
OBJECT = IMAGE_MAP_PROJECTION
  ^DATA_SET_MAP_PROJECTION_CATALOG= "DSMAP.CAT"
  A_AXIS_RADIUS = 3396.19
  B_AXIS_RADIUS = 3396.19
  C_AXIS_RADIUS = 3396.19
  CENTER_LATITUDE = 0.0
  CENTER_LONGITUDE = 106.0
  COORDINATE_SYSTEM_NAME = PLANETOGRAPHIC
  COORDINATE_SYSTEM_TYPE = "BODY-FIXED ROTATING"
  EASTERNMOST_LONGITUDE = 105.635
  FIRST_STANDARD_PARALLEL = "N/A"
  LINE_FIRST_PIXEL = 1
  LINE_LAST_PIXEL = 1425
  LINE_PROJECTION_OFFSET = 1058175.0
  MAP_PROJECTION_ROTATION = 0.0
  MAP_PROJECTION_TYPE = SINUSOIDAL
  MAP_RESOLUTION = 23709.8786048756
  MAP_SCALE = 0.0025
  MAXIMUM_LATITUDE = 44.6754
  MINIMUM_LATITUDE = 44.6188
  POSITIVE_LONGITUDE_DIRECTION = EAST
  REFERENCE_LATITUDE = "N/A"
  REFERENCE_LONGITUDE = "N/A"
  SAMPLE_FIRST_PIXEL = 1
  SAMPLE_LAST_PIXEL = 1432
  SAMPLE_PROJECTION_OFFSET = 7613.0
  SECOND_STANDARD_PARALLEL = "N/A"
  WESTERNMOST_LONGITUDE = 105.555
END_OBJECT = IMAGE_MAP_PROJECTION
/* The JPEG2000 image data file associated with this label. */
OBJECT = COMPRESSED_FILE
  FILE_NAME = "H1354_0004_SR3.JP2"
  RECORD_TYPE = UNDEFINED
  FILE_RECORDS = UNK
  ENCODING_TYPE = "JP2"
  INTERCHANGE_FORMAT = BINARY
  UNCOMPRESSED_FILE_NAME = "H1354_0004_SR3.IMG"
  REQUIRED_STORAGE_BYTES = "2060648"
  ^DESCRIPTION = "JP2INFO.TXT"
END_OBJECT = COMPRESSED_FILE
END
