PDS_VERSION_ID = PDS3
/* FILE DATA ELEMENTS */
RECORD_TYPE = STREAM
/* POINTERS TO DATA OBJECTS */
^COMPRESSED_FILE = "H1361_0007_SR3.JP2"
/* IDENTIFICATION DATA ELEMENTS */
DATA_SET_ID = "MEX-M-HRSC-5-REFDR-MAPPROJECTED-V3.0"
DATA_SET_NAME = "MARS EXPRESS HRSC MAP PROJECTED REFDR V3.0"
DETECTOR_ID = MEX_HRSC_SRC
EVENT_TYPE = "MARS-REGIONAL-STEREO-Vo-Te-Fl"
INSTRUMENT_HOST_ID = MEX
INSTRUMENT_HOST_NAME = "MARS EXPRESS"
INSTRUMENT_ID = HRSC
INSTRUMENT_NAME = "HIGH RESOLUTION STEREO CAMERA"
MISSION_NAME = "MARS EXPRESS"
MISSION_PHASE_NAME = MR_Phase_4
PROCESSING_LEVEL_ID = 3
PRODUCT_CREATION_TIME = 2016-03-05T01:52:25.000Z
PRODUCT_ID = "H1361_0007_SR3.JP2"
RELEASE_ID = 0018
REVISION_ID = 0000
/* QUALITY DATA ELEMENTS */
DATA_QUALITY_ID = 1
DATA_QUALITY_DESC = "Data calculated based on original SPICE kernels"
/* TIME DATA ELEMENTS */
SPACECRAFT_CLOCK_START_COUNT = "1/0055887214.57146"
SPACECRAFT_CLOCK_STOP_COUNT = "1/0055887865.37474"
IMAGE_TIME = 2005-02-07T20:16:07.774Z
START_TIME = 2005-02-07T20:16:07.772Z
STOP_TIME = 2005-02-07T20:16:07.777Z
/* ORBITAL DATA ELEMENTS */
ASCENDING_NODE_LONGITUDE = 200.02
MAXIMUM_RESOLUTION = 5.1
FOOTPRINT_POINT_LATITUDE = (24.5719,24.569,24.5647,24.5596,24.5551 ,24.5515,24.5488,24.5453,24.5432,24.541 ,24.5373,24.5338,24.5296,24.5235, 24.5213,24.5184,24.5154,24.5132,24.5091 ,24.5049,24.5022,24.4994,24.4967, 24.4936,24.4907,24.4883,24.4868,24.4868 ,24.4868,24.4869,24.4869,24.4869, 24.4869,24.4869,24.4869,24.487,24.487, 24.487,24.487,24.487,24.487,24.487, 24.4871,24.4871,24.4871,24.4871,24.4871 ,24.4871,24.4871,24.4872,24.4872, 24.4899,24.4947,24.4977,24.5024,24.5067 ,24.5095,24.513,24.5154,24.5178,24.5211 ,24.5265,24.5306,24.5358,24.5397, 24.5427,24.5475,24.5507,24.553,24.5555, 24.5577,24.5613,24.5664,24.5706,24.5739 ,24.5739,24.5739,24.5739,24.5739, 24.5738,24.5738,24.5738,24.5738,24.5738 ,24.5738,24.5738,24.5738,24.5738, 24.5737,24.5737,24.5737,24.5737,24.5737 ,24.5737,24.5737,24.5737,24.5736, 24.5736,24.5736,24.5719)
FOOTPRINT_POINT_LONGITUDE = (138.853,138.853,138.853,138.853, 138.853,138.853,138.853,138.853,138.853 ,138.853,138.853,138.853,138.853, 138.853,138.853,138.853,138.853,138.853 ,138.853,138.853,138.853,138.853, 138.853,138.853,138.853,138.853,138.851 ,138.847,138.843,138.84,138.836,138.832 ,138.828,138.824,138.821,138.817, 138.813,138.809,138.805,138.802,138.798 ,138.794,138.79,138.786,138.783,138.779 ,138.775,138.771,138.767,138.764,138.76 ,138.757,138.757,138.757,138.757, 138.757,138.757,138.757,138.757,138.757 ,138.757,138.757,138.757,138.757, 138.757,138.757,138.757,138.757,138.757 ,138.757,138.757,138.757,138.757, 138.757,138.759,138.763,138.766,138.77, 138.774,138.778,138.782,138.785,138.789 ,138.793,138.797,138.801,138.804, 138.808,138.812,138.816,138.82,138.823, 138.827,138.831,138.835,138.839,138.842 ,138.846,138.85,138.853)
ORBIT_NUMBER = 1361
ORBITAL_ECCENTRICITY = 0.568
ORBITAL_INCLINATION = 86.59
ORBITAL_SEMIMAJOR_AXIS = 8558.78
PERIAPSIS_ALTITUDE = 318.39
PERIAPSIS_ARGUMENT_ANGLE = 121.16
PERIAPSIS_TIME = 2005-02-07T20:07:05.000Z
SPACECRAFT_ORIENTATION = (0.0,1.0,0.0)
^MEX_ORIENTATION_DESC = "MEX_ORIENTATION_DESC.TXT"
SPACECRAFT_POINTING_MODE = ACROSSTRACK
^MEX_POINTING_DESC = "MEX_POINTING_DESC.TXT"
RIGHT_ASCENSION = -1e+32
DECLINATION = -1e+32
OFFSET_ANGLE = 0.71
SPACECRAFT_SOLAR_DISTANCE = 2.27602e+08
TARGET_NAME = MARS
/* CAMERA DATA ELEMENTS */
BUFFER_MODE_ID = BUFFER_8
EXPOSURE_DURATION = 5.04
INST_CMPRS_NAME = NONE
INST_CMPRS_RATIO = 1.0
INST_CMPRS_QUALITY = -2147483648
INST_CMPRS_QUANTZ_TBL_ID = -2147483648
INSTRUMENT_TEMPERATURE = 8.18182
MISSING_FRAMES = 0
START_BIT = 0
/* RADIOMETRIC DATA ELEMENTS */
BANDWIDTH = 250.0
CENTER_FILTER_WAVELENGTH = 600.0
RADIANCE_OFFSET = -9.99e+31
RADIANCE_SCALING_FACTOR = -9.99e+31
REFLECTANCE_SCALING_FACTOR = -9.99e+31
MEX:REFLECTANCE_OFFSET = -9.99e+31
/* IMAGE OBJECT DEFINITIONS */
OBJECT = IMAGE
  INTERCHANGE_FORMAT = BINARY
  LINES = 1080
  LINE_SAMPLES = 1094
  SAMPLE_TYPE = UNSIGNED_INTEGER
  SAMPLE_BITS = 8
  BANDS = 1
  BAND_STORAGE_TYPE = BAND_SEQUENTIAL
  MAXIMUM = 10611
  MEAN = 9683.6
  MINIMUM = 8196
  STANDARD_DEVIATION = 130.386
END_OBJECT = IMAGE
/* MAP OBJECT DEFINITIONS */
OBJECT = IMAGE_MAP_PROJECTION
  ^DATA_SET_MAP_PROJECTION_CATALOG= "DSMAP.CAT"
  A_AXIS_RADIUS = 3396.19
  B_AXIS_RADIUS = 3396.19
  C_AXIS_RADIUS = 3396.19
  CENTER_LATITUDE = 0.0
  CENTER_LONGITUDE = 139.0
  COORDINATE_SYSTEM_NAME = PLANETOGRAPHIC
  COORDINATE_SYSTEM_TYPE = "BODY-FIXED ROTATING"
  EASTERNMOST_LONGITUDE = 138.853
  FIRST_STANDARD_PARALLEL = "N/A"
  LINE_FIRST_PIXEL = 1
  LINE_LAST_PIXEL = 1080
  LINE_PROJECTION_OFFSET = 291244.0
  MAP_PROJECTION_ROTATION = 0.0
  MAP_PROJECTION_TYPE = SINUSOIDAL
  MAP_RESOLUTION = 11854.9393024378
  MAP_SCALE = 0.005
  MAXIMUM_LATITUDE = 24.5739
  MINIMUM_LATITUDE = 24.4868
  POSITIVE_LONGITUDE_DIRECTION = EAST
  REFERENCE_LATITUDE = "N/A"
  REFERENCE_LONGITUDE = "N/A"
  SAMPLE_FIRST_PIXEL = 1
  SAMPLE_LAST_PIXEL = 1094
  SAMPLE_PROJECTION_OFFSET = 2590.0
  SECOND_STANDARD_PARALLEL = "N/A"
  WESTERNMOST_LONGITUDE = 138.757
END_OBJECT = IMAGE_MAP_PROJECTION
/* The JPEG2000 image data file associated with this label. */
OBJECT = COMPRESSED_FILE
  FILE_NAME = "H1361_0007_SR3.JP2"
  RECORD_TYPE = UNDEFINED
  FILE_RECORDS = UNK
  ENCODING_TYPE = "JP2"
  INTERCHANGE_FORMAT = BINARY
  UNCOMPRESSED_FILE_NAME = "H1361_0007_SR3.IMG"
  REQUIRED_STORAGE_BYTES = "1200118"
  ^DESCRIPTION = "JP2INFO.TXT"
END_OBJECT = COMPRESSED_FILE
END
