PDS_VERSION_ID = PDS3
/* FILE DATA ELEMENTS */
RECORD_TYPE = STREAM
/* POINTERS TO DATA OBJECTS */
^COMPRESSED_FILE = "H1362_0000_IR3.JP2"
/* IDENTIFICATION DATA ELEMENTS */
DATA_SET_ID = "MEX-M-HRSC-5-REFDR-MAPPROJECTED-V3.0"
DATA_SET_NAME = "MARS EXPRESS HRSC MAP PROJECTED REFDR V3.0"
DETECTOR_ID = MEX_HRSC_IR
EVENT_TYPE = "MARS-REGIONAL-MAPPING-Vo-Fl"
INSTRUMENT_HOST_ID = MEX
INSTRUMENT_HOST_NAME = "MARS EXPRESS"
INSTRUMENT_ID = HRSC
INSTRUMENT_NAME = "HIGH RESOLUTION STEREO CAMERA"
MISSION_NAME = "MARS EXPRESS"
MISSION_PHASE_NAME = MR_Phase_4
PROCESSING_LEVEL_ID = 3
PRODUCT_CREATION_TIME = 2016-03-05T01:52:25.000Z
PRODUCT_ID = "H1362_0000_IR3.JP2"
RELEASE_ID = 0018
REVISION_ID = 0000
/* QUALITY DATA ELEMENTS */
DATA_QUALITY_ID = 1
DATA_QUALITY_DESC = "Data calculated based on original SPICE kernels"
/* TIME DATA ELEMENTS */
SPACECRAFT_CLOCK_START_COUNT = "1/0055911424.57961"
SPACECRAFT_CLOCK_STOP_COUNT = "1/0055912049.25790"
START_TIME = 2005-02-08T02:58:38.762Z
STOP_TIME = 2005-02-08T03:10:22.232Z
/* ORBITAL DATA ELEMENTS */
ASCENDING_NODE_LONGITUDE = 200.0
MAXIMUM_RESOLUTION = 86.6
FOOTPRINT_POINT_LATITUDE = (29.9451,29.9575,29.2153,28.4473, 27.6846,26.9285,26.1793,25.4405,24.694, 23.9642,23.2378,22.5192,21.8064,21.1008 ,20.4038,19.7105,19.0266,18.3478, 17.6734,17.0072,16.3479,15.6928,15.0477 ,14.0885,13.4585,12.8387,11.9057, 11.2964,10.6942,10.101,9.50371,8.92044, 8.34263,7.76981,7.21202,6.37489,5.53977 ,5.00115,4.46619,3.93655,3.41095, 2.89193,2.37925,1.87371,0.88216, -0.0969623,-1.04897,-1.08545,-1.06812, -1.0519,-1.03506,-1.01703,-0.970271, -0.023973,0.938506,1.68593,2.18572, 2.69092,3.2013,3.71063,4.23026,4.76005, 5.29542,6.11208,6.6632,7.21847,7.7738, 8.3398,8.91274,9.78546,10.3717,10.9656, 11.5636,12.1767,12.7986,13.414,14.042, 14.6724,15.3122,15.9622,16.6145,17.2744 ,17.9426,18.6161,19.2944,19.9798, 20.6788,21.3736,22.0779,22.7904,23.8733 ,24.5995,25.3331,26.0742,26.8219,27.577 ,28.334,29.0993,29.8703,29.9451)
FOOTPRINT_POINT_LONGITUDE = (40.5874,41.2147,41.5547,41.5713,41.587 ,41.6026,41.6185,41.637,41.6456,41.6613 ,41.6748,41.6891,41.7029,41.7172, 41.7328,41.7466,41.7623,41.7771,41.7906 ,41.8053,41.8203,41.834,41.85,41.872, 41.8877,41.9058,41.9243,41.9396,41.9557 ,41.9734,41.9855,42.0022,42.0188,42.035 ,42.0563,42.0822,42.1024,42.122,42.1407 ,42.1594,42.1774,42.1961,42.2155, 42.2359,42.2791,42.3183,42.3616,41.6979 ,40.7238,40.1077,39.4046,38.8352, 37.6404,37.7405,37.8402,37.9115,37.9597 ,38.0074,38.0549,38.1033,38.1502, 38.1958,38.2409,38.3072,38.3509,38.3944 ,38.4387,38.4814,38.5234,38.585,38.6259 ,38.6659,38.7058,38.7432,38.7796, 38.8177,38.8539,38.8902,38.9251,38.9586 ,38.992,39.0245,39.0557,39.0864,39.1164 ,39.1454,39.1723,39.1999,39.2261, 39.2509,39.2858,39.3082,39.3293,39.349, 39.3673,39.3842,39.4003,39.4147,39.4276 ,40.5874)
ORBIT_NUMBER = 1362
ORBITAL_ECCENTRICITY = 0.568
ORBITAL_INCLINATION = 86.6
ORBITAL_SEMIMAJOR_AXIS = 8559.38
PERIAPSIS_ALTITUDE = 318.11
PERIAPSIS_ARGUMENT_ANGLE = 120.99
PERIAPSIS_TIME = 2005-02-08T02:50:24.000Z
SPACECRAFT_ORIENTATION = (0.0,1.0,0.0)
^MEX_ORIENTATION_DESC = "MEX_ORIENTATION_DESC.TXT"
SPACECRAFT_POINTING_MODE = ACROSSTRACK
^MEX_POINTING_DESC = "MEX_POINTING_DESC.TXT"
RIGHT_ASCENSION = -1e+32
DECLINATION = -1e+32
OFFSET_ANGLE = 0.67
SPACECRAFT_SOLAR_DISTANCE = 2.27548e+08
TARGET_NAME = MARS
/* CAMERA DATA ELEMENTS */
DETECTOR_TEMPERATURE = 17.351
FOCAL_PLANE_TEMPERATURE = 8.1755
INST_CMPRS_NAME = "DISCRETE COSINE TRANSFORMATION (DCT)"
INST_CMPRS_RATIO = 27.5662
INST_CMPRS_QUALITY = 0
INST_CMPRS_QUANTZ_TBL_ID = 0
INSTRUMENT_TEMPERATURE = 11.0301
LENS_TEMPERATURE = 8.3794
MACROPIXEL_SIZE = 4
MISSING_FRAMES = 0
PIXEL_SUBSAMPLING_FLAG = N
SIGNAL_CHAIN_ID = 2
/* RADIOMETRIC DATA ELEMENTS */
BANDWIDTH = 81.0
CENTER_FILTER_WAVELENGTH = 955.5
RADIANCE_OFFSET = 1.9144
RADIANCE_SCALING_FACTOR = 0.00779074
REFLECTANCE_SCALING_FACTOR = 0.000870255
MEX:REFLECTANCE_OFFSET = 0.213845
/* IMAGE OBJECT DEFINITIONS */
OBJECT = IMAGE
  INTERCHANGE_FORMAT = BINARY
  LINES = 18423
  LINE_SAMPLES = 2383
  SAMPLE_TYPE = UNSIGNED_INTEGER
  SAMPLE_BITS = 8
  BANDS = 1
  BAND_STORAGE_TYPE = BAND_SEQUENTIAL
  MAXIMUM = 124
  MEAN = 95.7234
  MINIMUM = 47
  STANDARD_DEVIATION = 6.19218
END_OBJECT = IMAGE
/* MAP OBJECT DEFINITIONS */
OBJECT = IMAGE_MAP_PROJECTION
  ^DATA_SET_MAP_PROJECTION_CATALOG= "DSMAP.CAT"
  A_AXIS_RADIUS = 3396.0
  B_AXIS_RADIUS = 3396.0
  C_AXIS_RADIUS = 3396.0
  CENTER_LATITUDE = 0.0
  CENTER_LONGITUDE = 40.0
  COORDINATE_SYSTEM_NAME = PLANETOGRAPHIC
  COORDINATE_SYSTEM_TYPE = "BODY-FIXED ROTATING"
  EASTERNMOST_LONGITUDE = 42.3616
  FIRST_STANDARD_PARALLEL = "N/A"
  LINE_FIRST_PIXEL = 1
  LINE_LAST_PIXEL = 18423
  LINE_PROJECTION_OFFSET = 17761.375
  MAP_PROJECTION_ROTATION = 0.0
  MAP_PROJECTION_TYPE = SINUSOIDAL
  MAP_RESOLUTION = 592.713803866667
  MAP_SCALE = 0.1
  MAXIMUM_LATITUDE = 29.9575
  MINIMUM_LATITUDE = -1.08545
  POSITIVE_LONGITUDE_DIRECTION = EAST
  REFERENCE_LATITUDE = "N/A"
  REFERENCE_LONGITUDE = "N/A"
  SAMPLE_FIRST_PIXEL = 1
  SAMPLE_LAST_PIXEL = 2383
  SAMPLE_PROJECTION_OFFSET = 1193.125
  SECOND_STANDARD_PARALLEL = "N/A"
  WESTERNMOST_LONGITUDE = 37.6404
END_OBJECT = IMAGE_MAP_PROJECTION
/* The JPEG2000 image data file associated with this label. */
OBJECT = COMPRESSED_FILE
  FILE_NAME = "H1362_0000_IR3.JP2"
  RECORD_TYPE = UNDEFINED
  FILE_RECORDS = UNK
  ENCODING_TYPE = "JP2"
  INTERCHANGE_FORMAT = BINARY
  UNCOMPRESSED_FILE_NAME = "H1362_0000_IR3.IMG"
  REQUIRED_STORAGE_BYTES = "43921073"
  ^DESCRIPTION = "JP2INFO.TXT"
END_OBJECT = COMPRESSED_FILE
END
