PDS_VERSION_ID = PDS3
/* FILE DATA ELEMENTS */
RECORD_TYPE = STREAM
/* POINTERS TO DATA OBJECTS */
^COMPRESSED_FILE = "H1362_0008_SR3.JP2"
/* IDENTIFICATION DATA ELEMENTS */
DATA_SET_ID = "MEX-M-HRSC-5-REFDR-MAPPROJECTED-V3.0"
DATA_SET_NAME = "MARS EXPRESS HRSC MAP PROJECTED REFDR V3.0"
DETECTOR_ID = MEX_HRSC_SRC
EVENT_TYPE = "MARS-REGIONAL-MAPPING-Vo-Fl"
INSTRUMENT_HOST_ID = MEX
INSTRUMENT_HOST_NAME = "MARS EXPRESS"
INSTRUMENT_ID = HRSC
INSTRUMENT_NAME = "HIGH RESOLUTION STEREO CAMERA"
MISSION_NAME = "MARS EXPRESS"
MISSION_PHASE_NAME = MR_Phase_4
PROCESSING_LEVEL_ID = 3
PRODUCT_CREATION_TIME = 2016-03-05T01:52:25.000Z
PRODUCT_ID = "H1362_0008_SR3.JP2"
RELEASE_ID = 0018
REVISION_ID = 0000
/* QUALITY DATA ELEMENTS */
DATA_QUALITY_ID = 1
DATA_QUALITY_DESC = "Data calculated based on original SPICE kernels"
/* TIME DATA ELEMENTS */
SPACECRAFT_CLOCK_START_COUNT = "1/0055911424.57961"
SPACECRAFT_CLOCK_STOP_COUNT = "1/0055912049.25790"
IMAGE_TIME = 2005-02-08T03:01:18.590Z
START_TIME = 2005-02-08T03:01:18.588Z
STOP_TIME = 2005-02-08T03:01:18.593Z
/* ORBITAL DATA ELEMENTS */
ASCENDING_NODE_LONGITUDE = 200.0
MAXIMUM_RESOLUTION = 6.039
FOOTPRINT_POINT_LATITUDE = (18.4214,18.4172,18.4138,18.4091, 18.4061,18.403,18.3977,18.3924,18.3881, 18.3836,18.3806,18.3774,18.3733,18.3678 ,18.3645,18.3615,18.3568,18.3538, 18.3511,18.3461,18.343,18.3383,18.3347, 18.332,18.3288,18.3242,18.32,18.32, 18.32,18.3201,18.3201,18.3202,18.3202, 18.3203,18.3203,18.3204,18.3204,18.3205 ,18.3205,18.3206,18.3206,18.3206, 18.3207,18.3207,18.3208,18.3208,18.3209 ,18.3209,18.321,18.321,18.3211,18.3211, 18.3243,18.3286,18.3331,18.3361,18.3404 ,18.3439,18.3491,18.3523,18.3564, 18.3623,18.3669,18.3737,18.3798,18.3856 ,18.3893,18.3925,18.3953,18.3996, 18.4048,18.4107,18.4141,18.4186,18.4237 ,18.4237,18.4237,18.4236,18.4236, 18.4235,18.4235,18.4234,18.4234,18.4234 ,18.4233,18.4233,18.4232,18.4232, 18.4231,18.4231,18.4231,18.423,18.423, 18.4229,18.4229,18.4228,18.4228,18.4228 ,18.4227,18.4214)
FOOTPRINT_POINT_LONGITUDE = (40.4538,40.4537,40.4537,40.4536, 40.4536,40.4535,40.4535,40.4534,40.4534 ,40.4533,40.4533,40.4532,40.4532, 40.4531,40.4531,40.4531,40.453,40.453, 40.4529,40.4529,40.4528,40.4528,40.4527 ,40.4527,40.4527,40.4526,40.4514, 40.4471,40.4428,40.4385,40.4341,40.4298 ,40.4255,40.4212,40.4169,40.4126, 40.4083,40.404,40.3997,40.3954,40.3911, 40.3868,40.3824,40.3781,40.3738,40.3695 ,40.3652,40.3609,40.3566,40.3523,40.348 ,40.3437,40.3434,40.3435,40.3435, 40.3435,40.3436,40.3436,40.3437,40.3437 ,40.3438,40.3438,40.3439,40.3439,40.344 ,40.3441,40.3441,40.3442,40.3442, 40.3442,40.3443,40.3444,40.3444,40.3444 ,40.3457,40.35,40.3543,40.3586,40.3629, 40.3672,40.3715,40.3758,40.3802,40.3845 ,40.3888,40.3931,40.3974,40.4017,40.406 ,40.4103,40.4146,40.4189,40.4233, 40.4276,40.4319,40.4362,40.4405,40.4448 ,40.4491,40.4538)
ORBIT_NUMBER = 1362
ORBITAL_ECCENTRICITY = 0.568
ORBITAL_INCLINATION = 86.6
ORBITAL_SEMIMAJOR_AXIS = 8559.38
PERIAPSIS_ALTITUDE = 318.11
PERIAPSIS_ARGUMENT_ANGLE = 120.99
PERIAPSIS_TIME = 2005-02-08T02:50:24.000Z
SPACECRAFT_ORIENTATION = (0.0,1.0,0.0)
^MEX_ORIENTATION_DESC = "MEX_ORIENTATION_DESC.TXT"
SPACECRAFT_POINTING_MODE = ACROSSTRACK
^MEX_POINTING_DESC = "MEX_POINTING_DESC.TXT"
RIGHT_ASCENSION = -1e+32
DECLINATION = -1e+32
OFFSET_ANGLE = 0.67
SPACECRAFT_SOLAR_DISTANCE = 2.27548e+08
TARGET_NAME = MARS
/* CAMERA DATA ELEMENTS */
BUFFER_MODE_ID = BUFFER_8
EXPOSURE_DURATION = 5.04
INST_CMPRS_NAME = NONE
INST_CMPRS_RATIO = 1.0
INST_CMPRS_QUALITY = -2147483648
INST_CMPRS_QUANTZ_TBL_ID = -2147483648
INSTRUMENT_TEMPERATURE = 11.2121
MISSING_FRAMES = 0
START_BIT = 0
/* RADIOMETRIC DATA ELEMENTS */
BANDWIDTH = 250.0
CENTER_FILTER_WAVELENGTH = 600.0
RADIANCE_OFFSET = -9.99e+31
RADIANCE_SCALING_FACTOR = -9.99e+31
REFLECTANCE_SCALING_FACTOR = -9.99e+31
MEX:REFLECTANCE_OFFSET = -9.99e+31
/* IMAGE OBJECT DEFINITIONS */
OBJECT = IMAGE
  INTERCHANGE_FORMAT = BINARY
  LINES = 1275
  LINE_SAMPLES = 1284
  SAMPLE_TYPE = UNSIGNED_INTEGER
  SAMPLE_BITS = 8
  BANDS = 1
  BAND_STORAGE_TYPE = BAND_SEQUENTIAL
  MAXIMUM = 10587
  MEAN = 10037.9
  MINIMUM = 8500
  STANDARD_DEVIATION = 130.846
END_OBJECT = IMAGE
/* MAP OBJECT DEFINITIONS */
OBJECT = IMAGE_MAP_PROJECTION
  ^DATA_SET_MAP_PROJECTION_CATALOG= "DSMAP.CAT"
  A_AXIS_RADIUS = 3396.19
  B_AXIS_RADIUS = 3396.19
  C_AXIS_RADIUS = 3396.19
  CENTER_LATITUDE = 0.0
  CENTER_LONGITUDE = 40.0
  COORDINATE_SYSTEM_NAME = PLANETOGRAPHIC
  COORDINATE_SYSTEM_TYPE = "BODY-FIXED ROTATING"
  EASTERNMOST_LONGITUDE = 40.4538
  FIRST_STANDARD_PARALLEL = "N/A"
  LINE_FIRST_PIXEL = 1
  LINE_LAST_PIXEL = 1275
  LINE_PROJECTION_OFFSET = 218390.0
  MAP_PROJECTION_ROTATION = 0.0
  MAP_PROJECTION_TYPE = SINUSOIDAL
  MAP_RESOLUTION = 11854.9393024378
  MAP_SCALE = 0.005
  MAXIMUM_LATITUDE = 18.4237
  MINIMUM_LATITUDE = 18.32
  POSITIVE_LONGITUDE_DIRECTION = EAST
  REFERENCE_LATITUDE = "N/A"
  REFERENCE_LONGITUDE = "N/A"
  SAMPLE_FIRST_PIXEL = 1
  SAMPLE_LAST_PIXEL = 1284
  SAMPLE_PROJECTION_OFFSET = -3866.0
  SECOND_STANDARD_PARALLEL = "N/A"
  WESTERNMOST_LONGITUDE = 40.3434
END_OBJECT = IMAGE_MAP_PROJECTION
/* The JPEG2000 image data file associated with this label. */
OBJECT = COMPRESSED_FILE
  FILE_NAME = "H1362_0008_SR3.JP2"
  RECORD_TYPE = UNDEFINED
  FILE_RECORDS = UNK
  ENCODING_TYPE = "JP2"
  INTERCHANGE_FORMAT = BINARY
  UNCOMPRESSED_FILE_NAME = "H1362_0008_SR3.IMG"
  REQUIRED_STORAGE_BYTES = "1656360"
  ^DESCRIPTION = "JP2INFO.TXT"
END_OBJECT = COMPRESSED_FILE
END
