PDS_VERSION_ID = PDS3
/* FILE DATA ELEMENTS */
RECORD_TYPE = STREAM
/* POINTERS TO DATA OBJECTS */
^COMPRESSED_FILE = "H1366_0001_SR3.JP2"
/* IDENTIFICATION DATA ELEMENTS */
DATA_SET_ID = "MEX-M-HRSC-5-REFDR-MAPPROJECTED-V3.0"
DATA_SET_NAME = "MARS EXPRESS HRSC MAP PROJECTED REFDR V3.0"
DETECTOR_ID = MEX_HRSC_SRC
EVENT_TYPE = "MARS-LOCAL-MAPPING-Im-Ot"
INSTRUMENT_HOST_ID = MEX
INSTRUMENT_HOST_NAME = "MARS EXPRESS"
INSTRUMENT_ID = HRSC
INSTRUMENT_NAME = "HIGH RESOLUTION STEREO CAMERA"
MISSION_NAME = "MARS EXPRESS"
MISSION_PHASE_NAME = MR_Phase_4
PROCESSING_LEVEL_ID = 3
PRODUCT_CREATION_TIME = 2016-03-05T01:52:25.000Z
PRODUCT_ID = "H1366_0001_SR3.JP2"
RELEASE_ID = 0018
REVISION_ID = 0000
/* QUALITY DATA ELEMENTS */
DATA_QUALITY_ID = 1
DATA_QUALITY_DESC = "Data calculated based on original SPICE kernels"
/* TIME DATA ELEMENTS */
SPACECRAFT_CLOCK_START_COUNT = "1/0056008221.57326"
SPACECRAFT_CLOCK_STOP_COUNT = "1/0056008954.30998"
IMAGE_TIME = 2005-02-09T05:51:30.299Z
START_TIME = 2005-02-09T05:51:30.041Z
STOP_TIME = 2005-02-09T05:51:30.557Z
/* ORBITAL DATA ELEMENTS */
ASCENDING_NODE_LONGITUDE = 199.92
MAXIMUM_RESOLUTION = 4.512
FOOTPRINT_POINT_LATITUDE = (30.2293,30.2329,30.2361,30.2406, 30.2435,30.2483,30.2544,30.2573,30.2617 ,30.2644,30.2688,30.2715,30.2744, 30.2767,30.2797,30.2818,30.2842,30.2868 ,30.2896,30.2926,30.2951,30.2981, 30.3014,30.3035,30.3044,30.3045,30.3045 ,30.3045,30.3046,30.3046,30.3047, 30.3047,30.3047,30.3048,30.3048,30.3049 ,30.3049,30.3049,30.305,30.305,30.3051, 30.3051,30.3051,30.3052,30.3052,30.3053 ,30.3053,30.3053,30.3054,30.3022, 30.2999,30.297,30.2928,30.2899,30.2864, 30.2834,30.2805,30.2785,30.2743,30.2705 ,30.268,30.265,30.2628,30.2593,30.2566, 30.2524,30.249,30.247,30.2435,30.2414, 30.2386,30.236,30.2338,30.2306,30.2285, 30.2285,30.2285,30.2284,30.2284,30.2283 ,30.2283,30.2283,30.2282,30.2282, 30.2281,30.2281,30.2281,30.228,30.228, 30.2279,30.2279,30.2279,30.2278,30.2278 ,30.2277,30.2277,30.2276,30.2276, 30.2275,30.2293)
FOOTPRINT_POINT_LONGITUDE = (6.06354,6.06348,6.06343,6.06335, 6.06331,6.06323,6.06313,6.06309,6.06302 ,6.06297,6.0629,6.06286,6.06281,6.06249 ,6.06244,6.06241,6.06237,6.06233, 6.06228,6.06223,6.06219,6.06215,6.06209 ,6.06206,6.06656,6.0701,6.07363,6.0773, 6.08083,6.08437,6.08791,6.09145,6.09498 ,6.09852,6.10206,6.10559,6.10913, 6.11267,6.1162,6.11974,6.12328,6.12681, 6.13035,6.13389,6.13742,6.14096,6.14449 ,6.14803,6.15157,6.15214,6.15218, 6.15222,6.15229,6.15233,6.15238,6.15243 ,6.15247,6.1525,6.15249,6.15254,6.15258 ,6.15263,6.15266,6.15271,6.15275, 6.15282,6.15287,6.1529,6.15295,6.15298, 6.15303,6.15306,6.1531,6.15315,6.15044, 6.1469,6.14337,6.13983,6.1363,6.13277, 6.12923,6.1257,6.12216,6.11863,6.11509, 6.11156,6.10802,6.10449,6.10095,6.09742 ,6.09388,6.09035,6.08681,6.08327, 6.07974,6.0762,6.07204,6.06851,6.06498, 6.06354)
ORBIT_NUMBER = 1366
ORBITAL_ECCENTRICITY = 0.568
ORBITAL_INCLINATION = 86.6
ORBITAL_SEMIMAJOR_AXIS = 8556.01
PERIAPSIS_ALTITUDE = 318.83
PERIAPSIS_ARGUMENT_ANGLE = 120.24
PERIAPSIS_TIME = 2005-02-09T05:43:49.000Z
SPACECRAFT_ORIENTATION = (0.0,-1.0,0.0)
^MEX_ORIENTATION_DESC = "MEX_ORIENTATION_DESC.TXT"
SPACECRAFT_POINTING_MODE = ACROSSTRACK
^MEX_POINTING_DESC = "MEX_POINTING_DESC.TXT"
RIGHT_ASCENSION = -1e+32
DECLINATION = -1e+32
OFFSET_ANGLE = -0.25
SPACECRAFT_SOLAR_DISTANCE = 2.27329e+08
TARGET_NAME = MARS
/* CAMERA DATA ELEMENTS */
BUFFER_MODE_ID = BUFFER_8
EXPOSURE_DURATION = 516.096
INST_CMPRS_NAME = NONE
INST_CMPRS_RATIO = 1.0
INST_CMPRS_QUALITY = -2147483648
INST_CMPRS_QUANTZ_TBL_ID = -2147483648
INSTRUMENT_TEMPERATURE = 5.15152
MISSING_FRAMES = 0
START_BIT = 0
/* RADIOMETRIC DATA ELEMENTS */
BANDWIDTH = 250.0
CENTER_FILTER_WAVELENGTH = 600.0
RADIANCE_OFFSET = -9.99e+31
RADIANCE_SCALING_FACTOR = -9.99e+31
REFLECTANCE_SCALING_FACTOR = -9.99e+31
MEX:REFLECTANCE_OFFSET = -9.99e+31
/* IMAGE OBJECT DEFINITIONS */
OBJECT = IMAGE
  INTERCHANGE_FORMAT = BINARY
  LINES = 973
  LINE_SAMPLES = 983
  SAMPLE_TYPE = UNSIGNED_INTEGER
  SAMPLE_BITS = 8
  BANDS = 1
  BAND_STORAGE_TYPE = BAND_SEQUENTIAL
  MAXIMUM = 5605
  MEAN = 870.667
  MINIMUM = 0
  STANDARD_DEVIATION = 1949.61
END_OBJECT = IMAGE
/* MAP OBJECT DEFINITIONS */
OBJECT = IMAGE_MAP_PROJECTION
  ^DATA_SET_MAP_PROJECTION_CATALOG= "DSMAP.CAT"
  A_AXIS_RADIUS = 3396.19
  B_AXIS_RADIUS = 3396.19
  C_AXIS_RADIUS = 3396.19
  CENTER_LATITUDE = 0.0
  CENTER_LONGITUDE = 6.0
  COORDINATE_SYSTEM_NAME = PLANETOGRAPHIC
  COORDINATE_SYSTEM_TYPE = "BODY-FIXED ROTATING"
  EASTERNMOST_LONGITUDE = 6.15315
  FIRST_STANDARD_PARALLEL = "N/A"
  LINE_FIRST_PIXEL = 1
  LINE_LAST_PIXEL = 973
  LINE_PROJECTION_OFFSET = 359107.0
  MAP_PROJECTION_ROTATION = 0.0
  MAP_PROJECTION_TYPE = SINUSOIDAL
  MAP_RESOLUTION = 11854.9393024378
  MAP_SCALE = 0.005
  MAXIMUM_LATITUDE = 30.3054
  MINIMUM_LATITUDE = 30.2275
  POSITIVE_LONGITUDE_DIRECTION = EAST
  REFERENCE_LATITUDE = "N/A"
  REFERENCE_LONGITUDE = "N/A"
  SAMPLE_FIRST_PIXEL = 1
  SAMPLE_LAST_PIXEL = 983
  SAMPLE_PROJECTION_OFFSET = -577.0
  SECOND_STANDARD_PARALLEL = "N/A"
  WESTERNMOST_LONGITUDE = 6.06206
END_OBJECT = IMAGE_MAP_PROJECTION
/* The JPEG2000 image data file associated with this label. */
OBJECT = COMPRESSED_FILE
  FILE_NAME = "H1366_0001_SR3.JP2"
  RECORD_TYPE = UNDEFINED
  FILE_RECORDS = UNK
  ENCODING_TYPE = "JP2"
  INTERCHANGE_FORMAT = BINARY
  UNCOMPRESSED_FILE_NAME = "H1366_0001_SR3.IMG"
  REQUIRED_STORAGE_BYTES = "975136"
  ^DESCRIPTION = "JP2INFO.TXT"
END_OBJECT = COMPRESSED_FILE
END
