PDS_VERSION_ID = PDS3
/* FILE DATA ELEMENTS */
RECORD_TYPE = STREAM
/* POINTERS TO DATA OBJECTS */
^COMPRESSED_FILE = "H1366_0003_SR3.JP2"
/* IDENTIFICATION DATA ELEMENTS */
DATA_SET_ID = "MEX-M-HRSC-5-REFDR-MAPPROJECTED-V3.0"
DATA_SET_NAME = "MARS EXPRESS HRSC MAP PROJECTED REFDR V3.0"
DETECTOR_ID = MEX_HRSC_SRC
EVENT_TYPE = "MARS-LOCAL-MAPPING-Im-Ot"
INSTRUMENT_HOST_ID = MEX
INSTRUMENT_HOST_NAME = "MARS EXPRESS"
INSTRUMENT_ID = HRSC
INSTRUMENT_NAME = "HIGH RESOLUTION STEREO CAMERA"
MISSION_NAME = "MARS EXPRESS"
MISSION_PHASE_NAME = MR_Phase_4
PROCESSING_LEVEL_ID = 3
PRODUCT_CREATION_TIME = 2016-03-05T01:52:25.000Z
PRODUCT_ID = "H1366_0003_SR3.JP2"
RELEASE_ID = 0018
REVISION_ID = 0000
/* QUALITY DATA ELEMENTS */
DATA_QUALITY_ID = 1
DATA_QUALITY_DESC = "Data calculated based on original SPICE kernels"
/* TIME DATA ELEMENTS */
SPACECRAFT_CLOCK_START_COUNT = "1/0056008221.57326"
SPACECRAFT_CLOCK_STOP_COUNT = "1/0056008954.30998"
IMAGE_TIME = 2005-02-09T05:51:32.479Z
START_TIME = 2005-02-09T05:51:32.477Z
STOP_TIME = 2005-02-09T05:51:32.482Z
/* ORBITAL DATA ELEMENTS */
ASCENDING_NODE_LONGITUDE = 199.92
MAXIMUM_RESOLUTION = 4.527
FOOTPRINT_POINT_LATITUDE = (30.1015,30.1044,30.1083,30.1119, 30.1158,30.1182,30.1216,30.1248,30.1294 ,30.1321,30.1346,30.1371,30.1406, 30.1448,30.1478,30.15,30.1524,30.1556, 30.1582,30.1618,30.1641,30.1663,30.1703 ,30.1734,30.1743,30.1743,30.1744, 30.1745,30.1745,30.1745,30.1746,30.1746 ,30.1747,30.1747,30.1747,30.1748, 30.1748,30.1749,30.1749,30.1749,30.175, 30.175,30.1751,30.1751,30.1751,30.1752, 30.1752,30.1753,30.1753,30.1734,30.1713 ,30.1687,30.1667,30.1639,30.1605, 30.1584,30.1556,30.1514,30.1484,30.1431 ,30.1391,30.1364,30.1329,30.1304, 30.1272,30.1244,30.1223,30.1187,30.114, 30.111,30.1075,30.1051,30.1014,30.0982, 30.0982,30.0981,30.0981,30.0981,30.098, 30.098,30.0979,30.0979,30.0979,30.0978, 30.0978,30.0977,30.0977,30.0977,30.0976 ,30.0976,30.0975,30.0975,30.0974, 30.0974,30.0974,30.0973,30.0973,30.0972 ,30.0972,30.1015)
FOOTPRINT_POINT_LONGITUDE = (6.06534,6.0653,6.06524,6.06518,6.06512 ,6.06508,6.06503,6.06498,6.06491, 6.06486,6.06482,6.06478,6.06473,6.06466 ,6.06462,6.06458,6.06454,6.06449, 6.06445,6.0644,6.06436,6.06432,6.06426, 6.06421,6.06872,6.07226,6.07466,6.0782, 6.08175,6.0853,6.08884,6.09239,6.09593, 6.09948,6.10302,6.10657,6.11011,6.11366 ,6.1172,6.12075,6.12429,6.12784,6.13138 ,6.13493,6.13847,6.14202,6.14556, 6.14911,6.15265,6.1541,6.15413,6.15416, 6.15419,6.15424,6.15429,6.15432,6.15436 ,6.15442,6.15447,6.15454,6.1546,6.15464 ,6.1547,6.15473,6.15478,6.15482,6.15485 ,6.1549,6.15497,6.15502,6.15507,6.15511 ,6.15516,6.15512,6.15158,6.14804,6.1445 ,6.14095,6.13741,6.13387,6.13033, 6.12679,6.12325,6.1197,6.11616,6.11262, 6.10908,6.10553,6.10199,6.09845,6.09491 ,6.09136,6.08782,6.08428,6.08074, 6.07719,6.07302,6.06948,6.06594, 6.06534)
ORBIT_NUMBER = 1366
ORBITAL_ECCENTRICITY = 0.568
ORBITAL_INCLINATION = 86.6
ORBITAL_SEMIMAJOR_AXIS = 8556.01
PERIAPSIS_ALTITUDE = 318.83
PERIAPSIS_ARGUMENT_ANGLE = 120.24
PERIAPSIS_TIME = 2005-02-09T05:43:49.000Z
SPACECRAFT_ORIENTATION = (0.0,-1.0,0.0)
^MEX_ORIENTATION_DESC = "MEX_ORIENTATION_DESC.TXT"
SPACECRAFT_POINTING_MODE = ACROSSTRACK
^MEX_POINTING_DESC = "MEX_POINTING_DESC.TXT"
RIGHT_ASCENSION = -1e+32
DECLINATION = -1e+32
OFFSET_ANGLE = -0.25
SPACECRAFT_SOLAR_DISTANCE = 2.27329e+08
TARGET_NAME = MARS
/* CAMERA DATA ELEMENTS */
BUFFER_MODE_ID = BUFFER_8
EXPOSURE_DURATION = 5.04
INST_CMPRS_NAME = NONE
INST_CMPRS_RATIO = 1.0
INST_CMPRS_QUALITY = -2147483648
INST_CMPRS_QUANTZ_TBL_ID = -2147483648
INSTRUMENT_TEMPERATURE = 5.15152
MISSING_FRAMES = 0
START_BIT = 0
/* RADIOMETRIC DATA ELEMENTS */
BANDWIDTH = 250.0
CENTER_FILTER_WAVELENGTH = 600.0
RADIANCE_OFFSET = -9.99e+31
RADIANCE_SCALING_FACTOR = -9.99e+31
REFLECTANCE_SCALING_FACTOR = -9.99e+31
MEX:REFLECTANCE_OFFSET = -9.99e+31
/* IMAGE OBJECT DEFINITIONS */
OBJECT = IMAGE
  INTERCHANGE_FORMAT = BINARY
  LINES = 976
  LINE_SAMPLES = 987
  SAMPLE_TYPE = UNSIGNED_INTEGER
  SAMPLE_BITS = 8
  BANDS = 1
  BAND_STORAGE_TYPE = BAND_SEQUENTIAL
  MAXIMUM = 9561
  MEAN = 8841.84
  MINIMUM = 7695
  STANDARD_DEVIATION = 159.678
END_OBJECT = IMAGE
/* MAP OBJECT DEFINITIONS */
OBJECT = IMAGE_MAP_PROJECTION
  ^DATA_SET_MAP_PROJECTION_CATALOG= "DSMAP.CAT"
  A_AXIS_RADIUS = 3396.19
  B_AXIS_RADIUS = 3396.19
  C_AXIS_RADIUS = 3396.19
  CENTER_LATITUDE = 0.0
  CENTER_LONGITUDE = 6.0
  COORDINATE_SYSTEM_NAME = PLANETOGRAPHIC
  COORDINATE_SYSTEM_TYPE = "BODY-FIXED ROTATING"
  EASTERNMOST_LONGITUDE = 6.15516
  FIRST_STANDARD_PARALLEL = "N/A"
  LINE_FIRST_PIXEL = 1
  LINE_LAST_PIXEL = 976
  LINE_PROJECTION_OFFSET = 357567.0
  MAP_PROJECTION_ROTATION = 0.0
  MAP_PROJECTION_TYPE = SINUSOIDAL
  MAP_RESOLUTION = 11854.9393024378
  MAP_SCALE = 0.005
  MAXIMUM_LATITUDE = 30.1753
  MINIMUM_LATITUDE = 30.0972
  POSITIVE_LONGITUDE_DIRECTION = EAST
  REFERENCE_LATITUDE = "N/A"
  REFERENCE_LONGITUDE = "N/A"
  SAMPLE_FIRST_PIXEL = 1
  SAMPLE_LAST_PIXEL = 987
  SAMPLE_PROJECTION_OFFSET = -596.0
  SECOND_STANDARD_PARALLEL = "N/A"
  WESTERNMOST_LONGITUDE = 6.06421
END_OBJECT = IMAGE_MAP_PROJECTION
/* The JPEG2000 image data file associated with this label. */
OBJECT = COMPRESSED_FILE
  FILE_NAME = "H1366_0003_SR3.JP2"
  RECORD_TYPE = UNDEFINED
  FILE_RECORDS = UNK
  ENCODING_TYPE = "JP2"
  INTERCHANGE_FORMAT = BINARY
  UNCOMPRESSED_FILE_NAME = "H1366_0003_SR3.IMG"
  REQUIRED_STORAGE_BYTES = "982065"
  ^DESCRIPTION = "JP2INFO.TXT"
END_OBJECT = COMPRESSED_FILE
END
