PDS_VERSION_ID = PDS3
/* FILE DATA ELEMENTS */
RECORD_TYPE = STREAM
/* POINTERS TO DATA OBJECTS */
^COMPRESSED_FILE = "H1366_0004_SR3.JP2"
/* IDENTIFICATION DATA ELEMENTS */
DATA_SET_ID = "MEX-M-HRSC-5-REFDR-MAPPROJECTED-V3.0"
DATA_SET_NAME = "MARS EXPRESS HRSC MAP PROJECTED REFDR V3.0"
DETECTOR_ID = MEX_HRSC_SRC
EVENT_TYPE = "MARS-LOCAL-MAPPING-Im-Ot"
INSTRUMENT_HOST_ID = MEX
INSTRUMENT_HOST_NAME = "MARS EXPRESS"
INSTRUMENT_ID = HRSC
INSTRUMENT_NAME = "HIGH RESOLUTION STEREO CAMERA"
MISSION_NAME = "MARS EXPRESS"
MISSION_PHASE_NAME = MR_Phase_4
PROCESSING_LEVEL_ID = 3
PRODUCT_CREATION_TIME = 2016-03-05T01:52:25.000Z
PRODUCT_ID = "H1366_0004_SR3.JP2"
RELEASE_ID = 0018
REVISION_ID = 0000
/* QUALITY DATA ELEMENTS */
DATA_QUALITY_ID = 1
DATA_QUALITY_DESC = "Data calculated based on original SPICE kernels"
/* TIME DATA ELEMENTS */
SPACECRAFT_CLOCK_START_COUNT = "1/0056008221.57326"
SPACECRAFT_CLOCK_STOP_COUNT = "1/0056008954.30998"
IMAGE_TIME = 2005-02-09T05:51:33.569Z
START_TIME = 2005-02-09T05:51:33.567Z
STOP_TIME = 2005-02-09T05:51:33.572Z
/* ORBITAL DATA ELEMENTS */
ASCENDING_NODE_LONGITUDE = 199.92
MAXIMUM_RESOLUTION = 4.534
FOOTPRINT_POINT_LATITUDE = (30.0351,30.0378,30.04,30.0434,30.0469, 30.0494,30.0533,30.0556,30.0586,30.0607 ,30.0633,30.067,30.0698,30.0735,30.076, 30.0794,30.0821,30.0865,30.0886,30.0908 ,30.0934,30.0977,30.1019,30.1043, 30.1079,30.1093,30.1093,30.1094,30.1095 ,30.1095,30.1096,30.1096,30.1096, 30.1097,30.1097,30.1098,30.1098,30.1098 ,30.1099,30.1099,30.1099,30.11,30.11, 30.1101,30.1101,30.1101,30.1102,30.1102 ,30.1103,30.1103,30.1079,30.1042, 30.1019,30.0983,30.0957,30.0919,30.0891 ,30.0862,30.0819,30.0784,30.076,30.0739 ,30.0707,30.0672,30.0644,30.0599,30.057 ,30.0549,30.0526,30.0486,30.0457, 30.0432,30.0392,30.0344,30.0331,30.033, 30.033,30.0329,30.0329,30.0329,30.0328, 30.0328,30.0327,30.0327,30.0327,30.0326 ,30.0326,30.0325,30.0325,30.0325, 30.0324,30.0324,30.0323,30.0323,30.0323 ,30.0322,30.0322,30.0321,30.0321, 30.0351)
FOOTPRINT_POINT_LONGITUDE = (6.06627,6.06623,6.0662,6.06614,6.06609 ,6.06605,6.06599,6.06595,6.06591, 6.06587,6.06583,6.06578,6.06573,6.06567 ,6.06564,6.06558,6.06554,6.06547, 6.06544,6.06541,6.06536,6.0653,6.06523, 6.06519,6.06514,6.06875,6.0723,6.07648, 6.08002,6.08357,6.08712,6.09067,6.09422 ,6.09777,6.10132,6.10487,6.10842, 6.11197,6.11552,6.11906,6.12261,6.12616 ,6.12971,6.13326,6.13681,6.14035,6.1439 ,6.14745,6.151,6.15455,6.15511,6.15517, 6.1552,6.15525,6.15529,6.15535,6.15539, 6.15543,6.1555,6.15555,6.15558,6.15561, 6.15566,6.15571,6.15575,6.15582,6.15586 ,6.15589,6.15592,6.15598,6.15603, 6.15606,6.15612,6.15619,6.15435,6.1508, 6.14726,6.14371,6.14017,6.13662,6.13308 ,6.12953,6.12599,6.12244,6.1189,6.11535 ,6.1118,6.10826,6.10471,6.10117,6.09762 ,6.09407,6.09053,6.08698,6.08343, 6.07989,6.07634,6.07128,6.06774, 6.06627)
ORBIT_NUMBER = 1366
ORBITAL_ECCENTRICITY = 0.568
ORBITAL_INCLINATION = 86.6
ORBITAL_SEMIMAJOR_AXIS = 8556.01
PERIAPSIS_ALTITUDE = 318.83
PERIAPSIS_ARGUMENT_ANGLE = 120.24
PERIAPSIS_TIME = 2005-02-09T05:43:49.000Z
SPACECRAFT_ORIENTATION = (0.0,-1.0,0.0)
^MEX_ORIENTATION_DESC = "MEX_ORIENTATION_DESC.TXT"
SPACECRAFT_POINTING_MODE = ACROSSTRACK
^MEX_POINTING_DESC = "MEX_POINTING_DESC.TXT"
RIGHT_ASCENSION = -1e+32
DECLINATION = -1e+32
OFFSET_ANGLE = -0.25
SPACECRAFT_SOLAR_DISTANCE = 2.27329e+08
TARGET_NAME = MARS
/* CAMERA DATA ELEMENTS */
BUFFER_MODE_ID = BUFFER_8
EXPOSURE_DURATION = 5.04
INST_CMPRS_NAME = NONE
INST_CMPRS_RATIO = 1.0
INST_CMPRS_QUALITY = -2147483648
INST_CMPRS_QUANTZ_TBL_ID = -2147483648
INSTRUMENT_TEMPERATURE = 5.15152
MISSING_FRAMES = 0
START_BIT = 0
/* RADIOMETRIC DATA ELEMENTS */
BANDWIDTH = 250.0
CENTER_FILTER_WAVELENGTH = 600.0
RADIANCE_OFFSET = -9.99e+31
RADIANCE_SCALING_FACTOR = -9.99e+31
REFLECTANCE_SCALING_FACTOR = -9.99e+31
MEX:REFLECTANCE_OFFSET = -9.99e+31
/* IMAGE OBJECT DEFINITIONS */
OBJECT = IMAGE
  INTERCHANGE_FORMAT = BINARY
  LINES = 977
  LINE_SAMPLES = 988
  SAMPLE_TYPE = UNSIGNED_INTEGER
  SAMPLE_BITS = 8
  BANDS = 1
  BAND_STORAGE_TYPE = BAND_SEQUENTIAL
  MAXIMUM = 9405
  MEAN = 8640.72
  MINIMUM = 7390
  STANDARD_DEVIATION = 133.334
END_OBJECT = IMAGE
/* MAP OBJECT DEFINITIONS */
OBJECT = IMAGE_MAP_PROJECTION
  ^DATA_SET_MAP_PROJECTION_CATALOG= "DSMAP.CAT"
  A_AXIS_RADIUS = 3396.19
  B_AXIS_RADIUS = 3396.19
  C_AXIS_RADIUS = 3396.19
  CENTER_LATITUDE = 0.0
  CENTER_LONGITUDE = 6.0
  COORDINATE_SYSTEM_NAME = PLANETOGRAPHIC
  COORDINATE_SYSTEM_TYPE = "BODY-FIXED ROTATING"
  EASTERNMOST_LONGITUDE = 6.15619
  FIRST_STANDARD_PARALLEL = "N/A"
  LINE_FIRST_PIXEL = 1
  LINE_LAST_PIXEL = 977
  LINE_PROJECTION_OFFSET = 356797.0
  MAP_PROJECTION_ROTATION = 0.0
  MAP_PROJECTION_TYPE = SINUSOIDAL
  MAP_RESOLUTION = 11854.9393024378
  MAP_SCALE = 0.005
  MAXIMUM_LATITUDE = 30.1103
  MINIMUM_LATITUDE = 30.0321
  POSITIVE_LONGITUDE_DIRECTION = EAST
  REFERENCE_LATITUDE = "N/A"
  REFERENCE_LONGITUDE = "N/A"
  SAMPLE_FIRST_PIXEL = 1
  SAMPLE_LAST_PIXEL = 988
  SAMPLE_PROJECTION_OFFSET = -606.0
  SECOND_STANDARD_PARALLEL = "N/A"
  WESTERNMOST_LONGITUDE = 6.06514
END_OBJECT = IMAGE_MAP_PROJECTION
/* The JPEG2000 image data file associated with this label. */
OBJECT = COMPRESSED_FILE
  FILE_NAME = "H1366_0004_SR3.JP2"
  RECORD_TYPE = UNDEFINED
  FILE_RECORDS = UNK
  ENCODING_TYPE = "JP2"
  INTERCHANGE_FORMAT = BINARY
  UNCOMPRESSED_FILE_NAME = "H1366_0004_SR3.IMG"
  REQUIRED_STORAGE_BYTES = "984048"
  ^DESCRIPTION = "JP2INFO.TXT"
END_OBJECT = COMPRESSED_FILE
END
