PDS_VERSION_ID = PDS3
/* FILE DATA ELEMENTS */
RECORD_TYPE = STREAM
/* POINTERS TO DATA OBJECTS */
^COMPRESSED_FILE = "H1366_0007_SR3.JP2"
/* IDENTIFICATION DATA ELEMENTS */
DATA_SET_ID = "MEX-M-HRSC-5-REFDR-MAPPROJECTED-V3.0"
DATA_SET_NAME = "MARS EXPRESS HRSC MAP PROJECTED REFDR V3.0"
DETECTOR_ID = MEX_HRSC_SRC
EVENT_TYPE = "MARS-LOCAL-MAPPING-Im-Ot"
INSTRUMENT_HOST_ID = MEX
INSTRUMENT_HOST_NAME = "MARS EXPRESS"
INSTRUMENT_ID = HRSC
INSTRUMENT_NAME = "HIGH RESOLUTION STEREO CAMERA"
MISSION_NAME = "MARS EXPRESS"
MISSION_PHASE_NAME = MR_Phase_4
PROCESSING_LEVEL_ID = 3
PRODUCT_CREATION_TIME = 2016-03-05T01:52:25.000Z
PRODUCT_ID = "H1366_0007_SR3.JP2"
RELEASE_ID = 0018
REVISION_ID = 0000
/* QUALITY DATA ELEMENTS */
DATA_QUALITY_ID = 1
DATA_QUALITY_DESC = "Data calculated based on original SPICE kernels"
/* TIME DATA ELEMENTS */
SPACECRAFT_CLOCK_START_COUNT = "1/0056008221.57326"
SPACECRAFT_CLOCK_STOP_COUNT = "1/0056008954.30998"
IMAGE_TIME = 2005-02-09T05:51:36.840Z
START_TIME = 2005-02-09T05:51:36.837Z
STOP_TIME = 2005-02-09T05:51:36.842Z
/* ORBITAL DATA ELEMENTS */
ASCENDING_NODE_LONGITUDE = 199.92
MAXIMUM_RESOLUTION = 4.559
FOOTPRINT_POINT_LATITUDE = (29.8377,29.8401,29.8424,29.8458, 29.8483,29.8506,29.8534,29.8571,29.8606 ,29.8643,29.8684,29.8715,29.8758, 29.8788,29.8832,29.8875,29.8899,29.8923 ,29.8954,29.8977,29.9002,29.9023, 29.9065,29.9111,29.9144,29.9147,29.9147 ,29.9147,29.9148,29.9148,29.9149, 29.9149,29.9149,29.915,29.915,29.9151, 29.9151,29.9151,29.9152,29.9152,29.9153 ,29.9153,29.9153,29.9154,29.9154, 29.9154,29.9155,29.9155,29.9156,29.9132 ,29.9103,29.9075,29.9048,29.9027,29.899 ,29.8944,29.8916,29.8895,29.8864, 29.8824,29.8799,29.8776,29.8738,29.8695 ,29.8662,29.8621,29.8591,29.8562,29.854 ,29.8508,29.8484,29.8459,29.8437, 29.8409,29.8378,29.8377,29.8377,29.8376 ,29.8376,29.8376,29.8375,29.8375, 29.8375,29.8374,29.8374,29.8373,29.8373 ,29.8373,29.8372,29.8372,29.8371, 29.8371,29.8371,29.837,29.837,29.8369, 29.8369,29.8369,29.8368,29.8377)
FOOTPRINT_POINT_LONGITUDE = (6.06882,6.06879,6.06875,6.0687,6.06866 ,6.06863,6.06859,6.06853,6.06848, 6.06842,6.06836,6.06831,6.06825,6.0682, 6.06814,6.06807,6.06803,6.068,6.06795, 6.06791,6.06788,6.06784,6.06778,6.06771 ,6.06953,6.07498,6.07854,6.08211, 6.08568,6.08925,6.09282,6.09638,6.09995 ,6.10352,6.10709,6.11065,6.11422, 6.11779,6.12135,6.12492,6.12849,6.13205 ,6.13562,6.13919,6.14275,6.14632, 6.14989,6.15345,6.15702,6.15741,6.15745 ,6.15749,6.15753,6.15756,6.15761, 6.15768,6.15772,6.15775,6.15779,6.15785 ,6.15788,6.15791,6.15797,6.15803, 6.15808,6.15814,6.15818,6.15822,6.15825 ,6.1583,6.15833,6.15837,6.1584,6.15844, 6.15661,6.15305,6.14948,6.14592,6.14236 ,6.13879,6.13523,6.13167,6.1281,6.12454 ,6.12098,6.11741,6.11385,6.11028, 6.10672,6.10315,6.09959,6.09602,6.09246 ,6.0889,6.08533,6.08177,6.0782,6.07464, 6.07186,6.06882)
ORBIT_NUMBER = 1366
ORBITAL_ECCENTRICITY = 0.568
ORBITAL_INCLINATION = 86.6
ORBITAL_SEMIMAJOR_AXIS = 8556.01
PERIAPSIS_ALTITUDE = 318.83
PERIAPSIS_ARGUMENT_ANGLE = 120.24
PERIAPSIS_TIME = 2005-02-09T05:43:49.000Z
SPACECRAFT_ORIENTATION = (0.0,-1.0,0.0)
^MEX_ORIENTATION_DESC = "MEX_ORIENTATION_DESC.TXT"
SPACECRAFT_POINTING_MODE = ACROSSTRACK
^MEX_POINTING_DESC = "MEX_POINTING_DESC.TXT"
RIGHT_ASCENSION = -1e+32
DECLINATION = -1e+32
OFFSET_ANGLE = -0.25
SPACECRAFT_SOLAR_DISTANCE = 2.27329e+08
TARGET_NAME = MARS
/* CAMERA DATA ELEMENTS */
BUFFER_MODE_ID = BUFFER_8
EXPOSURE_DURATION = 5.04
INST_CMPRS_NAME = NONE
INST_CMPRS_RATIO = 1.0
INST_CMPRS_QUALITY = -2147483648
INST_CMPRS_QUANTZ_TBL_ID = -2147483648
INSTRUMENT_TEMPERATURE = 5.15152
MISSING_FRAMES = 0
START_BIT = 0
/* RADIOMETRIC DATA ELEMENTS */
BANDWIDTH = 250.0
CENTER_FILTER_WAVELENGTH = 600.0
RADIANCE_OFFSET = -9.99e+31
RADIANCE_SCALING_FACTOR = -9.99e+31
REFLECTANCE_SCALING_FACTOR = -9.99e+31
MEX:REFLECTANCE_OFFSET = -9.99e+31
/* IMAGE OBJECT DEFINITIONS */
OBJECT = IMAGE
  INTERCHANGE_FORMAT = BINARY
  LINES = 984
  LINE_SAMPLES = 993
  SAMPLE_TYPE = UNSIGNED_INTEGER
  SAMPLE_BITS = 8
  BANDS = 1
  BAND_STORAGE_TYPE = BAND_SEQUENTIAL
  MAXIMUM = 8807
  MEAN = 8147.91
  MINIMUM = 6954
  STANDARD_DEVIATION = 121.59
END_OBJECT = IMAGE
/* MAP OBJECT DEFINITIONS */
OBJECT = IMAGE_MAP_PROJECTION
  ^DATA_SET_MAP_PROJECTION_CATALOG= "DSMAP.CAT"
  A_AXIS_RADIUS = 3396.19
  B_AXIS_RADIUS = 3396.19
  C_AXIS_RADIUS = 3396.19
  CENTER_LATITUDE = 0.0
  CENTER_LONGITUDE = 6.0
  COORDINATE_SYSTEM_NAME = PLANETOGRAPHIC
  COORDINATE_SYSTEM_TYPE = "BODY-FIXED ROTATING"
  EASTERNMOST_LONGITUDE = 6.15844
  FIRST_STANDARD_PARALLEL = "N/A"
  LINE_FIRST_PIXEL = 1
  LINE_LAST_PIXEL = 984
  LINE_PROJECTION_OFFSET = 354491.0
  MAP_PROJECTION_ROTATION = 0.0
  MAP_PROJECTION_TYPE = SINUSOIDAL
  MAP_RESOLUTION = 11854.9393024378
  MAP_SCALE = 0.005
  MAXIMUM_LATITUDE = 29.9156
  MINIMUM_LATITUDE = 29.8368
  POSITIVE_LONGITUDE_DIRECTION = EAST
  REFERENCE_LATITUDE = "N/A"
  REFERENCE_LONGITUDE = "N/A"
  SAMPLE_FIRST_PIXEL = 1
  SAMPLE_LAST_PIXEL = 993
  SAMPLE_PROJECTION_OFFSET = -628.0
  SECOND_STANDARD_PARALLEL = "N/A"
  WESTERNMOST_LONGITUDE = 6.06771
END_OBJECT = IMAGE_MAP_PROJECTION
/* The JPEG2000 image data file associated with this label. */
OBJECT = COMPRESSED_FILE
  FILE_NAME = "H1366_0007_SR3.JP2"
  RECORD_TYPE = UNDEFINED
  FILE_RECORDS = UNK
  ENCODING_TYPE = "JP2"
  INTERCHANGE_FORMAT = BINARY
  UNCOMPRESSED_FILE_NAME = "H1366_0007_SR3.IMG"
  REQUIRED_STORAGE_BYTES = "995979"
  ^DESCRIPTION = "JP2INFO.TXT"
END_OBJECT = COMPRESSED_FILE
END
