PDS_VERSION_ID = PDS3
/* FILE DATA ELEMENTS */
RECORD_TYPE = STREAM
/* POINTERS TO DATA OBJECTS */
^COMPRESSED_FILE = "H1366_0008_SR3.JP2"
/* IDENTIFICATION DATA ELEMENTS */
DATA_SET_ID = "MEX-M-HRSC-5-REFDR-MAPPROJECTED-V3.0"
DATA_SET_NAME = "MARS EXPRESS HRSC MAP PROJECTED REFDR V3.0"
DETECTOR_ID = MEX_HRSC_SRC
EVENT_TYPE = "MARS-LOCAL-MAPPING-Im-Ot"
INSTRUMENT_HOST_ID = MEX
INSTRUMENT_HOST_NAME = "MARS EXPRESS"
INSTRUMENT_ID = HRSC
INSTRUMENT_NAME = "HIGH RESOLUTION STEREO CAMERA"
MISSION_NAME = "MARS EXPRESS"
MISSION_PHASE_NAME = MR_Phase_4
PROCESSING_LEVEL_ID = 3
PRODUCT_CREATION_TIME = 2016-03-05T01:52:25.000Z
PRODUCT_ID = "H1366_0008_SR3.JP2"
RELEASE_ID = 0018
REVISION_ID = 0000
/* QUALITY DATA ELEMENTS */
DATA_QUALITY_ID = 1
DATA_QUALITY_DESC = "Data calculated based on original SPICE kernels"
/* TIME DATA ELEMENTS */
SPACECRAFT_CLOCK_START_COUNT = "1/0056008221.57326"
SPACECRAFT_CLOCK_STOP_COUNT = "1/0056008954.30998"
IMAGE_TIME = 2005-02-09T05:51:37.930Z
START_TIME = 2005-02-09T05:51:37.927Z
STOP_TIME = 2005-02-09T05:51:37.932Z
/* ORBITAL DATA ELEMENTS */
ASCENDING_NODE_LONGITUDE = 199.92
MAXIMUM_RESOLUTION = 4.567
FOOTPRINT_POINT_LATITUDE = (29.7727,29.7759,29.7786,29.7823, 29.7846,29.7869,29.7896,29.7931,29.7964 ,29.7986,29.8019,29.8057,29.8095, 29.8128,29.8149,29.8176,29.8214,29.8236 ,29.8264,29.8293,29.8316,29.8342, 29.8379,29.8401,29.8431,29.8473,29.8495 ,29.8498,29.8498,29.8499,29.8499, 29.8499,29.85,29.85,29.8501,29.8501, 29.8501,29.8502,29.8502,29.8502,29.8503 ,29.8503,29.8504,29.8504,29.8504, 29.8505,29.8505,29.8505,29.8506,29.8506 ,29.8507,29.8459,29.8418,29.8388, 29.8367,29.8338,29.8298,29.8255,29.822, 29.8186,29.8162,29.812,29.809,29.8063, 29.8041,29.8011,29.7978,29.7941,29.791, 29.7891,29.7865,29.783,29.7787,29.7751, 29.7728,29.7727,29.7727,29.7726,29.7726 ,29.7726,29.7725,29.7725,29.7724, 29.7724,29.7724,29.7723,29.7723,29.7722 ,29.7722,29.7722,29.7721,29.7721, 29.7721,29.772,29.772,29.7719,29.7719, 29.7718,29.7718,29.7727)
FOOTPRINT_POINT_LONGITUDE = (6.06969,6.06965,6.06961,6.06955, 6.06952,6.06948,6.06944,6.06939,6.06934 ,6.06931,6.06926,6.0692,6.06914,6.06909 ,6.06906,6.06902,6.06896,6.06893, 6.06889,6.06884,6.06881,6.06877,6.06872 ,6.06868,6.06864,6.06857,6.0713,6.07587 ,6.07944,6.08301,6.08658,6.09015, 6.09372,6.09729,6.10087,6.10444,6.10801 ,6.11158,6.11515,6.11872,6.12229, 6.12586,6.12943,6.133,6.13657,6.14014, 6.14371,6.14728,6.15085,6.15442,6.15799 ,6.15832,6.15838,6.15843,6.15845,6.1585 ,6.15855,6.15861,6.15866,6.15871, 6.15875,6.1588,6.15885,6.15889,6.15892, 6.15896,6.159,6.15906,6.1591,6.15913, 6.15916,6.15921,6.15927,6.15932,6.15927 ,6.1557,6.15213,6.14857,6.145,6.14143, 6.13787,6.1343,6.13073,6.12716,6.1236, 6.12003,6.11646,6.11289,6.10932,6.10576 ,6.10219,6.09862,6.09505,6.09148, 6.08791,6.08435,6.08078,6.07542,6.07176 ,6.06969)
ORBIT_NUMBER = 1366
ORBITAL_ECCENTRICITY = 0.568
ORBITAL_INCLINATION = 86.6
ORBITAL_SEMIMAJOR_AXIS = 8556.01
PERIAPSIS_ALTITUDE = 318.83
PERIAPSIS_ARGUMENT_ANGLE = 120.24
PERIAPSIS_TIME = 2005-02-09T05:43:49.000Z
SPACECRAFT_ORIENTATION = (0.0,-1.0,0.0)
^MEX_ORIENTATION_DESC = "MEX_ORIENTATION_DESC.TXT"
SPACECRAFT_POINTING_MODE = ACROSSTRACK
^MEX_POINTING_DESC = "MEX_POINTING_DESC.TXT"
RIGHT_ASCENSION = -1e+32
DECLINATION = -1e+32
OFFSET_ANGLE = -0.25
SPACECRAFT_SOLAR_DISTANCE = 2.27329e+08
TARGET_NAME = MARS
/* CAMERA DATA ELEMENTS */
BUFFER_MODE_ID = BUFFER_8
EXPOSURE_DURATION = 5.04
INST_CMPRS_NAME = NONE
INST_CMPRS_RATIO = 1.0
INST_CMPRS_QUALITY = -2147483648
INST_CMPRS_QUANTZ_TBL_ID = -2147483648
INSTRUMENT_TEMPERATURE = 5.15152
MISSING_FRAMES = 0
START_BIT = 0
/* RADIOMETRIC DATA ELEMENTS */
BANDWIDTH = 250.0
CENTER_FILTER_WAVELENGTH = 600.0
RADIANCE_OFFSET = -9.99e+31
RADIANCE_SCALING_FACTOR = -9.99e+31
REFLECTANCE_SCALING_FACTOR = -9.99e+31
MEX:REFLECTANCE_OFFSET = -9.99e+31
/* IMAGE OBJECT DEFINITIONS */
OBJECT = IMAGE
  INTERCHANGE_FORMAT = BINARY
  LINES = 986
  LINE_SAMPLES = 994
  SAMPLE_TYPE = UNSIGNED_INTEGER
  SAMPLE_BITS = 8
  BANDS = 1
  BAND_STORAGE_TYPE = BAND_SEQUENTIAL
  MAXIMUM = 8590
  MEAN = 8095.14
  MINIMUM = 6955
  STANDARD_DEVIATION = 102.827
END_OBJECT = IMAGE
/* MAP OBJECT DEFINITIONS */
OBJECT = IMAGE_MAP_PROJECTION
  ^DATA_SET_MAP_PROJECTION_CATALOG= "DSMAP.CAT"
  A_AXIS_RADIUS = 3396.19
  B_AXIS_RADIUS = 3396.19
  C_AXIS_RADIUS = 3396.19
  CENTER_LATITUDE = 0.0
  CENTER_LONGITUDE = 6.0
  COORDINATE_SYSTEM_NAME = PLANETOGRAPHIC
  COORDINATE_SYSTEM_TYPE = "BODY-FIXED ROTATING"
  EASTERNMOST_LONGITUDE = 6.15932
  FIRST_STANDARD_PARALLEL = "N/A"
  LINE_FIRST_PIXEL = 1
  LINE_LAST_PIXEL = 986
  LINE_PROJECTION_OFFSET = 353723.0
  MAP_PROJECTION_ROTATION = 0.0
  MAP_PROJECTION_TYPE = SINUSOIDAL
  MAP_RESOLUTION = 11854.9393024378
  MAP_SCALE = 0.005
  MAXIMUM_LATITUDE = 29.8507
  MINIMUM_LATITUDE = 29.7718
  POSITIVE_LONGITUDE_DIRECTION = EAST
  REFERENCE_LATITUDE = "N/A"
  REFERENCE_LONGITUDE = "N/A"
  SAMPLE_FIRST_PIXEL = 1
  SAMPLE_LAST_PIXEL = 994
  SAMPLE_PROJECTION_OFFSET = -638.0
  SECOND_STANDARD_PARALLEL = "N/A"
  WESTERNMOST_LONGITUDE = 6.06857
END_OBJECT = IMAGE_MAP_PROJECTION
/* The JPEG2000 image data file associated with this label. */
OBJECT = COMPRESSED_FILE
  FILE_NAME = "H1366_0008_SR3.JP2"
  RECORD_TYPE = UNDEFINED
  FILE_RECORDS = UNK
  ENCODING_TYPE = "JP2"
  INTERCHANGE_FORMAT = BINARY
  UNCOMPRESSED_FILE_NAME = "H1366_0008_SR3.IMG"
  REQUIRED_STORAGE_BYTES = "998970"
  ^DESCRIPTION = "JP2INFO.TXT"
END_OBJECT = COMPRESSED_FILE
END
