PDS_VERSION_ID = PDS3
/* FILE DATA ELEMENTS */
RECORD_TYPE = STREAM
/* POINTERS TO DATA OBJECTS */
^COMPRESSED_FILE = "H1368_0000_S13.JP2"
/* IDENTIFICATION DATA ELEMENTS */
DATA_SET_ID = "MEX-M-HRSC-5-REFDR-MAPPROJECTED-V3.0"
DATA_SET_NAME = "MARS EXPRESS HRSC MAP PROJECTED REFDR V3.0"
DETECTOR_ID = MEX_HRSC_S1
EVENT_TYPE = "MARS-REGIONAL-MAPPING-Vo-Eo"
INSTRUMENT_HOST_ID = MEX
INSTRUMENT_HOST_NAME = "MARS EXPRESS"
INSTRUMENT_ID = HRSC
INSTRUMENT_NAME = "HIGH RESOLUTION STEREO CAMERA"
MISSION_NAME = "MARS EXPRESS"
MISSION_PHASE_NAME = MR_Phase_4
PROCESSING_LEVEL_ID = 3
PRODUCT_CREATION_TIME = 2016-03-05T01:52:25.000Z
PRODUCT_ID = "H1368_0000_S13.JP2"
RELEASE_ID = 0018
REVISION_ID = 0000
/* QUALITY DATA ELEMENTS */
DATA_QUALITY_ID = 1
DATA_QUALITY_DESC = "Data calculated based on original SPICE kernels"
/* TIME DATA ELEMENTS */
SPACECRAFT_CLOCK_START_COUNT = "1/0056056589.57287"
SPACECRAFT_CLOCK_STOP_COUNT = "1/0056057248.23800"
START_TIME = 2005-02-09T19:18:05.005Z
STOP_TIME = 2005-02-09T19:30:02.510Z
/* ORBITAL DATA ELEMENTS */
ASCENDING_NODE_LONGITUDE = 199.87
MAXIMUM_RESOLUTION = 41.6
FOOTPRINT_POINT_LATITUDE = (34.0145,34.0367,34.0578,33.3454, 32.5665,31.7954,31.0352,30.2776,29.508, 28.7436,27.6104,26.883,26.1619,25.4478, 24.74,24.0392,23.3445,22.6575,21.9765, 21.3027,20.3006,19.6431,18.9924,18.3451 ,17.71,17.083,16.4571,15.8413,15.2303, 14.3219,13.7285,13.1407,12.5624,11.6927 ,11.1277,10.5693,10.0159,9.47103, 8.93133,8.39496,7.87014,7.34903,6.83389 ,6.3247,5.82131,4.83236,3.86687,2.92403 ,2.46185,2.46745,2.47694,2.49035, 2.50766,2.52892,2.5514,3.47384,4.41926, 5.38781,6.37963,6.88437,7.39592,7.91328 ,8.43658,8.96624,9.50189,10.0437, 10.5897,11.146,11.7065,12.5707,13.1489, 13.7331,14.3237,15.2224,15.8247,16.754, 17.3782,18.0091,18.6462,19.2898,19.9412 ,20.5995,21.2677,21.9393,22.6174, 23.3026,23.9942,24.6927,25.398,26.11, 26.8287,27.5546,28.6841,29.4476,30.2137 ,30.9693,31.7312,32.4996,33.2748, 34.0145)
FOOTPRINT_POINT_LONGITUDE = (170.113,170.746,171.388,171.767, 171.782,171.798,171.817,171.833,171.848 ,171.865,171.888,171.903,171.918, 171.933,171.948,171.963,171.977,171.992 ,172.007,172.022,172.044,172.059, 172.074,172.088,172.104,172.122,172.136 ,172.153,172.168,172.192,172.209, 172.225,172.244,172.27,172.287,172.305, 172.322,172.341,172.359,172.377,172.397 ,172.416,172.436,172.456,172.476, 172.517,172.559,172.603,172.215,171.488 ,170.766,170.048,169.332,168.618, 167.979,168.074,168.168,168.261,168.351 ,168.396,168.44,168.484,168.527,168.57, 168.612,168.654,168.696,168.736,168.776 ,168.836,168.875,168.913,168.95,169.006 ,169.042,169.094,169.128,169.161, 169.193,169.225,169.256,169.286,169.315 ,169.343,169.37,169.396,169.422,169.446 ,169.469,169.491,169.512,169.532, 169.559,169.576,169.591,169.605,169.617 ,169.627,169.636,170.113)
ORBIT_NUMBER = 1368
ORBITAL_ECCENTRICITY = 0.567
ORBITAL_INCLINATION = 86.6
ORBITAL_SEMIMAJOR_AXIS = 8553.57
PERIAPSIS_ALTITUDE = 319.46
PERIAPSIS_ARGUMENT_ANGLE = 119.91
PERIAPSIS_TIME = 2005-02-09T19:10:35.000Z
SPACECRAFT_ORIENTATION = (0.0,1.0,0.0)
^MEX_ORIENTATION_DESC = "MEX_ORIENTATION_DESC.TXT"
SPACECRAFT_POINTING_MODE = ACROSSTRACK
^MEX_POINTING_DESC = "MEX_POINTING_DESC.TXT"
RIGHT_ASCENSION = -1e+32
DECLINATION = -1e+32
OFFSET_ANGLE = 0.8
SPACECRAFT_SOLAR_DISTANCE = 2.27219e+08
TARGET_NAME = MARS
/* CAMERA DATA ELEMENTS */
DETECTOR_TEMPERATURE = 17.1471
FOCAL_PLANE_TEMPERATURE = 7.7677
INST_CMPRS_NAME = "DISCRETE COSINE TRANSFORMATION (DCT)"
INST_CMPRS_RATIO = 12.7591
INST_CMPRS_QUALITY = 0
INST_CMPRS_QUANTZ_TBL_ID = 0
INSTRUMENT_TEMPERATURE = 11.0301
LENS_TEMPERATURE = 8.1755
MACROPIXEL_SIZE = 2
MISSING_FRAMES = 202
PIXEL_SUBSAMPLING_FLAG = N
SIGNAL_CHAIN_ID = 1
/* RADIOMETRIC DATA ELEMENTS */
BANDWIDTH = 180.0
CENTER_FILTER_WAVELENGTH = 677.0
RADIANCE_OFFSET = 7.674
RADIANCE_SCALING_FACTOR = 0.0280878
REFLECTANCE_SCALING_FACTOR = 0.000756569
MEX:REFLECTANCE_OFFSET = 0.206705
/* IMAGE OBJECT DEFINITIONS */
OBJECT = IMAGE
  INTERCHANGE_FORMAT = BINARY
  LINES = 75178
  LINE_SAMPLES = 8993
  SAMPLE_TYPE = UNSIGNED_INTEGER
  SAMPLE_BITS = 8
  BANDS = 1
  BAND_STORAGE_TYPE = BAND_SEQUENTIAL
  MAXIMUM = 120
  MEAN = 100.585
  MINIMUM = 57
  STANDARD_DEVIATION = 3.82603
END_OBJECT = IMAGE
/* MAP OBJECT DEFINITIONS */
OBJECT = IMAGE_MAP_PROJECTION
  ^DATA_SET_MAP_PROJECTION_CATALOG= "DSMAP.CAT"
  A_AXIS_RADIUS = 3396.0
  B_AXIS_RADIUS = 3396.0
  C_AXIS_RADIUS = 3396.0
  CENTER_LATITUDE = 0.0
  CENTER_LONGITUDE = 171.0
  COORDINATE_SYSTEM_NAME = PLANETOGRAPHIC
  COORDINATE_SYSTEM_TYPE = "BODY-FIXED ROTATING"
  EASTERNMOST_LONGITUDE = 172.603
  FIRST_STANDARD_PARALLEL = "N/A"
  LINE_FIRST_PIXEL = 1
  LINE_LAST_PIXEL = 75178
  LINE_PROJECTION_OFFSET = 80770.75
  MAP_PROJECTION_ROTATION = 0.0
  MAP_PROJECTION_TYPE = SINUSOIDAL
  MAP_RESOLUTION = 2370.85521546667
  MAP_SCALE = 0.025
  MAXIMUM_LATITUDE = 34.0578
  MINIMUM_LATITUDE = 2.46185
  POSITIVE_LONGITUDE_DIRECTION = EAST
  REFERENCE_LATITUDE = "N/A"
  REFERENCE_LONGITUDE = "N/A"
  SAMPLE_FIRST_PIXEL = 1
  SAMPLE_LAST_PIXEL = 8993
  SAMPLE_PROJECTION_OFFSET = 6237.75
  SECOND_STANDARD_PARALLEL = "N/A"
  WESTERNMOST_LONGITUDE = 167.979
END_OBJECT = IMAGE_MAP_PROJECTION
/* The JPEG2000 image data file associated with this label. */
OBJECT = COMPRESSED_FILE
  FILE_NAME = "H1368_0000_S13.JP2"
  RECORD_TYPE = UNDEFINED
  FILE_RECORDS = UNK
  ENCODING_TYPE = "JP2"
  INTERCHANGE_FORMAT = BINARY
  UNCOMPRESSED_FILE_NAME = "H1368_0000_S13.IMG"
  REQUIRED_STORAGE_BYTES = "676111726"
  ^DESCRIPTION = "JP2INFO.TXT"
END_OBJECT = COMPRESSED_FILE
END
