PDS_VERSION_ID = PDS3
/* FILE DATA ELEMENTS */
RECORD_TYPE = STREAM
/* POINTERS TO DATA OBJECTS */
^COMPRESSED_FILE = "H1368_0002_SR3.JP2"
/* IDENTIFICATION DATA ELEMENTS */
DATA_SET_ID = "MEX-M-HRSC-5-REFDR-MAPPROJECTED-V3.0"
DATA_SET_NAME = "MARS EXPRESS HRSC MAP PROJECTED REFDR V3.0"
DETECTOR_ID = MEX_HRSC_SRC
EVENT_TYPE = "MARS-REGIONAL-MAPPING-Vo-Eo"
INSTRUMENT_HOST_ID = MEX
INSTRUMENT_HOST_NAME = "MARS EXPRESS"
INSTRUMENT_ID = HRSC
INSTRUMENT_NAME = "HIGH RESOLUTION STEREO CAMERA"
MISSION_NAME = "MARS EXPRESS"
MISSION_PHASE_NAME = MR_Phase_4
PROCESSING_LEVEL_ID = 3
PRODUCT_CREATION_TIME = 2016-03-05T01:52:25.000Z
PRODUCT_ID = "H1368_0002_SR3.JP2"
RELEASE_ID = 0018
REVISION_ID = 0000
/* QUALITY DATA ELEMENTS */
DATA_QUALITY_ID = 1
DATA_QUALITY_DESC = "Data calculated based on original SPICE kernels"
/* TIME DATA ELEMENTS */
SPACECRAFT_CLOCK_START_COUNT = "1/0056056589.57287"
SPACECRAFT_CLOCK_STOP_COUNT = "1/0056057248.23800"
IMAGE_TIME = 2005-02-09T19:17:57.921Z
START_TIME = 2005-02-09T19:17:57.918Z
STOP_TIME = 2005-02-09T19:17:57.923Z
/* ORBITAL DATA ELEMENTS */
ASCENDING_NODE_LONGITUDE = 199.87
MAXIMUM_RESOLUTION = 4.433
FOOTPRINT_POINT_LATITUDE = (31.7281,31.7259,31.7224,31.7184, 31.7161,31.7137,31.7105,31.7064,31.704, 31.7006,31.6981,31.696,31.6928,31.69, 31.6853,31.6823,31.6801,31.6773,31.6732 ,31.6703,31.6673,31.6652,31.6619, 31.6598,31.6568,31.6531,31.6531,31.653, 31.653,31.653,31.653,31.653,31.653, 31.653,31.653,31.653,31.653,31.6529, 31.6529,31.6529,31.6529,31.6529,31.6529 ,31.6529,31.6529,31.6529,31.6528, 31.6528,31.6528,31.6528,31.6528,31.6565 ,31.6596,31.6642,31.6682,31.6715, 31.6757,31.679,31.6815,31.6839,31.6873, 31.6895,31.6923,31.697,31.7001,31.703, 31.7051,31.7089,31.7111,31.7132,31.7168 ,31.7192,31.7231,31.7258,31.7283, 31.7283,31.7283,31.7284,31.7284,31.7284 ,31.7284,31.7284,31.7284,31.7284, 31.7285,31.7285,31.7285,31.7285,31.7285 ,31.7285,31.7285,31.7286,31.7286, 31.7286,31.7286,31.7286,31.7286,31.7286 ,31.7286,31.7281)
FOOTPRINT_POINT_LONGITUDE = (170.72,170.72,170.72,170.72,170.72, 170.72,170.72,170.72,170.72,170.72, 170.72,170.72,170.72,170.72,170.72, 170.72,170.72,170.721,170.721,170.721, 170.721,170.721,170.721,170.721,170.721 ,170.72,170.716,170.713,170.709,170.705 ,170.702,170.698,170.695,170.691, 170.688,170.684,170.681,170.677,170.673 ,170.67,170.666,170.663,170.659,170.656 ,170.652,170.649,170.645,170.642, 170.638,170.634,170.631,170.63,170.63, 170.63,170.63,170.63,170.63,170.63, 170.63,170.63,170.63,170.63,170.63, 170.63,170.63,170.63,170.63,170.63, 170.63,170.63,170.63,170.63,170.63, 170.63,170.63,170.634,170.637,170.641, 170.644,170.648,170.651,170.655,170.658 ,170.662,170.666,170.669,170.673, 170.676,170.68,170.683,170.687,170.69, 170.694,170.698,170.701,170.705,170.708 ,170.712,170.715,170.72)
ORBIT_NUMBER = 1368
ORBITAL_ECCENTRICITY = 0.567
ORBITAL_INCLINATION = 86.6
ORBITAL_SEMIMAJOR_AXIS = 8553.57
PERIAPSIS_ALTITUDE = 319.46
PERIAPSIS_ARGUMENT_ANGLE = 119.91
PERIAPSIS_TIME = 2005-02-09T19:10:35.000Z
SPACECRAFT_ORIENTATION = (0.0,1.0,0.0)
^MEX_ORIENTATION_DESC = "MEX_ORIENTATION_DESC.TXT"
SPACECRAFT_POINTING_MODE = ACROSSTRACK
^MEX_POINTING_DESC = "MEX_POINTING_DESC.TXT"
RIGHT_ASCENSION = -1e+32
DECLINATION = -1e+32
OFFSET_ANGLE = 0.8
SPACECRAFT_SOLAR_DISTANCE = 2.27219e+08
TARGET_NAME = MARS
/* CAMERA DATA ELEMENTS */
BUFFER_MODE_ID = BUFFER_8
EXPOSURE_DURATION = 5.04
INST_CMPRS_NAME = NONE
INST_CMPRS_RATIO = 1.0
INST_CMPRS_QUALITY = -2147483648
INST_CMPRS_QUANTZ_TBL_ID = -2147483648
INSTRUMENT_TEMPERATURE = 5.15152
MISSING_FRAMES = 0
START_BIT = 0
/* RADIOMETRIC DATA ELEMENTS */
BANDWIDTH = 250.0
CENTER_FILTER_WAVELENGTH = 600.0
RADIANCE_OFFSET = -9.99e+31
RADIANCE_SCALING_FACTOR = -9.99e+31
REFLECTANCE_SCALING_FACTOR = -9.99e+31
MEX:REFLECTANCE_OFFSET = -9.99e+31
/* IMAGE OBJECT DEFINITIONS */
OBJECT = IMAGE
  INTERCHANGE_FORMAT = BINARY
  LINES = 950
  LINE_SAMPLES = 962
  SAMPLE_TYPE = UNSIGNED_INTEGER
  SAMPLE_BITS = 8
  BANDS = 1
  BAND_STORAGE_TYPE = BAND_SEQUENTIAL
  MAXIMUM = 9688
  MEAN = 8697.61
  MINIMUM = 7387
  STANDARD_DEVIATION = 185.243
END_OBJECT = IMAGE
/* MAP OBJECT DEFINITIONS */
OBJECT = IMAGE_MAP_PROJECTION
  ^DATA_SET_MAP_PROJECTION_CATALOG= "DSMAP.CAT"
  A_AXIS_RADIUS = 3396.19
  B_AXIS_RADIUS = 3396.19
  C_AXIS_RADIUS = 3396.19
  CENTER_LATITUDE = 0.0
  CENTER_LONGITUDE = 171.0
  COORDINATE_SYSTEM_NAME = PLANETOGRAPHIC
  COORDINATE_SYSTEM_TYPE = "BODY-FIXED ROTATING"
  EASTERNMOST_LONGITUDE = 170.721
  FIRST_STANDARD_PARALLEL = "N/A"
  LINE_FIRST_PIXEL = 1
  LINE_LAST_PIXEL = 950
  LINE_PROJECTION_OFFSET = 375949.0
  MAP_PROJECTION_ROTATION = 0.0
  MAP_PROJECTION_TYPE = SINUSOIDAL
  MAP_RESOLUTION = 11854.9393024378
  MAP_SCALE = 0.005
  MAXIMUM_LATITUDE = 31.7286
  MINIMUM_LATITUDE = 31.6528
  POSITIVE_LONGITUDE_DIRECTION = EAST
  REFERENCE_LATITUDE = "N/A"
  REFERENCE_LONGITUDE = "N/A"
  SAMPLE_FIRST_PIXEL = 1
  SAMPLE_LAST_PIXEL = 962
  SAMPLE_PROJECTION_OFFSET = 3627.0
  SECOND_STANDARD_PARALLEL = "N/A"
  WESTERNMOST_LONGITUDE = 170.63
END_OBJECT = IMAGE_MAP_PROJECTION
/* The JPEG2000 image data file associated with this label. */
OBJECT = COMPRESSED_FILE
  FILE_NAME = "H1368_0002_SR3.JP2"
  RECORD_TYPE = UNDEFINED
  FILE_RECORDS = UNK
  ENCODING_TYPE = "JP2"
  INTERCHANGE_FORMAT = BINARY
  UNCOMPRESSED_FILE_NAME = "H1368_0002_SR3.IMG"
  REQUIRED_STORAGE_BYTES = "932178"
  ^DESCRIPTION = "JP2INFO.TXT"
END_OBJECT = COMPRESSED_FILE
END
