PDS_VERSION_ID = PDS3
/* FILE DATA ELEMENTS */
RECORD_TYPE = STREAM
/* POINTERS TO DATA OBJECTS */
^COMPRESSED_FILE = "H1368_0003_SR3.JP2"
/* IDENTIFICATION DATA ELEMENTS */
DATA_SET_ID = "MEX-M-HRSC-5-REFDR-MAPPROJECTED-V3.0"
DATA_SET_NAME = "MARS EXPRESS HRSC MAP PROJECTED REFDR V3.0"
DETECTOR_ID = MEX_HRSC_SRC
EVENT_TYPE = "MARS-REGIONAL-MAPPING-Vo-Eo"
INSTRUMENT_HOST_ID = MEX
INSTRUMENT_HOST_NAME = "MARS EXPRESS"
INSTRUMENT_ID = HRSC
INSTRUMENT_NAME = "HIGH RESOLUTION STEREO CAMERA"
MISSION_NAME = "MARS EXPRESS"
MISSION_PHASE_NAME = MR_Phase_4
PROCESSING_LEVEL_ID = 3
PRODUCT_CREATION_TIME = 2016-03-05T01:52:25.000Z
PRODUCT_ID = "H1368_0003_SR3.JP2"
RELEASE_ID = 0018
REVISION_ID = 0000
/* QUALITY DATA ELEMENTS */
DATA_QUALITY_ID = 1
DATA_QUALITY_DESC = "Data calculated based on original SPICE kernels"
/* TIME DATA ELEMENTS */
SPACECRAFT_CLOCK_START_COUNT = "1/0056056589.57287"
SPACECRAFT_CLOCK_STOP_COUNT = "1/0056057248.23800"
IMAGE_TIME = 2005-02-09T19:17:59.011Z
START_TIME = 2005-02-09T19:17:59.008Z
STOP_TIME = 2005-02-09T19:17:59.013Z
/* ORBITAL DATA ELEMENTS */
ASCENDING_NODE_LONGITUDE = 199.87
MAXIMUM_RESOLUTION = 4.439
FOOTPRINT_POINT_LATITUDE = (31.661,31.6576,31.6547,31.6526,31.6488 ,31.6466,31.6438,31.6404,31.6383, 31.6348,31.6319,31.6274,31.6222,31.6194 ,31.6151,31.6132,31.6095,31.6062, 31.6027,31.6003,31.5968,31.5933,31.5911 ,31.588,31.5873,31.5873,31.5873,31.5872 ,31.5872,31.5872,31.5872,31.5872, 31.5872,31.5872,31.5872,31.5872,31.5872 ,31.5871,31.5871,31.5871,31.5871, 31.5871,31.5871,31.5871,31.5871,31.5871 ,31.587,31.587,31.587,31.589,31.5933, 31.5969,31.5999,31.602,31.6052,31.6073, 31.6104,31.6126,31.615,31.6192,31.6213, 31.6237,31.6259,31.6298,31.6323,31.6367 ,31.64,31.6429,31.6467,31.6497,31.6518, 31.6549,31.6577,31.6614,31.6627,31.6627 ,31.6627,31.6627,31.6627,31.6627, 31.6628,31.6628,31.6628,31.6628,31.6628 ,31.6628,31.6628,31.6629,31.6629, 31.6629,31.6629,31.6629,31.6629,31.6629 ,31.6629,31.663,31.663,31.663,31.663, 31.661)
FOOTPRINT_POINT_LONGITUDE = (170.721,170.721,170.721,170.721, 170.721,170.721,170.721,170.721,170.721 ,170.721,170.721,170.721,170.72,170.721 ,170.721,170.721,170.721,170.721, 170.721,170.721,170.721,170.721,170.721 ,170.721,170.717,170.713,170.71,170.706 ,170.703,170.699,170.696,170.692, 170.689,170.685,170.681,170.678,170.674 ,170.671,170.667,170.664,170.66,170.657 ,170.653,170.65,170.646,170.642,170.639 ,170.635,170.632,170.63,170.63,170.63, 170.63,170.63,170.63,170.63,170.63, 170.63,170.63,170.63,170.63,170.63, 170.63,170.63,170.63,170.63,170.63, 170.63,170.63,170.63,170.63,170.63, 170.63,170.63,170.632,170.636,170.639, 170.643,170.646,170.65,170.653,170.657, 170.66,170.664,170.668,170.671,170.675, 170.678,170.682,170.685,170.689,170.692 ,170.696,170.7,170.703,170.707,170.71, 170.714,170.717,170.721)
ORBIT_NUMBER = 1368
ORBITAL_ECCENTRICITY = 0.567
ORBITAL_INCLINATION = 86.6
ORBITAL_SEMIMAJOR_AXIS = 8553.57
PERIAPSIS_ALTITUDE = 319.46
PERIAPSIS_ARGUMENT_ANGLE = 119.91
PERIAPSIS_TIME = 2005-02-09T19:10:35.000Z
SPACECRAFT_ORIENTATION = (0.0,1.0,0.0)
^MEX_ORIENTATION_DESC = "MEX_ORIENTATION_DESC.TXT"
SPACECRAFT_POINTING_MODE = ACROSSTRACK
^MEX_POINTING_DESC = "MEX_POINTING_DESC.TXT"
RIGHT_ASCENSION = -1e+32
DECLINATION = -1e+32
OFFSET_ANGLE = 0.8
SPACECRAFT_SOLAR_DISTANCE = 2.27219e+08
TARGET_NAME = MARS
/* CAMERA DATA ELEMENTS */
BUFFER_MODE_ID = BUFFER_8
EXPOSURE_DURATION = 5.04
INST_CMPRS_NAME = NONE
INST_CMPRS_RATIO = 1.0
INST_CMPRS_QUALITY = -2147483648
INST_CMPRS_QUANTZ_TBL_ID = -2147483648
INSTRUMENT_TEMPERATURE = 5.15152
MISSING_FRAMES = 0
START_BIT = 0
/* RADIOMETRIC DATA ELEMENTS */
BANDWIDTH = 250.0
CENTER_FILTER_WAVELENGTH = 600.0
RADIANCE_OFFSET = -9.99e+31
RADIANCE_SCALING_FACTOR = -9.99e+31
REFLECTANCE_SCALING_FACTOR = -9.99e+31
MEX:REFLECTANCE_OFFSET = -9.99e+31
/* IMAGE OBJECT DEFINITIONS */
OBJECT = IMAGE
  INTERCHANGE_FORMAT = BINARY
  LINES = 951
  LINE_SAMPLES = 964
  SAMPLE_TYPE = UNSIGNED_INTEGER
  SAMPLE_BITS = 8
  BANDS = 1
  BAND_STORAGE_TYPE = BAND_SEQUENTIAL
  MAXIMUM = 9493
  MEAN = 8702.08
  MINIMUM = 7454
  STANDARD_DEVIATION = 134.617
END_OBJECT = IMAGE
/* MAP OBJECT DEFINITIONS */
OBJECT = IMAGE_MAP_PROJECTION
  ^DATA_SET_MAP_PROJECTION_CATALOG= "DSMAP.CAT"
  A_AXIS_RADIUS = 3396.19
  B_AXIS_RADIUS = 3396.19
  C_AXIS_RADIUS = 3396.19
  CENTER_LATITUDE = 0.0
  CENTER_LONGITUDE = 171.0
  COORDINATE_SYSTEM_NAME = PLANETOGRAPHIC
  COORDINATE_SYSTEM_TYPE = "BODY-FIXED ROTATING"
  EASTERNMOST_LONGITUDE = 170.721
  FIRST_STANDARD_PARALLEL = "N/A"
  LINE_FIRST_PIXEL = 1
  LINE_LAST_PIXEL = 951
  LINE_PROJECTION_OFFSET = 375172.0
  MAP_PROJECTION_ROTATION = 0.0
  MAP_PROJECTION_TYPE = SINUSOIDAL
  MAP_RESOLUTION = 11854.9393024378
  MAP_SCALE = 0.005
  MAXIMUM_LATITUDE = 31.663
  MINIMUM_LATITUDE = 31.587
  POSITIVE_LONGITUDE_DIRECTION = EAST
  REFERENCE_LATITUDE = "N/A"
  REFERENCE_LONGITUDE = "N/A"
  SAMPLE_FIRST_PIXEL = 1
  SAMPLE_LAST_PIXEL = 964
  SAMPLE_PROJECTION_OFFSET = 3631.0
  SECOND_STANDARD_PARALLEL = "N/A"
  WESTERNMOST_LONGITUDE = 170.63
END_OBJECT = IMAGE_MAP_PROJECTION
/* The JPEG2000 image data file associated with this label. */
OBJECT = COMPRESSED_FILE
  FILE_NAME = "H1368_0003_SR3.JP2"
  RECORD_TYPE = UNDEFINED
  FILE_RECORDS = UNK
  ENCODING_TYPE = "JP2"
  INTERCHANGE_FORMAT = BINARY
  UNCOMPRESSED_FILE_NAME = "H1368_0003_SR3.IMG"
  REQUIRED_STORAGE_BYTES = "935080"
  ^DESCRIPTION = "JP2INFO.TXT"
END_OBJECT = COMPRESSED_FILE
END
