PDS_VERSION_ID = PDS3
/* FILE DATA ELEMENTS */
RECORD_TYPE = STREAM
/* POINTERS TO DATA OBJECTS */
^COMPRESSED_FILE = "H1372_0000_ND3.JP2"
/* IDENTIFICATION DATA ELEMENTS */
DATA_SET_ID = "MEX-M-HRSC-5-REFDR-MAPPROJECTED-V3.0"
DATA_SET_NAME = "MARS EXPRESS HRSC MAP PROJECTED REFDR V3.0"
DETECTOR_ID = MEX_HRSC_NADIR
EVENT_TYPE = "MARS-REGIONAL-STEREO-Vo-Te-Fl"
INSTRUMENT_HOST_ID = MEX
INSTRUMENT_HOST_NAME = "MARS EXPRESS"
INSTRUMENT_ID = HRSC
INSTRUMENT_NAME = "HIGH RESOLUTION STEREO CAMERA"
MISSION_NAME = "MARS EXPRESS"
MISSION_PHASE_NAME = MR_Phase_4
PROCESSING_LEVEL_ID = 3
PRODUCT_CREATION_TIME = 2016-03-05T01:52:25.000Z
PRODUCT_ID = "H1372_0000_ND3.JP2"
RELEASE_ID = 0018
REVISION_ID = 0000
/* QUALITY DATA ELEMENTS */
DATA_QUALITY_ID = 1
DATA_QUALITY_DESC = "Data calculated based on original SPICE kernels"
/* TIME DATA ELEMENTS */
SPACECRAFT_CLOCK_START_COUNT = "1/0056153454.57154"
SPACECRAFT_CLOCK_STOP_COUNT = "1/0056154078.48708"
START_TIME = 2005-02-10T22:11:48.027Z
STOP_TIME = 2005-02-10T22:19:00.995Z
/* ORBITAL DATA ELEMENTS */
ASCENDING_NODE_LONGITUDE = 199.79
MAXIMUM_RESOLUTION = 20.1
FOOTPRINT_POINT_LATITUDE = (30.6969,30.7003,30.7005,29.961,29.4637 ,28.9681,28.4741,27.9819,27.4914, 27.0026,26.5156,26.0304,25.5469,24.8179 ,24.3389,23.8618,23.3864,22.9129, 22.4411,21.9713,21.5033,21.0371,20.5729 ,20.1105,19.65,19.1913,18.7346,18.2798, 17.8268,17.3759,16.9268,16.2524,15.8081 ,15.3659,14.7017,14.2642,13.8286,13.395 ,12.9634,12.5336,12.1058,11.2059, 10.5739,10.155,9.73811,8.91004,8.08965, 7.27697,7.2715,7.28571,7.30891,7.3213, 7.33151,7.74058,8.55201,9.37125,10.1983 ,10.6148,11.2431,12.1382,12.5637, 12.9912,13.4207,13.8521,14.2855,14.7208 ,15.1581,15.6017,16.0429,16.4861,17.159 ,17.607,18.0571,18.509,18.9629,19.4188, 19.8765,20.336,20.7977,21.2612,21.7265, 22.1938,22.6629,23.1339,23.6067,24.0814 ,24.5579,25.0363,25.7642,26.2472, 26.7318,27.2183,27.7066,28.1965,28.6883 ,29.1817,29.6768,30.1736,30.6617, 30.6969)
FOOTPRINT_POINT_LONGITUDE = (136.592,137.227,137.868,138.043, 138.052,138.061,138.071,138.079,138.087 ,138.096,138.103,138.111,138.118, 138.131,138.138,138.146,138.153,138.161 ,138.169,138.177,138.184,138.192, 138.199,138.206,138.214,138.221,138.229 ,138.236,138.244,138.251,138.257, 138.267,138.275,138.281,138.291,138.298 ,138.305,138.311,138.318,138.325, 138.332,138.345,138.355,138.362,138.368 ,138.381,138.395,138.407,137.778, 137.251,136.332,135.808,135.351,135.1, 135.153,135.205,135.256,135.28,135.317, 135.367,135.391,135.414,135.436,135.459 ,135.481,135.502,135.524,135.544, 135.565,135.585,135.615,135.633,135.652 ,135.671,135.688,135.706,135.723, 135.738,135.756,135.771,135.786,135.801 ,135.815,135.829,135.842,135.855, 135.867,135.878,135.895,135.905,135.915 ,135.924,135.933,135.941,135.948, 135.955,135.961,135.967,135.972, 136.592)
ORBIT_NUMBER = 1372
ORBITAL_ECCENTRICITY = 0.567
ORBITAL_INCLINATION = 86.59
ORBITAL_SEMIMAJOR_AXIS = 8556.28
PERIAPSIS_ALTITUDE = 319.83
PERIAPSIS_ARGUMENT_ANGLE = 119.19
PERIAPSIS_TIME = 2005-02-10T22:03:58.000Z
SPACECRAFT_ORIENTATION = (0.0,1.0,0.0)
^MEX_ORIENTATION_DESC = "MEX_ORIENTATION_DESC.TXT"
SPACECRAFT_POINTING_MODE = ACROSSTRACK
^MEX_POINTING_DESC = "MEX_POINTING_DESC.TXT"
RIGHT_ASCENSION = -1e+32
DECLINATION = -1e+32
OFFSET_ANGLE = 0.45
SPACECRAFT_SOLAR_DISTANCE = 2.27001e+08
TARGET_NAME = MARS
/* CAMERA DATA ELEMENTS */
DETECTOR_TEMPERATURE = 17.9627
FOCAL_PLANE_TEMPERATURE = 7.5638
INST_CMPRS_NAME = "DISCRETE COSINE TRANSFORMATION (DCT)"
INST_CMPRS_RATIO = 7.22546
INST_CMPRS_QUALITY = 0
INST_CMPRS_QUANTZ_TBL_ID = 0
INSTRUMENT_TEMPERATURE = 11.0301
LENS_TEMPERATURE = 8.1755
MACROPIXEL_SIZE = 1
MISSING_FRAMES = 338
PIXEL_SUBSAMPLING_FLAG = N
SIGNAL_CHAIN_ID = 0
/* RADIOMETRIC DATA ELEMENTS */
BANDWIDTH = 177.0
CENTER_FILTER_WAVELENGTH = 677.5
RADIANCE_OFFSET = 5.74829
RADIANCE_SCALING_FACTOR = 0.0364971
REFLECTANCE_SCALING_FACTOR = 0.000999061
MEX:REFLECTANCE_OFFSET = 0.157352
/* IMAGE OBJECT DEFINITIONS */
OBJECT = IMAGE
  INTERCHANGE_FORMAT = BINARY
  LINES = 55589
  LINE_SAMPLES = 7992
  SAMPLE_TYPE = UNSIGNED_INTEGER
  SAMPLE_BITS = 8
  BANDS = 1
  BAND_STORAGE_TYPE = BAND_SEQUENTIAL
  MAXIMUM = 257
  MEAN = 91.0412
  MINIMUM = 37
  STANDARD_DEVIATION = 10.2057
END_OBJECT = IMAGE
/* MAP OBJECT DEFINITIONS */
OBJECT = IMAGE_MAP_PROJECTION
  ^DATA_SET_MAP_PROJECTION_CATALOG= "DSMAP.CAT"
  A_AXIS_RADIUS = 3396.0
  B_AXIS_RADIUS = 3396.0
  C_AXIS_RADIUS = 3396.0
  CENTER_LATITUDE = 0.0
  CENTER_LONGITUDE = 137.0
  COORDINATE_SYSTEM_NAME = PLANETOGRAPHIC
  COORDINATE_SYSTEM_TYPE = "BODY-FIXED ROTATING"
  EASTERNMOST_LONGITUDE = 138.407
  FIRST_STANDARD_PARALLEL = "N/A"
  LINE_FIRST_PIXEL = 1
  LINE_LAST_PIXEL = 55589
  LINE_PROJECTION_OFFSET = 72787.0
  MAP_PROJECTION_ROTATION = 0.0
  MAP_PROJECTION_TYPE = SINUSOIDAL
  MAP_RESOLUTION = 2370.85521546667
  MAP_SCALE = 0.025
  MAXIMUM_LATITUDE = 30.7005
  MINIMUM_LATITUDE = 7.2715
  POSITIVE_LONGITUDE_DIRECTION = EAST
  REFERENCE_LATITUDE = "N/A"
  REFERENCE_LONGITUDE = "N/A"
  SAMPLE_FIRST_PIXEL = 1
  SAMPLE_LAST_PIXEL = 7992
  SAMPLE_PROJECTION_OFFSET = 4571.0
  SECOND_STANDARD_PARALLEL = "N/A"
  WESTERNMOST_LONGITUDE = 135.1
END_OBJECT = IMAGE_MAP_PROJECTION
/* The JPEG2000 image data file associated with this label. */
OBJECT = COMPRESSED_FILE
  FILE_NAME = "H1372_0000_ND3.JP2"
  RECORD_TYPE = UNDEFINED
  FILE_RECORDS = UNK
  ENCODING_TYPE = "JP2"
  INTERCHANGE_FORMAT = BINARY
  UNCOMPRESSED_FILE_NAME = "H1372_0000_ND3.IMG"
  REQUIRED_STORAGE_BYTES = "444299256"
  ^DESCRIPTION = "JP2INFO.TXT"
END_OBJECT = COMPRESSED_FILE
END
